Workbook

Sheet 보수일람표(수정금지)
A1: 2024년 심곡동종합사회복지관 임직원 보수일람표
R2: (단위:원)
A3: 순위 | B3: 직위 | C3: 성명 | D3: 호봉 | E3: 개월 | F3: 기본급 | G3: 기본급*개월 | H3: 기본급*개월수 생활임금 | I3: 제수당 | O3: 인건비 소계(A) | P3: 퇴직적립금 (B) | Q3: 사회보험공제액 (생활임금포함) (C) | R3: 인건비합산 (A+B+C)
I4: 명절휴가비 | J4: 시간외 근무수당 | K4: 가족수당 | L4: 직책수당 | M4: 관리자수당 | N4: 연가보상비
G5: 507562200 | H5: 7701650 | I5: 50552340 | J5: 10920000 | K5: 7360000 | L5: 4800000 | M5: 3600000 | N5: 8420300 | O5: 600916490 | P5: 50076520 | Q5: 53623590 | R5: 704616600
A6: 1 | B6: 관장 | C6: 연정준 | D6: 4 | E6: 3 | F6: 3100400 | G6: 9301200 | H6: - | I6: 1860240 | J6: - | K6: - | L6: - | M6: 900000 | O6: 12061440 | P6: 1005120 | Q6: 4238000 | R6: 54528020
D7: 5 | E7: 9 | F7: 3227600 | G7: 29048400 | H7: - | I7: 1936560 | J7: - | M7: 2700000 | N7: 675150 | O7: 34360110 | P7: 2863350
A8: 2 | B8: 부장 | C8: 이지완 | D8: 23 | E8: 12 | F8: 4585800 | G8: 55029600 | H8: - | I8: 5502960 | J8: 840000 | K8: 480000 | L8: 1200000 | N8: 915950 | O8: 63968510 | P8: 5330710 | Q8: 5757250 | R8: 75056470
A9: 3 | B9: 과장 | C9: 장윤희 | D9: 12 | E9: 2 | F9: 3421800 | G9: 6843600 | H9: - | I9: 2053080 | J9: 140000 | K9: 40000 | L9: 200000 | O9: 9276680 | P9: 773060 | Q9: 4407810 | R9: 57545170
D10: 13 | E10: 10 | F10: 3507800 | G10: 35078000 | H10: - | I10: 2104680 | J10: 700000 | K10: 200000 | L10: 1000000 | N10: 690500 | O10: 39773180 | P10: 3314440
A11: 4 | B11: 선임 사회복지사 | C11: 이주연 | D11: 18 | E11: 11 | F11: 3541900 | G11: 38960900 | H11: - | I11: 4250280 | J11: 770000 | K11: 1540000 | L11: 550000 | O11: 46071180 | P11: 3839270 | Q11: 4489980 | R11: 59340710
D12: 19 | E12: 1 | F12: 3601400 | G12: 3601400 | H12: - | I12: - | J12: 70000 | K12: 140000 | L12: 50000 | N12: 698850 | O12: 4560250 | P12: 380030
A13: 5 | B13: 선임 사회복지사 | C13: 이수준 | D13: 13 | E13: 7 | F13: 3190400 | G13: 22332800 | H13: - | I13: 1914240 | J13: 490000 | K13: 280000 | L13: 350000 | O13: 25367040 | P13: 2113920 | Q13: 4026650 | R13: 52881840
D14: 14 | E14: 5 | F14: 3267000 | G14: 16335000 | H14: - | I14: 1960200 | J14: 350000 | K14: 200000 | L14: 250000 | N14: 634850 | O14: 19730050 | P14: 1644180
A15: 6 | B15: 선임 사회복지사 | C15: 이성국 | D15: 12 | E15: 5 | F15: 3120100 | G15: 15600500 | H15: - | I15: 1872060 | J15: 350000 | K15: 350000 | L15: 250000 | O15: 18422560 | P15: 1535220 | Q15: 3986700 | R15: 52324830
D16: 13 | E16: 7 | F16: 3190400 | G16: 22332800 | H16: - | I16: 1914240 | J16: 490000 | K16: 490000 | L16: 350000 | N16: 620200 | O16: 26197240 | P16: 2183110
A17: 7 | B17: 선임 사회복지사 | C17: 안은빈 | D17: 12 | E17: 5 | F17: 3120100 | G17: 15600500 | H17: - | I17: 1872060 | J17: 350000 | K17: 350000 | L17: 250000 | O17: 18422560 | P17: 1535220 | Q17: 3986700 | R17: 52324830
D18: 13 | E18: 7 | F18: 3190400 | G18: 22332800 | H18: - | I18: 1914240 | J18: 490000 | K18: 490000 | L18: 350000 | N18: 620200 | O18: 26197240 | P18: 2183110
A19: 8 | B19: 선임 사회복지사 | C19: 박지현 | D19: 7 | E19: 2 | F19: 2641000 | G19: 5282000 | H19: - | I19: 1584600 | J19: 140000 | K19: - | L19: - | O19: 7006600 | P19: 583890 | Q19: 3319490 | R19: 43673910
D20: 8 | E20: 10 | F20: 2737700 | G20: 27377000 | H20: - | I20: 1642620 | J20: 700000 | K20: - | L20: - | N20: 524000 | O20: 30243620 | P20: 2520310
A21: 9 | B21: 선임 사회복지사 | C21: 이수정 | D21: 6 | E21: 2 | F21: 2549300 | G21: 5098600 | H21: - | I21: 1529580 | J21: 140000 | K21: 80000 | L21: - | O21: 6848180 | P21: 570690 | Q21: 3252350 | R21: 42738000
D22: 7 | E22: 10 | F22: 2641000 | G22: 26410000 | H22: - | I22: 1584600 | J22: 700000 | K22: 400000 | L22: - | N22: 505500 | O22: 29600100 | P22: 2466680
A23: 10 | B23: 사회복지사 | C23: 유현화 | D23: 1 | E23: 9 | F23: 2140300 | G23: 19262700 | H23: 2765070 | I23: 2568360 | J23: 630000 | K23: 360000 | L23: - | O23: 25586130 | P23: 2132180 | Q23: 2974360 | R23: 39512810
D24: 2 | E24: 3 | F24: 2180200 | G24: 6540600 | H24: 802560 | I24: - | J24: 210000 | K24: 120000 | L24: - | N24: 468500 | O24: 8141660 | P24: 678480
A25: 11 | B25: 선임 사회복지사 | C25: 이혜경 | D25: 16 | E25: 9 | F25: 3411300 | G25: 30701700 | H25: - | I25: 4093560 | J25: 630000 | K25: 630000 | L25: - | O25: 36055260 | P25: 3004610 | Q25: 4183810 | R25: 55722660
D26: 17 | E26: 3 | F26: 3477800 | G26: 10433400 | H26: - | I26: - | J26: 210000 | K26: 210000 | L26: - | N26: 665650 | O26: 11519050 | P26: 959930
A27: 12 | B27: 사회복지사 | C27: 김지윤 | D27: 5 | E27: 10 | F27: 2321900 | G27: 23219000 | H27: 1274900 | I27: 2786280 | J27: 700000 | K27: 380000 | L27: - | O27: 28360180 | P27: 2363350 | Q27: 2992560 | R27: 39766470
D28: 6 | E28: 2 | F28: 2381300 | G28: 4762600 | H28: 133760 | I28: - | J28: 140000 | K28: 80000 | L28: - | N28: 468600 | O28: 5584960 | P28: 465420
A29: 13 | B29: 사회복지사 | C29: 박진호 | D29: 6 | E29: 10 | F29: 2381300 | G29: 23813000 | H29: 668800 | I29: 2857560 | J29: 700000 | K29: 460000 | L29: - | O29: 28499360 | P29: 2374950 | Q29: 3058150 | R29: 40030760
D30: 7 | E30: 2 | F30: 2470200 | G30: 4940400 | H30: - | I30: - | J30: 140000 | K30: 80000 | L30: - | N30: 468800 | O30: 5629200 | P30: 469100
A31: 14 | B31: 사회복지사 | C31: 이소연 | D31: 4 | E31: 9 | F31: 2262000 | G31: 20358000 | H31: 1674090 | I31: 1357200 | J31: 630000 | K31: - | L31: - | O31: 24019290 | P31: 2001610 | Q31: 2949780 | R31: 39170120
D32: 5 | E32: 3 | F32: 2321900 | G32: 6965700 | H32: 382470 | I32: 1393140 | J32: 210000 | K32: - | L32: - | N32: 463550 | O32: 9414860 | P32: 784580
A38: 2024년 심곡동종합사회복지관 임직원 보수일람표(수정)
R39: (단위:원)
A40: 순위 | B40: 직위 | C40: 성명 | D40: 호봉 | E40: 개월 | F40: 기본급 | G40: 기본급*개월 | H40: 기본급*개월수 생활임금 | I40: 제수당 | O40: 인건비 소계(A) | P40: 퇴직적립금 (B) | Q40: 사회보험공제액 (생활임금포함) (C) | R40: 인건비합산 (A+B+C)
I41: 명절휴가비 | J41: 시간외 근무수당 | K41: 가족수당 | L41: 직책수당 | M41: 관리자수당 | N41: 연가보상비
G42: 481514570 | H42: 17597030 | I42: 49069680 | J42: 10850000 | K42: 7347800 | L42: 4800000 | M42: 3600000 | N42: 8130250 | O42: 582909330 | P42: 50111450 | Q42: 52869550 | R42: 695124330
A43: 1 | B43: 관장 | C43: 연정준 | D43: 4 | E43: 3 | F43: 3100400 | G43: 9301200 | H43: - | I43: 1860240 | J43: - | K43: - | L43: - | M43: 900000 | O43: 12061440 | P43: 1005120 | Q43: 4238000 | R43: 54528020
D44: 5 | E44: 9 | F44: 3227600 | G44: 29048400 | H44: - | I44: 1936560 | J44: - | M44: 2700000 | N44: 675150 | O44: 34360110 | P44: 2863350
A45: 2 | B45: 부장 | C45: 이지완 | D45: 23 | E45: 12 | F45: 4585800 | G45: 55029600 | H45: - | I45: 5502960 | J45: 840000 | K45: 480000 | L45: 1200000 | N45: 915950 | O45: 63968510 | P45: 5330710 | Q45: 5757250 | R45: 75056470
...

Sheet 총괄(수정금지)
A1: 2024년 심곡동종합사회복지관 4차 추경예산서
A2: (심곡동종합사회복지관)
A3: <별지 제6호 서식> (1)세입세출 총괄 | L3: 제출일자 : 2024.12 (단위: 원)
A4: 세 입 | H4: 세 출
A5: 관 | B5: 항 | C5: 목 | D5: 2024년 3차 | E5: 2024년 4차 | F5: 증감(B)-(A) | H5: 관 | I5: 항 | J5: 목 | K5: 2024년 3차 | L5: 2024년 4차 | M5: 증감(B)-(A)
D6: (A) | E6: (B) | F6: 액수 | G6: 비율 | K6: (A) | L6: (B) | N6: 비율
A7: 계 | D7: =SUM(D27,D33,D39,D45,D8,D57) -> 1831214498 | E7: =SUM(E27,E33,E39,E45,E8,E57) -> 1790788608 | F7: =E7-D7 -> -40425890 | G7: =F7/D7 -> -0.022075999 | H7: 계 | J7: =SUM(J8,J16,J21,J30,J36,J55,J62) -> 0.99988832 | K7: =SUM(K8+K16+K21+K30+K36+K55+K58+K62) -> 1831214498 | L7: =SUM(L8+L16+L21+L30+L36+L55+L58+L62) -> 1790788608 | M7: =L7-K7 -> -40425890 | N7: =M7/K7 -> -0.022075999 | O7: =L7-E7 -> 0
A8: 사업수입 | B8: 소계 | D8: =SUM(D10:D21) -> 18080000 | E8: =SUM(E10:E21) -> 16945000 | F8: =E8-D8 -> -1135000 | G8: =F8/D8 -> -0.062776549 | H8: 사무비 | I8: 소계 | J8: =L8/L7 -> 0.37790884 | K8: =SUM(K10:K15) -> 692485050 | L8: =SUM(L10:L15) -> 676754850 | M8: =SUM(M10:M15) -> -15730200 | N8: =M8/K8 -> -0.022715581
B10: 사업수입 | C10: 가족기능강화 사업수입 | D10: =SUM(세입1!G6) -> 6600000 | E10: =SUM(세입1!H6) -> 6765000 | F10: =E10-D10 -> 165000 | G10: =F10/D10 -> 0.025 | I10: 인건비 | J10: 급여 | K10: =SUM(세출1!G7) -> 495605580 | L10: =SUM(세출1!H7) -> 490312200 | M10: =L10-K10 -> -5293380 | N10: =M10/K10 -> -0.01068063
J12: 제수당 | K12: =SUM(세출1!G53) -> 83362110 | L12: =SUM(세출1!H53) -> 74783480 | M12: =L12-K12 -> -8578630 | N12: =M12/K12 -> -0.10290802
J13: 퇴직금 및 퇴직적립금 | K13: =SUM(세출1!G95) -> 49931490 | L13: =SUM(세출1!O95) -> 49750280 | M13: =L13-K13 -> -181210 | N13: =M13/K13 -> -0.0036291727
C14: 지역사회보호 사업수입 | D14: =SUM(세입1!G12) -> 7680000 | E14: =SUM(세입1!H12) -> 7680000 | F14: =E14-D14 -> 0 | G14: =F14/D14 -> 0 | J14: 사회보험부담금 | K14: =SUM(세출1!G99) -> 63485870 | L14: =SUM(세출1!H99) -> 61808890 | M14: =L14-K14 -> -1676980 | N14: =M14/K14 -> -0.026415012
J15: 기타후생경비 | K15: =SUM(세출1!G105) -> 100000 | L15: =SUM(세출1!H105) -> 100000 | M15: =L15-K15 -> 0 | N15: =M15/K15 -> 0
I16: 소계 | J16: =L16/L7 -> 0.0067344632 | K16: =SUM(K18:K20) -> 12060000 | L16: =SUM(L18:L20) -> 12060000 | M16: =SUM(L16-K16) -> 0 | N16: =M16/K16 -> 0
C17: 복지네트워크구축 사업수입 | D17: =SUM(세입1!G16) -> 1000000 | E17: =SUM(세입1!H16) -> 1000000 | F17: =SUM(세입1!I16) -> 0 | G17: =F17/D17 -> 0
I18: 업무추진비 | J18: 기관운영비 | K18: =SUM(세출1!G111) -> 8500000 | L18: =SUM(세출1!O111) -> 8500000 | M18: =SUM(L18-K18) -> 0 | N18: =M18/K18 -> 0
C19: 교육문화 사업수입 | D19: =세입1!G20 -> 2800000 | E19: =세입1!H20 -> 1500000 | F19: =세입1!I20 -> -1300000 | G19: =F19/D19 -> -0.46428571 | J19: 직책보조비 | K19: =SUM(세출1!G113) -> 1500000 | L19: =SUM(세출1!O113) -> 1500000 | M19: =SUM(L19-K19) -> 0 | N19: =M19/K19 -> 0
J20: 회의비 | K20: =SUM(세출1!G115) -> 2060000 | L20: =SUM(세출1!O115) -> 2060000 | M20: =SUM(L20-K20) -> 0 | N20: =M20/K20 -> 0
I21: 소계 | J21: =L21/L7 -> 0.050074904 | K21: =SUM(K23:K29) -> 86280898 | L21: =SUM(L23:L29) -> 89673568 | M21: =SUM(L21-K21) -> 3392670 | N21: =M21/K21 -> 0.039321218
A22: 과년도 수입 | B22: 소계 | D22: =SUM(D24) -> 0 | E22: =SUM(E24) -> 0 | F22: =E22-D22 -> 0 | G22: 0
I23: 운영비 | J23: 여비 | K23: =SUM(세출1!G121) -> 400000 | L23: =SUM(세출1!H121) -> 400000 | M23: =SUM(L23-K23) -> 0 | N23: =M23/K23 -> 0
B24: 과년도수입 | C24: 과년도수입 | D24: =SUM(세입1!G27) -> 0 | E24: =SUM(세입1!H27) -> 0 | F24: =E24-D24 -> 0 | G24: 0 | J24: 수용비및수수료 | K24: =SUM(세출1!G123) -> 27860898 | L24: =SUM(세출1!H123) -> 40203568 | M24: =SUM(L24-K24) -> 12342670 | N24: =M24/K24 -> 0.44301049
J25: 공공요금 | K25: =SUM(세출1!G131) -> 22240000 | L25: =SUM(세출1!H131) -> 19500000 | M25: =SUM(L25-K25) -> -2740000 | N25: =M25/K25 -> -0.12320144
J26: 제세공과금 | K26: =SUM(세출1!G137) -> 8000000 | L26: =SUM(세출1!H137) -> 7600000 | M26: =SUM(L26-K26) -> -400000 | N26: =M26/K26 -> -0.05
A27: 보조금 수입 | B27: 소계 | D27: =SUM(D29:D32) -> 1443948060 | E27: =SUM(E29:E32) -> 1438637170 | F27: =E27-D27 -> -5310890 | G27: =F27/D27 -> -0.003678034 | J27: 차량비 | K27: =SUM(세출1!G141) -> 4800000 | L27: =SUM(세출1!H141) -> 4140000 | M27: =SUM(L27-K27) -> -660000 | N27: =M27/K27 -> -0.1375
J28: 연료비 | K28: =SUM(세출1!G145) -> 3500000 | L28: =SUM(세출1!H145) -> 2400000 | M28: =SUM(L28-K28) -> -1100000 | N28: =M28/K28 -> -0.31428571
B29: 보조금수입 | C29: 시군구보조금 | D29: =SUM(세입1!G30) -> 736912000 | E29: =SUM(세입1!H30) -> 736912000 | F29: =E29-D29 -> 0 | G29: =F29/D29 -> 0 | J29: 기타운영비 | K29: =SUM(세출1!G147) -> 19480000 | L29: =SUM(세출1!H147) -> 15430000 | M29: =SUM(L29-K29) -> -4050000 | N29: =M29/K29 -> -0.20790554
H30: 재산 조성비 | I30: 소계 | J30: =L30/L7 -> 0.0092138178 | K30: =SUM(K33:K35) -> 22500000 | L30: =SUM(L33:L35) -> 16500000 | M30: =SUM(L30-K30) -> -6000000 | N30: =M30/K30 -> -0.26666667
C31: 기타보조금 | D31: =SUM(세입1!G32) -> 707036060 | E31: =SUM(세입1!H32) -> 701725170 | F31: =E31-D31 -> -5310890 | G31: =F31/D31 -> -0.0075114839
A33: 후원금 수입 | B33: 소계 | D33: =SUM(D35:D38) -> 253670000 | E33: =SUM(E35:E38) -> 218690000 | F33: =E33-D33 -> -34980000 | G33: =F33/D33 -> -0.13789569 | I33: 시설비 | J33: 시설비 | K33: =SUM(세출1!G157) -> 5000000 | L33: =SUM(세출1!H157) -> 2000000 | M33: =SUM(L33-K33) -> -3000000 | N33: =M33/K33 -> -0.6
J34: 자산취득비 | K34: =SUM(세출1!G158) -> 2500000 | L34: =SUM(세출1!H158) -> 2500000 | M34: =SUM(L34-K34) -> 0 | N34: =M34/K34 -> 0
B35: 후원금수입 | C35: 지정후원금 | D35: =SUM(세입1!G51) -> 198670000 | E35: =SUM(세입1!H51) -> 168690000 | F35: =E35-D35 -> -29980000 | G35: =F35/D35 -> -0.15090351 | J35: 시설장비유지비 | K35: =SUM(세출1!G161) -> 15000000 | L35: =SUM(세출1!H161) -> 12000000 | M35: =SUM(L35-K35) -> -3000000 | N35: =M35/K35 -> -0.2
H36: 사업비 | I36: 소계 | J36: =L36/L7 -> 0.54992543 | K36: =SUM(K39:K54) -> 1006888550 | L36: =SUM(L39:L54) -> 984800190 | M36: =SUM(M39:M54) -> -22088360 | N36: =SUM(M36/K36) -> -0.021937244
C37: 비지정후원금 | D37: =SUM(세입1!G86) -> 55000000 | E37: =SUM(세입1!H86) -> 50000000 | F37: =E37-D37 -> -5000000 | G37: =F37/D37 -> -0.090909091
A39: 전입금 | B39: 소계 | D39: =SUM(D41:D44) -> 34000000 | E39: =SUM(E41:E44) -> 34000000 | F39: =E39-D39 -> 0 | G39: =F39/D39 -> 0 | I39: 사업비 (사례관리기능) | J39: 사례발굴사업비 | K39: =SUM(세출1!G168) -> 1000000 | L39: =SUM(세출1!H168) -> 500000 | M39: =SUM(L39-K39) -> -500000 | N39: =M39/K39 -> -0.5
J40: 사례개입사업비 | K40: =SUM(세출1!G171) -> 7700000 | L40: =SUM(세출1!H171) -> 8220000 | M40: =SUM(L40-K40) -> 520000 | N40: =M40/K40 -> 0.067532468
B41: 전입금 | C41: 법인전입금 | D41: =SUM(세입1!G89) -> 30000000 | E41: =SUM(세입1!H89) -> 30000000 | F41: =E41-D41 -> 0 | G41: =F41/D41 -> 0 | J41: 서비스연계사업비 | K41: =SUM(세출1!G178) -> 27850000 | L41: =SUM(세출1!H178) -> 26750000 | M41: =SUM(L41-K41) -> -1100000 | N41: =M41/K41 -> -0.039497307
I42: 사업비 (서비스제공기능사업) | J42: 가족기능강화사업비 | K42: =SUM(세출1!G208) -> 16920000 | L42: =SUM(세출1!H208) -> 12795000 | M42: =L42-K42 -> -4125000 | N42: =M42/K42 -> -0.24379433
C43: 법인전입금(후원금) | D43: =SUM(세입1!G90) -> 4000000 | E43: =SUM(세입1!H90) -> 4000000 | F43: =E43-D43 -> 0 | G43: 0 | J43: 지역사회보호사업비 | K43: =SUM(세출1!G219) -> 518965000 | L43: =SUM(세출1!H219) -> 510336840 | M43: =L43-K43 -> -8628160 | N43: =M43/K43 -> -0.016625707
J44: 교육문화사업비 | K44: =SUM(세출1!G264) -> 10103000 | L44: =SUM(세출1!H264) -> 8847800 | M44: =L44-K44 -> -1255200 | N44: =M44/K44 -> -0.12424032
...

Sheet 세입1
A1: 2)세입내역
A2: 관 | C2: 항 | E2: 목 | G2: 2024년 3차 | H2: 2024년 4차 | I2: 증가(B)-(A) | K2: 2024년 4차예산 세부 내역 | Q2: *확인 및 작성 완료 후 = 노랑색 배경 *줄 추가 가능 = 반드시 수식 연결 할 것 *증감 있을 시 = 세목 부분 메모 삽입
G3: (A) | H3: (B) | I3: 액수 | J3: 비율
A4: 총계 | G4: =SUM(G5,G29,G50,G88,G91,G110) -> 1831214498 | H4: =SUM(H5,H29,H50,H88,H91,H110) -> 1790788608 | I4: =SUM(I5,I29,I50,I88,I91,I110) -> -40425890 | J4: =I4/G4 -> -0.022075999
A5: 01 | B5: 사업수입 | C5: 11 | D5: 사업수입 | E5: 소계 | G5: =SUM(G6,G12,G16,G20) -> 18080000 | H5: =SUM(H6,H12,H16,H20) -> 16945000 | I5: =SUM(I6,I12,I16,I20) -> -1135000 | J5: =I5/G5 -> -0.062776549 | O5: =SUM(O7,O12,O16,O20) -> 16945000
E6: 111 | F6: 가족기능강화사업수입 | G6: 6600000 | H6: =O6 -> 6765000 | I6: =H6-G6 -> 165000 | J6: =I6/G6 -> 0.025 | O6: =SUM(O7+O10) -> 6765000
K7: 1. 학교부적응학생프로그램 | O7: =SUM(O8) -> 6765000
K8: 지원금 | L8: 11000 | M8: 41 | N8: 15 | O8: =L8*N8*M8 -> 6765000
K10: 2. 사랑의교실 | O10: =SUM(O11) -> 0
O11: =SUM(L11*N11) -> 0
E12: 112 | F12: 지역사회보호사업수입 | G12: 7680000 | H12: =SUM(O12) -> 7680000 | I12: =H12-G12 -> 0 | J12: =I12/G12 -> 0 | O12: =SUM(O13) -> 7680000
K13: 1. 급식서비스 | O13: =SUM(O14:O15) -> 7680000
K14: 유료 | L14: 80000 | M14: 8 | N14: 12 | O14: =SUM(L14*M14*N14) -> 7680000
O15: =SUM(L15*M15*N15) -> 0
E16: 113 | F16: 복지네트워크구축사업 | G16: 1000000 | H16: =SUM(O16) -> 1000000 | I16: =H16-G16 -> 0 | J16: =I16/G16 -> 0 | O16: =SUM(O17) -> 1000000
K17: 1.실습지도 | O17: =SUM(O18) -> 1000000
K18: 실습비 | L18: 100000 | M18: 1 | N18: 10 | O18: =SUM(L18*N18*M18) -> 1000000
E20: 114 | F20: 교육문화사업수입 | G20: 2800000 | H20: =SUM(O20) -> 1500000 | I20: =H20-G20 -> -1300000 | J20: =I20/G20 -> -0.46428571 | O20: =SUM(O21) -> 1500000
K21: 1. 논술스피치교실 | O21: =O22 -> 1500000
K22: 유료 | L22: 50000 | M22: 6 | N22: 5 | O22: =SUM(L22*M22*N22) -> 1500000
E23: 115 | F23: 자활지원 등 기타사업 | G23: 0 | H23: =SUM(O23) -> 0 | I23: =H23-G23 -> 0 | J23: 0 | O23: =SUM(O24) -> 0
K24: 1. 꿈볶는카페 | O24: =SUM(O25) -> 0
K25: 운영수입금 | L25: 0 | N25: 10 | O25: =SUM(L25*N25) -> 0
A26: 02 | B26: 과년도수입 | C26: 21 | D26: 과년도수입 | E26: 소계 | G26: =SUM(G27) -> 0 | H26: =SUM(H27) -> 0 | I26: =SUM(H26-G26) -> 0 | J26: 0 | O26: 0
E27: 211 | F27: 과년도수입 | G27: 0 | H27: 0 | I27: =SUM(H27-G27) -> 0 | J27: 0 | O27: 0
K28: 1.과년도수입 | O28: 0
A29: 03 | B29: 보조금수입 | C29: 31 | D29: 보조금수입 | E29: 소계 | G29: =SUM(G30,G32) -> 1443948060 | H29: =SUM(H30,H32) -> 1438637170 | I29: =H29-G29 -> -5310890 | J29: =I29/G29 -> -0.003678034 | O29: =SUM(O30,O32) -> 1438637170
E30: 313 | F30: 시군구보조금 | G30: 736912000 | H30: =O30 -> 736912000 | I30: =H30-G30 -> 0 | J30: =I30/G30 -> 0 | O30: =SUM(O31) -> 736912000
K31: 1.시군구보조금(경상보조금) | O31: 736912000
E32: 314 | F32: 기타보조금 | G32: 707036060 | H32: =SUM(O32) -> 701725170 | I32: =H32-G32 -> -5310890 | J32: =I32/G32 -> -0.0075114839 | O32: =SUM(O33:O47) -> 701725170
K33: 1. 경로식당운영비 | O33: 111320000
K34: 2. 밑반찬운영비 | O34: 181665000
K35: 3. 무료급식소조리사인건비 | O35: 40391040
K36: 4. 무료급식소영양사인건비 | O36: 25320000
K37: 5. 푸드뱅크 | O37: 46949000
K38: 6. 푸드마켓 | O38: 119294000
K39: 7. 푸드뱅크코디네이터 | O39: 35000000
K40: 8. 무한돌봄네트워크 | O40: 44286130
K41: 9 . 햇살나눔사업 | O41: 7000000
K42: 10. 평생교육 | O42: 5000000
...

Sheet 세출1
A1: 3)세출내역
A2: 관 | C2: 항 | E2: 목 | G2: 2024년 3차 | H2: 2024년4차 | I2: 증가(B)-(A) | K2: 2024년 4차예산 세부 내역 | Q2: 작성 완료 후 = 노랑색 배경 줄 추가 가능 = 반드시 수식 연결 할 것 증감 있을 시 = 메모 삽입(증감액과 사유)
G3: (A) | H3: (B) | I3: 액 수 | J3: 비 율(%)
A4: 총계 | G4: =SUM(G6+G110+G120+G156+G167+G365+G367) -> 1831214498 | H4: =SUM(H6+H110+H120+H156+H167+H365+H367) -> 1790788608 | I4: =H4-G4 -> -40425890 | J4: =I4/G4 -> -0.022075999 | O4: =SUM(H4) -> 1790788608
A5: 01 | B5: 사무비 | C5: 합계 | G5: =G6+세출1!G110+세출1!G120 -> 790825948 | H5: =H6+세출1!H110+세출1!H120 -> 778488418 | I5: =H5-G5 -> -12337530 | J5: =I5/G5 -> -0.015600816 | O5: =O6+세출1!O110+세출1!O120 -> 778488418
D6: 인건비 | E6: 합계 | G6: =G7+G53+G95+G99+G105 -> 692485050 | H6: =H7+H53+H95+H99+H105 -> 676754850 | I6: =H6-G6 -> -15730200 | J6: =I6/G6 -> -0.022715581 | O6: =SUM(O7+O53+O95+O99+O105) -> 676754850
E7: 111 | F7: 급여 | G7: 495605580 | H7: =O7 -> 490312200 | I7: =H7-G7 -> -5293380 | J7: =I7/G7 -> -0.01068063 | K7: 기본급 합계 | O7: =SUM(O8,O51) -> 490312200
J8: 기본급 | O8: =SUM(O9:O50) -> 472313140
K9: 관장 4호봉 | M9: 3,100,400원* | N9: 3월= | O9: 9301200
K10: 관장 5호봉 | M10: 3,227,600원* | N10: 9월= | O10: 29048400
K11: 부장 23호봉 | M11: 4,585,800원* | N11: 12월= | O11: 55029600
K12: 과장 12호봉 | M12: 3,421,800원* | N12: 2월= | O12: 6843600
K13: 과장 13호봉 | M13: 3,507,800원* | N13: 10월= | O13: 35078000
K14: 선임사회복지사 18호봉 | M14: 3,541,900원* | N14: 7월= | O14: 24793300
K15: 선임사회복지사 13호봉 | M15: 3,190,400원* | N15: 7월= | O15: 22332800
K16: 선임사회복지사 14호봉 | M16: 3,267,000원* | N16: 1 | O16: 3267000
K17: 선임사회복지사 12호봉 | M17: 3,120,100원* | N17: 5월= | O17: 15600500
K18: 선임사회복지사 13호봉 | M18: 3,190,400원* | N18: 4 | O18: 12761600
K19: 선임사회복지사 12호봉 | M19: 3,120,100원* | N19: 5월= | O19: 15600500
K20: 선임사회복지사 13호봉 | M20: 3,190,400원* | N20: 7월= | O20: 22332800
K21: 선임사회복지사 7호봉 | M21: 2,641,000원* | N21: 2월= | O21: 5282000
K22: 선임사회복지사 6호봉 | M22: 2,549,300원* | N22: 2월= | O22: 5098600
K23: 선임사회복지사 7호봉 | M23: 2,641,000원* | N23: 1월= | O23: 2641000
K24: 사회복지사 1호봉 | M24: 2,140,300원* | N24: 8월= | O24: 17122400
K25: 사회복지사 2호봉 | M25: 2,180,200원* | N25: 3 | O25: 6540600
K26: 선임사회복지사 16호봉 | M26: 3,411,300원* | N26: 2월= | O26: 6822600
K27: 사회복지사 5호봉 | M27: 2,321,900원* | N27: 4월= | O27: 9287600
K28: 사회복지사 6호봉 | M28: 2,381,300원* | N28: 3월= | O28: 7143900
K29: 사회복지사 4호봉 | M29: 2,262,000원* | N29: 7월= | O29: 15834000
K30: 사회복지사 1호봉 | M30: 1,933,180원* | N30: 1월= | O30: 1933180
K31: 사회복지사 1호봉 | M31: 2,140,300원* | N31: 4월= | O31: 8561200
K32: 사회복지사 2호봉 | M32: 2,180,200원* | N32: 5월= | O32: 10901000
K33: 사회복지사 3호봉 | M33: 2,004,990원* | N33: 1월= | O33: 2004990
K34: 사회복지사 3호봉 | M34: 2,219,800원* | N34: 9월= | O34: 19978200
K35: 사회복지사 3호봉 | M35: 2,219,800원* | N35: 4월= | O35: 8879200
K36: 사회복지사 1호봉 | M36: 1,141,500원* | N36: 1월= | O36: 1141500
K37: 사회복지사 1호봉 | M37: 2,140,300원* | N37: 8월= | O37: 17122400
... K40: 사회복지사 2호봉 | M40: 2,180,200원* | N40: 5월 = | O40: 10901000
K41: 선임사회복지사 13호봉 | M41: 3084060 | N41: 1 | O41: 3084060
K42: 선임사회복지사 13호봉 | M42: 3190400 | N42: 1 | O42: 3190400
...

Sheet 세부사업계획서
A1: 예산편성 시 업무 진행 순서 | F1: 운영위원 회의 자료 작성 (진행·예정 사업) → 세입 · 세출 확정 → 사업계획서 작성 → 세부사업계획서 작성
A2: 사업계획서 작성 GOGO -> | F2: 2024년 사업계획서
A3: 세부사업계획 | F3: 아래 ↓ 세부사업계획서 작성 완료 후 글자색 빨간색으로
A4: 분류 | C4: 세부사업명 | D4: 2024년 | F4: 사업내용 | G4: 기대효과
D5: 3차예산 (단위: 천원) | E5: 4차예산 (단위: 천원)
A6: 계 | D6: =SUM(D7,D11,D18,D33,D50,D66,D75,D77,D79,D81,D83,D85,D38,D42)+1 -> 1006889 | E6: =SUM(E7,E11,E18,E33,E50,E66,E75,E77,E79,E81,E83,E85,E38,E42) -> 984800190 | F6: ='총괄(수정금지)'!L36-E6 -> 0
A7: 1. 사례 관리 기능 | B7: 사 례 관 리 사 업 | C7: 계 | D7: =SUM(D8:D10) -> 36550 | E7: =SUM(E8:E10) -> 35470000
C8: 사례발굴 사업 | D8: 1000 | E8: ='총괄(수정금지)'!L39 -> 500000 | F8: ▷당사자 가정 및 주민 의뢰를 통한 발굴 ▷유관기관 의뢰를 통한 발굴 ▷권역기초조사 ▷응급위기관리사업 | G8: ▷복지사각지대의 요보호대상자 발굴 ▷지역사회 내 취약계층의 복지 현황 파악 ▷응급위기 상황 대처 역량 강화
C9: 사례개입 사업 | D9: 7700 | E9: ='총괄(수정금지)'!L40 -> 8220000 | F9: ▷사례개입 -초기면접 -대상자선정 및 서비스판정 -개입계획수립 -상담 -사례회의 -평가회의 ▷통합사례회의 ▷햇살나눔사업 ▷생명마을만들기 | G9: ▷사례관리대상자에 대한 서비스 조정을 통해 중복수혜 예방 ▷통합적인 사례관리를 통한 서비스의 전문성 향상 ▷관내 유관기관간의 전문서비스네트워크 구축
C10: 서비스연계사업 | D10: 27850 | E10: ='총괄(수정금지)'!L41 -> 26750000 | F10: ▷내부·외부 서비스 연계 -기본생활지원 -심리정서지원 -건강지원 -가족기능지원 -교육발달지원 -경제적지원 | G10: ▷대상자의 역량강화 ▷아동 및 가족지원을 통한 가족기능강화 ▷통합적인 사례관리를 통한 재가보호
A11: 2. 서 비 스 제 공 기 능 | B11: 가 족 기 능 강 화 사 업 | C11: 계 | D11: =SUM(D12:D14) -> 16920 | E11: =SUM(E12:E14) -> 12795000
C12: 학교부적응 학생프로그램(햇빛자리) | D12: 6600 | E12: =세출1!O209 -> 2475000 | F12: ▷학교 내 징계 청소년 및 부적응 학생을 위한 집단상담, 원예치료, 학교폭력예방교육 등 진행 | G12: ▷학생들의 학교적응력 향상 ▷청소년 비행 예방
C13: 너나우리 (아동성장 프로그램) | D13: 10020 | E13: =세출1!O212 -> 10020000 | F13: ▷자녀를 둔 저소득 가정을 대상으로 가족캠프를 진행하여 갈등 및 스트레스 해소 지원 | G13: ▷가족 구성원 간 갈등 및 스트레스 해소 ▷아동의 건강한 성장 지원
C14: 캠핑장비대여사업 | D14: 300 | E14: =세출1!O215 -> 300000 | F14: ▷캠핑을 쉽게 접할 수 있도록 저렴한 비용으로 캠핑 장비를 대여하여 건강한 여가문화생활 지원 | G14: ▷가족에 대한 여가선용의 기회 제공 ▷여가활동을 통한 가족의 유대감 향상
A16: 분류 | C16: 세부사업명 | D16: 2024년 | E16: 2024년 | F16: 사업내용 | G16: 기대효과
D17: 3차예산 (단위: 천원) | E17: 4차예산 (단위: 천원)
D18: =SUM(D19:D29) -> 518965 | E18: =SUM(E19:E29) -> 510336840
A19: 2. 서 비 스 제 공 기 능 | B19: 지 역 사 회 보 호 사 업 | C19: 경로식당 | D19: 192200 | E19: =세출1!O220+세출1!O229+세출1!O233 -> 188191040 | F19: ▷정기적인 중식 제공 및 거동불편대상자 식사 배달 | G19: ▷지역사회 거주하는 요보호노인을 대상으로 식사제공을 통한 결식방지 ▷정기적인 안부확인 및 서비스 연계 가능
C20: 밑반찬 배달 | D20: 181665 | E20: =세출1!O225 -> 181665000 | F20: ▷정기적인 밑반찬 제공 및 거동 불편대상자 식사 배달 | G20: ▷지역사회 거주하는 요보호노인을 대상으로 밑반찬제공을 통한 결식방지 ▷정기적인 안부확인 및 서비스 연계 가능
C21: 한방진료 | D21: 100 | E21: =세출1!O237 -> 100000 | F21: ▷한방 침시술 ▷한의사 건강상담 | G21: ▷맞춤형 진료를 통한 신체통증 완화 맟 건강 유지
C22: 결연사업 | D22: 49500 | E22: =세출1!O240 -> 44100000 | F22: ▷결연서비스 | G22: ▷저소득 노인, 아동, 장애인 현금 지원을 통한 경제적 지원
C23: 어린이재단 | D23: 6000 | E23: =세출1!O243 -> 6000000 | F23: ▷결연서비스 | G23: ▷저소득 아동 경제적 지원을 통한 건강한 성장 지원
C24: 개별상담서비스 | D24: 200 | E24: =세출1!O246 -> 200000 | F24: ▷개별 상담 서비스 | G24: ▷요보호대상자에 대한 지원으로 정서적지지 및 심리적 안정감을 제공 ▷요보호대상자에 대한 일상생활관리
C25: 생활용품 등 경제적 지원 | D25: 36000 | E25: =세출1!O249 -> 36000000 | F25: ▷생활용품지원 | G25: ▷경제적으로 어려운 지역사회 주민에게 생활에 필요한 물품을 지원을 통한 경제적 지원
C26: 장학금지원사업 | D26: 44000 | E26: =세출1!O252 -> 45580800 | F26: ▷정율사관학원 장학금 지원 ▷원더풀의원 장학금 지원 | G26: ▷경제적으로 어려운 지역사회 아동·청소년이 건강하게 성장할 수 있도록 지원
C27: 청소년 마약중독 예방 프로그램 | D27: 3500 | E27: =세출1!O255 -> 3500000 | F27: ▷청소년 마약 중독 예방 캠페인 및 책자, 공모전 진행 | G27: ▷마약 중독 인식 개선
C28: 14)개별식습관개선프로그램 | D28: 3800 | E28: =세출1!O258 -> 3800000 | F28: ▷균형잡힌 식습관과 저염식을 통한 개별 식습관 개선 지원 | G28: ▷노인의 만성질환 예방 및 건강유지
C29: 기후위기 극복사업 | D29: 2000 | E29: =세출1!O261 -> 1200000 | F29: ▷여름철 무더위 안전사고 예방을 위한 무더위 쉼터 운영 ▷겨울철 한파 안전사고 예방을 위한 난방 지원 사업 제공 | G29: ▷폭염 및 한파취약가구 발굴을 통해 고독사 예방
A31: 사업 분류 | C31: 세부사업명 | D31: 2024년 | E31: 2024년 | F31: 사업내용 | G31: 기대효과
D32: 3차예산 (단위: 천원) | E32: 4차예산 (단위: 천원)
A33: 3. 서 비 스 제 공 기 능 | B33: 교 육 문 화 | C33: 계 | D33: =SUM(D34:D37) -> 10103 | E33: =SUM(E34:E37) -> 8847800
C34: 교육문화프로그램 | D34: 1000 | E34: =세출1!O265 -> 1000000 | F34: ▷지역주민 대상 교육문화 프로그램 진행 | G34: ▷지역주민 대상 교육문화 프로그램 참여의 기회 제공
C35: 평생교육 | D35: 6003 | E35: =세출1!O268 -> 6047800 | F35: ▷지역주민 대상 평생교육 프로그램 진행 | G35: ▷지역주민 대상 평생교육의 기회 제공 ▷지역 내 평생교육 활성화
C36: 장애인재활운동서비스 | D36: 300 | E36: =세출1!O271 -> 300000 | F36: ▷뇌병변, 지체장애인대상 재활운동프로그램 ▷슐런 | G36: ▷장애인의 사회참여 증진 ▷재활을 통한 신체건강 증진
C37: 논술 스피치 교육 | D37: 2800 | E37: =세출1!O274 -> 1500000 | F37: ▷아동·청소년 대상 올바른 독서법, 글쓰기 교육, 말하기 등 논술교실 프로그램 | G37: ▷사고력 증진 ▷대화 기술 및 사회적 관계 기술 습득
B38: 자 활 지 원 등 기 타 | C38: 계 | D38: =SUM(D39:D41) -> 4100 | E38: =SUM(E39:E41) -> 2600000
C39: 홍보사업 | D39: 3000 | E39: =세출1!O278 -> 1500000 | F39: ▷소식지 및 리플렛, 온라인 플렛폼 운영 (블로그, 유튜브) 등 홍보물 제작을 통해 지역사회 내 기관의 인지도확산 및 사업홍보 실시 | G39: ▷기관 이미지 개선 및 인지도 상승 ▷자원 개발 및 연계확대
C40: 보고서및 연구지발간 | D40: 1000 | E40: =세출1!O283 -> 1000000 | F40: ▷연 사업보고서 발간 ▷기타보고서, 연구지발간 | G40: ▷사회복지 전문프로그램
C41: 취업정보 | D41: 100 | E41: =세출1!O287 -> 100000 | F41: ▷취업정보 게시 | G41: ▷정보접근이 어려운 지역주민들에게 취업 정보 제공
A42: 3. 지 역 조 직 화 기 능 | B42: 복 지 네 트 워 크 구 축 | C42: 계 | D42: =SUM(D43:D46) -> 1900 | E42: =SUM(E43:E46) -> 2400000
...

Sheet 법인의안)세입세출총괄표
A1: 세입 | F1: 세출
A2: 항목 | B2: ='총괄(수정금지)'!D5 -> 2024년 3차 | C2: ='총괄(수정금지)'!E5 -> 2024년 4차 | D2: 증감(B-A) | F2: 항목 | G2: ='총괄(수정금지)'!K5 -> 2024년 3차 | H2: ='총괄(수정금지)'!L5 -> 2024년 4차 | I2: 증감(B-A)
D3: 금액 | E3: 비율(%) | I3: 금액 | J3: 비율(%)
A4: 총 계 | B4: =SUM(B5:B10) -> 1831214498 | C4: =SUM(C5:C10) -> 1790788608 | D4: =SUM(D5:D10) -> -40425890 | E4: =D4/B4 -> -0.022075999 | F4: 총 계 | G4: =SUM(G5:G11) -> 1831214498 | H4: =SUM(H5:H11) -> 1790788608 | I4: =SUM(I5:I11) -> -40425890 | J4: =I4/G4 -> -0.022075999 | K4: =B4-'총괄(수정금지)'!D7 -> 0 | L4: =C4-'총괄(수정금지)'!E7 -> 0 | M4: =D4-'총괄(수정금지)'!F7 -> 0
A5: 사업수입 | B5: =SUM('총괄(수정금지)'!D8) -> 18080000 | C5: =SUM('총괄(수정금지)'!E8) -> 16945000 | D5: =SUM('총괄(수정금지)'!F8) -> -1135000 | E5: =SUM('총괄(수정금지)'!G8) -> -0.062776549 | F5: 인건비 | G5: ='총괄(수정금지)'!K8 -> 692485050 | H5: ='총괄(수정금지)'!L8 -> 676754850 | I5: ='총괄(수정금지)'!M8 -> -15730200 | J5: =I5/G5 -> -0.022715581 | K5: =G4-'총괄(수정금지)'!K7 -> 0 | L5: =H4-'총괄(수정금지)'!L7 -> 0 | M5: =I4-'총괄(수정금지)'!M7 -> 0
A6: 보조금수입 | B6: ='총괄(수정금지)'!D27 -> 1443948060 | C6: ='총괄(수정금지)'!E27 -> 1438637170 | D6: ='총괄(수정금지)'!F27 -> -5310890 | E6: ='총괄(수정금지)'!G27 -> -0.003678034 | F6: 업무추진비 | G6: ='총괄(수정금지)'!K16 -> 12060000 | H6: ='총괄(수정금지)'!L16 -> 12060000 | I6: ='총괄(수정금지)'!M16 -> 0 | J6: =I6/G6 -> 0
A7: 후원금수입 | B7: ='총괄(수정금지)'!D33 -> 253670000 | C7: ='총괄(수정금지)'!E33 -> 218690000 | D7: ='총괄(수정금지)'!F33 -> -34980000 | E7: ='총괄(수정금지)'!G33 -> -0.13789569 | F7: 운영비 | G7: ='총괄(수정금지)'!K21 -> 86280898 | H7: ='총괄(수정금지)'!L21 -> 89673568 | I7: ='총괄(수정금지)'!M21 -> 3392670 | J7: =I7/G7 -> 0.039321218
A8: 법인전입금 | B8: ='총괄(수정금지)'!D39 -> 34000000 | C8: ='총괄(수정금지)'!E39 -> 34000000 | D8: ='총괄(수정금지)'!F39 -> 0 | E8: ='총괄(수정금지)'!G39 -> 0 | F8: 시설비 | G8: ='총괄(수정금지)'!K30 -> 22500000 | H8: ='총괄(수정금지)'!L30 -> 16500000 | I8: ='총괄(수정금지)'!M30 -> -6000000 | J8: =I8/G8 -> -0.26666667
A9: 이월금 | B9: ='총괄(수정금지)'!D45 -> 74716438 | C9: ='총괄(수정금지)'!E45 -> 74716438 | D9: ='총괄(수정금지)'!F45 -> 0 | E9: ='총괄(수정금지)'!G45 -> 0 | F9: 사업비 | G9: ='총괄(수정금지)'!K36 -> 1006888550 | H9: ='총괄(수정금지)'!L36 -> 984800190 | I9: ='총괄(수정금지)'!M36 -> -22088360 | J9: =I9/G9 -> -0.021937244
A10: 잡수입 | B10: ='총괄(수정금지)'!D57 -> 6800000 | C10: ='총괄(수정금지)'!E57 -> 7800000 | D10: ='총괄(수정금지)'!F57 -> 1000000 | E10: ='총괄(수정금지)'!G57 -> 0.14705882 | F10: 잡지출 | G10: ='총괄(수정금지)'!K58 -> 200000 | H10: ='총괄(수정금지)'!L58 -> 200000 | I10: ='총괄(수정금지)'!M58 -> 0 | J10: =I10/G10 -> 0
F11: 예비비및기타 | G11: ='총괄(수정금지)'!K62 -> 10800000 | H11: ='총괄(수정금지)'!L62 -> 10800000 | I11: ='총괄(수정금지)'!M62 -> 0 | J11: =I11/G11 -> 0

Sheet 법인의안)세입세출세부내역
A1: 세 입 | H1: 세 출
A2: 과목 | D2: 당초예산액 | E2: 추경예산액 | F2: 증감 | H2: 과목 | L2: 당초예산액 | M2: 추경예산액 | N2: 증감
A3: 관 | B3: 항 | C3: 목 | H3: 관 | I3: 항 | J3: 목
A4: 사업수입 | B4: 사업수입 | C4: 가족기능강화사업수입 | D4: ='총괄(수정금지)'!D10 -> 6600000 | E4: ='총괄(수정금지)'!E10 -> 6765000 | F4: ='총괄(수정금지)'!F10 -> 165000 | H4: 사무비 | I4: 인건비 | J4: 급여 | L4: ='총괄(수정금지)'!K10 -> 495605580 | M4: ='총괄(수정금지)'!L10 -> 490312200 | N4: ='총괄(수정금지)'!M10 -> -5293380
C5: 지역사회보호사업수입 | D5: ='총괄(수정금지)'!D14 -> 7680000 | E5: ='총괄(수정금지)'!E14 -> 7680000 | F5: ='총괄(수정금지)'!F14 -> 0 | J5: 제수당 | L5: ='총괄(수정금지)'!K12 -> 83362110 | M5: ='총괄(수정금지)'!L12 -> 74783480 | N5: ='총괄(수정금지)'!M12 -> -8578630
C6: 복지네트워크구축사업수입 | D6: =SUM('총괄(수정금지)'!D17) -> 1000000 | E6: =SUM('총괄(수정금지)'!E17) -> 1000000 | F6: ='총괄(수정금지)'!F17 -> 0 | J6: 퇴직금 및 퇴직적립금 | L6: ='총괄(수정금지)'!K13 -> 49931490 | M6: ='총괄(수정금지)'!L13 -> 49750280 | N6: ='총괄(수정금지)'!M13 -> -181210
C7: 교육문화사업수입 | D7: ='총괄(수정금지)'!D19 -> 2800000 | E7: ='총괄(수정금지)'!E19 -> 1500000 | F7: ='총괄(수정금지)'!F19 -> -1300000 | J7: 사회보험부담금 | L7: ='총괄(수정금지)'!K14 -> 63485870 | M7: ='총괄(수정금지)'!L14 -> 61808890 | N7: ='총괄(수정금지)'!M14 -> -1676980
C8: 소계 | D8: =SUM(D4:D7) -> 18080000 | E8: =SUM(E4:E7) -> 16945000 | F8: =SUM(F4:F7) -> -1135000 | J8: 기타후생경비 | L8: ='총괄(수정금지)'!K15 -> 100000 | M8: ='총괄(수정금지)'!L15 -> 100000 | N8: ='총괄(수정금지)'!M15 -> 0
A9: 보조금수입 | B9: 보조금수입 | C9: 시군구보조금 | D9: ='총괄(수정금지)'!D29 -> 736912000 | E9: ='총괄(수정금지)'!E29 -> 736912000 | F9: ='총괄(수정금지)'!F29 -> 0 | J9: 소계 | L9: =SUM(L4:L8) -> 692485050 | M9: =SUM(M4:M8) -> 676754850 | N9: =SUM(N4:N8) -> -15730200
C10: 기타보조금 | D10: ='총괄(수정금지)'!D31 -> 707036060 | E10: ='총괄(수정금지)'!E31 -> 701725170 | F10: ='총괄(수정금지)'!F31 -> -5310890 | I10: 업무추진비 | J10: 기관운영비 | L10: ='총괄(수정금지)'!K18 -> 8500000 | M10: ='총괄(수정금지)'!L18 -> 8500000 | N10: ='총괄(수정금지)'!M18 -> 0
C11: 소계 | D11: =SUM(D9:D10) -> 1443948060 | E11: =SUM(E9:E10) -> 1438637170 | F11: =SUM(F9:F10) -> -5310890 | J11: 직책보조비 | L11: ='총괄(수정금지)'!K19 -> 1500000 | M11: ='총괄(수정금지)'!L19 -> 1500000 | N11: ='총괄(수정금지)'!M19 -> 0
A12: 후원금수입 | B12: 후원금수입 | C12: 지정후원금 | D12: ='총괄(수정금지)'!D35 -> 198670000 | E12: ='총괄(수정금지)'!E35 -> 168690000 | F12: ='총괄(수정금지)'!F35 -> -29980000 | J12: 회의비 | L12: ='총괄(수정금지)'!K20 -> 2060000 | M12: ='총괄(수정금지)'!L20 -> 2060000 | N12: ='총괄(수정금지)'!M20 -> 0
C13: 비지정후원금 | D13: ='총괄(수정금지)'!D37 -> 55000000 | E13: ='총괄(수정금지)'!E37 -> 50000000 | F13: ='총괄(수정금지)'!F37 -> -5000000 | J13: 소계 | L13: =SUM(L10:L12) -> 12060000 | M13: =SUM(M10:M12) -> 12060000 | N13: =SUM(N10:N12) -> 0
C14: 소계 | D14: =SUM(D12:D13) -> 253670000 | E14: =SUM(E12:E13) -> 218690000 | F14: =SUM(F12:F13) -> -34980000 | I14: 운영비 | J14: 여비 | L14: ='총괄(수정금지)'!K23 -> 400000 | M14: ='총괄(수정금지)'!L23 -> 400000 | N14: ='총괄(수정금지)'!M23 -> 0
A15: 전입금 | B15: 전입금 | C15: 법인전입금 | D15: ='총괄(수정금지)'!D41 -> 30000000 | E15: ='총괄(수정금지)'!E41 -> 30000000 | F15: ='총괄(수정금지)'!F41 -> 0 | J15: 수용비 및 수수료 | L15: ='총괄(수정금지)'!K24 -> 27860898 | M15: ='총괄(수정금지)'!L24 -> 40203568 | N15: ='총괄(수정금지)'!M24 -> 12342670
C16: 법인전입금(후원금) | D16: ='총괄(수정금지)'!D43 -> 4000000 | E16: ='총괄(수정금지)'!E43 -> 4000000 | F16: ='총괄(수정금지)'!F43 -> 0 | J16: 공공요금 | L16: ='총괄(수정금지)'!K25 -> 22240000 | M16: ='총괄(수정금지)'!L25 -> 19500000 | N16: ='총괄(수정금지)'!M25 -> -2740000
C17: 소계 | D17: =SUM(D15:D16) -> 34000000 | E17: =SUM(E15:E16) -> 34000000 | F17: =SUM(F15:F16) -> 0 | J17: 제세공과금 | L17: ='총괄(수정금지)'!K26 -> 8000000 | M17: ='총괄(수정금지)'!L26 -> 7600000 | N17: ='총괄(수정금지)'!M26 -> -400000
A18: 이월금 | B18: 이월금 | C18: 전년도이월금 | D18: ='총괄(수정금지)'!D48 -> 19420397 | E18: ='총괄(수정금지)'!E48 -> 19420397 | F18: ='총괄(수정금지)'!F48 -> 0 | J18: 차량비 | L18: ='총괄(수정금지)'!K27 -> 4800000 | M18: ='총괄(수정금지)'!L27 -> 4140000 | N18: ='총괄(수정금지)'!M27 -> -660000
C19: 전년도이월금(후원금) | D19: ='총괄(수정금지)'!D51 -> 25720670 | E19: ='총괄(수정금지)'!E51 -> 25720670 | F19: ='총괄(수정금지)'!F51 -> 0 | J19: 연료비 | L19: ='총괄(수정금지)'!K28 -> 3500000 | M19: ='총괄(수정금지)'!L28 -> 2400000 | N19: ='총괄(수정금지)'!M28 -> -1100000
C20: 이월사업비 | D20: ='총괄(수정금지)'!D55 -> 29575371 | E20: ='총괄(수정금지)'!E55 -> 29575371 | F20: ='총괄(수정금지)'!F55 -> 0 | J20: 기타운영비 | L20: ='총괄(수정금지)'!K29 -> 19480000 | M20: ='총괄(수정금지)'!L29 -> 15430000 | N20: ='총괄(수정금지)'!M29 -> -4050000
C21: 소계 | D21: =SUM(D18:D20) -> 74716438 | E21: =SUM(E18:E20) -> 74716438 | F21: =SUM(F18:F20) -> 0 | J21: 소계 | L21: =SUM(L14:L20) -> 86280898 | M21: =SUM(M14:M20) -> 89673568 | N21: =SUM(N14:N20) -> 3392670
A22: 잡수입 | B22: 잡수입 | C22: 불용품매각대 | D22: ='총괄(수정금지)'!D59 -> 300000 | E22: ='총괄(수정금지)'!E59 -> 300000 | F22: ='총괄(수정금지)'!F59 -> 0 | I22: 합계 | L22: =SUM(L9,L13,L21) -> 790825948 | M22: =SUM(M9,M13,M21) -> 778488418 | N22: =SUM(N9,N13,N21) -> -12337530
C23: 기타예금이자수입 | D23: ='총괄(수정금지)'!D63 -> 900000 | E23: ='총괄(수정금지)'!E63 -> 900000 | F23: ='총괄(수정금지)'!F63 -> 0 | H23: 재산조성비 | I23: 시설비 | K23: 시설비 | L23: ='총괄(수정금지)'!K33 -> 5000000 | M23: ='총괄(수정금지)'!L33 -> 2000000 | N23: ='총괄(수정금지)'!M33 -> -3000000
C24: 기타잡수입 | D24: ='총괄(수정금지)'!D65 -> 5600000 | E24: ='총괄(수정금지)'!E65 -> 6600000 | F24: ='총괄(수정금지)'!F65 -> 1000000 | K24: 자산취득비 | L24: ='총괄(수정금지)'!K34 -> 2500000 | M24: ='총괄(수정금지)'!L34 -> 2500000 | N24: ='총괄(수정금지)'!M34 -> 0
C25: 소계 | D25: =SUM(D22:D24) -> 6800000 | E25: =SUM(E22:E24) -> 7800000 | F25: =SUM(F22:F24) -> 1000000 | K25: 시설장비 유지비 | L25: ='총괄(수정금지)'!K35 -> 15000000 | M25: ='총괄(수정금지)'!L35 -> 12000000 | N25: ='총괄(수정금지)'!M35 -> -3000000
A26: 세입계 | D26: =SUM(D25,D21,D17,D14,D11,D8) -> 1831214498 | E26: =SUM(E25,E21,E17,E14,E11,E8) -> 1790788608 | F26: =SUM(F25,F21,F17,F14,F11,F8) -> -40425890 | I26: 합계 | L26: =SUM(L23:L25) -> 22500000 | M26: =SUM(M23:M25) -> 16500000 | N26: =SUM(N23:N25) -> -6000000
H28: 과목 | L28: 당초예산액 | M28: 추경예산액 | N28: 증감
D29: =SUM('총괄(수정금지)'!D7-D26) -> 0 | E29: =SUM('총괄(수정금지)'!E7-E26) -> 0 | F29: =SUM('총괄(수정금지)'!F7-F26) -> 0 | H29: 관 | I29: 항 | J29: 목
H30: 사업비 | I30: 사업비 | J30: 사례발굴사업비 | L30: ='총괄(수정금지)'!K39 -> 1000000 | M30: ='총괄(수정금지)'!L39 -> 500000 | N30: ='총괄(수정금지)'!M39 -> -500000
J31: 사례개입사업비 | L31: ='총괄(수정금지)'!K40 -> 7700000 | M31: ='총괄(수정금지)'!L40 -> 8220000 | N31: ='총괄(수정금지)'!M40 -> 520000
J32: 서비스연계사업비 | L32: ='총괄(수정금지)'!K41 -> 27850000 | M32: ='총괄(수정금지)'!L41 -> 26750000 | N32: ='총괄(수정금지)'!M41 -> -1100000
J33: 가족기능강화사업비 | L33: ='총괄(수정금지)'!K42 -> 16920000 | M33: ='총괄(수정금지)'!L42 -> 12795000 | N33: ='총괄(수정금지)'!M42 -> -4125000
J34: 지역사회보호사업비 | L34: ='총괄(수정금지)'!K43 -> 518965000 | M34: ='총괄(수정금지)'!L43 -> 510336840 | N34: ='총괄(수정금지)'!M43 -> -8628160
J35: 교육문화사업비 | L35: ='총괄(수정금지)'!K44 -> 10103000 | M35: ='총괄(수정금지)'!L44 -> 8847800 | N35: ='총괄(수정금지)'!M44 -> -1255200
J36: 자활지원등기타사업비 | L36: ='총괄(수정금지)'!K45 -> 4100000 | M36: ='총괄(수정금지)'!L45 -> 2600000 | N36: ='총괄(수정금지)'!M45 -> -1500000
J37: 복지네트워크구축사업비 | L37: ='총괄(수정금지)'!K46 -> 1900000 | M37: ='총괄(수정금지)'!L46 -> 2400000 | N37: ='총괄(수정금지)'!M46 -> 500000
J38: 주민조직화사업비 | L38: ='총괄(수정금지)'!K47 -> 71760000 | M38: ='총괄(수정금지)'!L47 -> 70060000 | N38: ='총괄(수정금지)'!M47 -> -1700000
J39: 자원개발및관리사업비 | L39: ='총괄(수정금지)'!K48 -> 17500000 | M39: ='총괄(수정금지)'!L48 -> 13200000 | N39: ='총괄(수정금지)'!M48 -> -4300000
J40: 푸드뱅크사업비 | L40: ='총괄(수정금지)'!K49 -> 47049000 | M40: ='총괄(수정금지)'!L49 -> 47049000 | N40: ='총괄(수정금지)'!M49 -> 0
J41: 푸드뱅크(G-푸드드림사업비) | L41: ='총괄(수정금지)'!K50 -> 35100000 | M41: ='총괄(수정금지)'!L50 -> 35100000 | N41: ='총괄(수정금지)'!M50 -> 0
...

Sheet 총괄(수정금지)2025
A1: 2025년 심곡동종합사회복지관 3차추경 예산서
A2: (심곡동종합사회복지관)
A3: <별지 제6호 서식> (1)세입세출 총괄 | L3: 제출일자 : 2025.12 (단위: 원)
A4: 세 입 | H4: 세 출
A5: 관 | B5: 항 | C5: 목 | D5: 2025년 2차 | E5: 2025년 3차 | F5: 증감(B)-(A) | H5: 관 | I5: 항 | J5: 목 | K5: 2025년 2차 | L5: 2025년 3차 | M5: 증감(B)-(A)
D6: (A) | E6: (B) | F6: 액수 | G6: 비율 | K6: (A) | L6: (B) | M6: 액수 | N6: 비율
A7: 계 | D7: =SUM(D27,D33,D39,D45,D8,D57) -> 1803956576 | E7: =SUM(E27,E33,E39,E45,E8,E57) -> 1713261576 | F7: =E7-D7 -> -90695000 | G7: =F7/D7 -> -0.0502756 | H7: 계 | J7: =SUM(J8,J16,J21,J30,J36,J55,J62) -> 0.99988326 | K7: =SUM(K8+K16+K21+K30+K36+K55+K58+K62) -> 1803956576 | L7: =SUM(L8+L16+L21+L30+L36+L55+L58+L62) -> 1713261576 | M7: =L7-K7 -> -90695000 | N7: =M7/K7 -> -0.0502756 | O7: =L7-E7 -> 0
A8: 사업수입 | B8: 소계 | D8: =SUM(D10:D21) -> 18340000 | E8: =SUM(E10:E21) -> 14090000 | F8: =E8-D8 -> -4250000 | G8: =F8/D8 -> -0.23173391 | H8: 사무비 | I8: 소계 | J8: =L8/L7 -> 0.40905007 | K8: =SUM(K10:K15) -> 718646450 | L8: =SUM(L10:L15) -> 700809770 | M8: =L8-K8 -> -17836680 | N8: =M8/K8 -> -0.024819826
B10: 사업수입 | C10: 가족기능강화사업수입 | D10: =SUM('세입1(2025)'!G6) -> 6600000 | E10: =SUM('세입1(2025)'!H6) -> 4950000 | F10: =E10-D10 -> -1650000 | G10: =F10/D10 -> -0.25 | I10: 인건비 | J10: 급여 | K10: =SUM('세출1(2025)'!G7) -> 516099920 | L10: =SUM('세출1(2025)'!H7) -> 507619770 | M10: =L10-K10 -> -8480150 | N10: =M10/K10 -> -0.016431217
J12: 제수당 | K12: =SUM('세출1(2025)'!G46) -> 84431880 | L12: =SUM('세출1(2025)'!H46) -> 78996430 | M12: =L12-K12 -> -5435450 | N12: =M12/K12 -> -0.06437675
J13: 퇴직금 및 퇴직적립금 | K13: =SUM('세출1(2025)'!G90) -> 52044320 | L13: =SUM('세출1(2025)'!O90) -> 49884690 | M13: =L13-K13 -> -2159630 | N13: =M13/K13 -> -0.041495979
C14: 지역사회보호사업수입 | D14: =SUM('세입1(2025)'!G12) -> 8640000 | E14: =SUM('세입1(2025)'!H12) -> 8640000 | F14: =E14-D14 -> 0 | G14: =F14/D14 -> 0 | J14: 사회보험부담금 | K14: =SUM('세출1(2025)'!G94) -> 65970330 | L14: =SUM('세출1(2025)'!H94) -> 64208880 | M14: =L14-K14 -> -1761450 | N14: =M14/K14 -> -0.02670064
J15: 기타후생경비 | K15: =SUM('세출1(2025)'!G100) -> 100000 | L15: =SUM('세출1(2025)'!H100) -> 100000 | M15: =L15-K15 -> 0 | N15: =M15/K15 -> 0
I16: 소계 | J16: =L16/L7 -> 0.0044126362 | K16: =SUM(K18:K20) -> 12060000 | L16: =SUM(L18:L20) -> 7560000 | M16: =SUM(L16-K16) -> -4500000 | N16: =M16/K16 -> -0.37313433
C17: 복지네트워크구축사업수입 | D17: =SUM('세입1(2025)'!G16) -> 1000000 | E17: =SUM('세입1(2025)'!H16) -> 500000 | F17: =E17-D17 -> -500000 | G17: =F17/D17 -> -0.5
I18: 업무추진비 | J18: 기관운영비 | K18: =SUM('세출1(2025)'!G106) -> 8500000 | L18: =SUM('세출1(2025)'!O106) -> 5000000 | M18: =SUM(L18-K18) -> -3500000 | N18: =M18/K18 -> -0.41176471
C19: 교육문화사업수입 | D19: ='세입1(2025)'!G20 -> 2100000 | E19: ='세입1(2025)'!H20 -> 0 | F19: ='세입1(2025)'!I20 -> -2100000 | G19: =F19/D19 -> -1 | J19: 직책보조비 | K19: =SUM('세출1(2025)'!G108) -> 1500000 | L19: =SUM('세출1(2025)'!O108) -> 500000 | M19: =SUM(L19-K19) -> -1000000 | N19: =M19/K19 -> -0.66666667
J20: 회의비 | K20: =SUM('세출1(2025)'!G110) -> 2060000 | L20: =SUM('세출1(2025)'!O110) -> 2060000 | M20: =SUM(L20-K20) -> 0 | N20: =M20/K20 -> 0
I21: 소계 | J21: =L21/L7 -> 0.048599788 | K21: =SUM(K23:K29) -> 89594149 | L21: =SUM(L23:L29) -> 83264149 | M21: =SUM(L21-K21) -> -6330000 | N21: =M21/K21 -> -0.070651935
A22: 과년도 수입 | B22: 소계 | D22: =SUM(D24) -> 0 | E22: =SUM(E24) -> 0 | F22: =E22-D22 -> 0 | G22: 0
I23: 운영비 | J23: 여비 | K23: =SUM('세출1(2025)'!G116) -> 400000 | L23: =SUM('세출1(2025)'!H116) -> 400000 | M23: =SUM(L23-K23) -> 0 | N23: =M23/K23 -> 0
B24: 과년도수입 | C24: 과년도수입 | D24: =SUM(세입1!G27) -> 0 | E24: =SUM(세입1!H27) -> 0 | F24: =E24-D24 -> 0 | G24: 0 | J24: 수용비및수수료 | K24: =SUM('세출1(2025)'!G118) -> 31404149 | L24: =SUM('세출1(2025)'!H118) -> 31404149 | M24: =SUM(L24-K24) -> 0 | N24: =M24/K24 -> 0
J25: 공공요금 | K25: =SUM('세출1(2025)'!G126) -> 20760000 | L25: =SUM('세출1(2025)'!H126) -> 20760000 | M25: =SUM(L25-K25) -> 0 | N25: =M25/K25 -> 0
J26: 제세공과금 | K26: =SUM('세출1(2025)'!G132) -> 8000000 | L26: =SUM('세출1(2025)'!H132) -> 8000000 | M26: =SUM(L26-K26) -> 0 | N26: =M26/K26 -> 0
A27: 보조금 수입 | B27: 소계 | D27: =SUM(D29:D32) -> 1394578000 | E27: =SUM(E29:E32) -> 1370523000 | F27: =E27-D27 -> -24055000 | G27: =F27/D27 -> -0.017248946 | J27: 차량비 | K27: =SUM('세출1(2025)'!G136) -> 3360000 | L27: =SUM('세출1(2025)'!H136) -> 3360000 | M27: =SUM(L27-K27) -> 0 | N27: =M27/K27 -> 0
J28: 연료비 | K28: =SUM('세출1(2025)'!G140) -> 2400000 | L28: =SUM('세출1(2025)'!H140) -> 2400000 | M28: =SUM(L28-K28) -> 0 | N28: =M27/K28 -> 0
B29: 보조금수입 | C29: 시군구보조금 | D29: =SUM('세입1(2025)'!G32) -> 723995000 | E29: =SUM('세입1(2025)'!H32) -> 723995000 | F29: =E29-D29 -> 0 | G29: =F29/D29 -> 0 | J29: 기타운영비 | K29: =SUM('세출1(2025)'!G142) -> 23270000 | L29: =SUM('세출1(2025)'!H142) -> 16940000 | M29: =SUM(L29-K29) -> -6330000 | N29: =M29/K29 -> -0.27202407
H30: 재산 조성비 | I30: 소계 | J30: =L30/L7 -> 0.0059535567 | K30: =SUM(K33:K35) -> 20500000 | L30: =SUM(L33:L35) -> 10200000 | M30: =SUM(L30-K30) -> -10300000 | N30: =M30/K30 -> -0.50243902
C31: 기타보조금 | D31: =SUM('세입1(2025)'!G34) -> 670583000 | E31: =SUM('세입1(2025)'!H34) -> 646528000 | F31: =E31-D31 -> -24055000 | G31: =F31/D31 -> -0.035871771
A33: 후원금 수입 | B33: 소계 | D33: =SUM(D35:D38) -> 258100000 | E33: =SUM(E35:E38) -> 195580000 | F33: =E33-D33 -> -62520000 | G33: =F33/D33 -> -0.24223169 | I33: 시설비 | J33: 시설비 | K33: =SUM('세출1(2025)'!G154) -> 6000000 | L33: =SUM('세출1(2025)'!H154) -> 2500000 | M33: =SUM(L33-K33) -> -3500000 | N33: =M33/K33 -> -0.58333333
J34: 자산취득비 | K34: =SUM('세출1(2025)'!G155) -> 2500000 | L34: =SUM('세출1(2025)'!H155) -> 700000 | M34: =SUM(L34-K34) -> -1800000 | N34: =M34/K34 -> -0.72
B35: 후원금수입 | C35: 지정후원금 | D35: =SUM('세입1(2025)'!G55) -> 198100000 | E35: =SUM('세입1(2025)'!H55) -> 155580000 | F35: =E35-D35 -> -42520000 | G35: =F35/D35 -> -0.21463907 | J35: 시설장비유지비 | K35: =SUM('세출1(2025)'!G158) -> 12000000 | L35: =SUM('세출1(2025)'!H158) -> 7000000 | M35: =SUM(L35-K35) -> -5000000 | N35: =M35/K35 -> -0.41666667
H36: 사업비 | I36: 소계 | J36: =L36/L7 -> 0.52040272 | K36: =SUM(K39:K54) -> 939955977 | L36: =SUM(L39:L54) -> 891585977 | M36: =L36-K36 -> -48370000 | N36: =SUM(M36/K36) -> -0.051459857
C37: 비지정후원금 | D37: =SUM('세입1(2025)'!G77) -> 60000000 | E37: =SUM('세입1(2025)'!H77) -> 40000000 | F37: =E37-D37 -> -20000000 | G37: =F37/D37 -> -0.33333333
A39: 전입금 | B39: 소계 | D39: =SUM(D41:D44) -> 30000000 | E39: =SUM(E41:E44) -> 30000000 | F39: =E39-D39 -> 0 | G39: =F39/D39 -> 0 | I39: 사업비 (사례관리기능) | J39: 사례발굴사업비 | K39: =SUM('세출1(2025)'!G164) -> 2000000 | L39: =SUM('세출1(2025)'!H164) -> 1000000 | M39: =SUM(L39-K39) -> -1000000 | N39: =M39/K39 -> -0.5
J40: 사례개입사업비 | K40: =SUM('세출1(2025)'!G167) -> 9500000 | L40: =SUM('세출1(2025)'!H167) -> 9500000 | M40: =SUM(L40-K40) -> 0 | N40: =M40/K40 -> 0
B41: 전입금 | C41: 법인전입금 | D41: =SUM('세입1(2025)'!G80) -> 30000000 | E41: =SUM('세입1(2025)'!H80) -> 30000000 | F41: =E41-D41 -> 0 | G41: =F41/D41 -> 0 | J41: 서비스연계사업비 | K41: =SUM('세출1(2025)'!G174) -> 25500000 | L41: =SUM('세출1(2025)'!H174) -> 18000000 | M41: =SUM(L41-K41) -> -7500000 | N41: =M41/K41 -> -0.29411765
I42: 사업비 (서비스제공기능사업) | J42: 가족기능강화사업비 | K42: =SUM('세출1(2025)'!G189) -> 6600000 | L42: =SUM('세출1(2025)'!H189) -> 1320000 | M42: =L42-K42 -> -5280000 | N42: =M42/K42 -> -0.8
C43: 법인전입금(후원금) | D43: =SUM('세입1(2025)'!G81) -> 0 | E43: =SUM('세입1(2025)'!H81) -> 0 | F43: =E43-D43 -> 0 | G43: 0 | J43: 지역사회보호사업비 | K43: =SUM('세출1(2025)'!G198) -> 496440447 | L43: =SUM('세출1(2025)'!H198) -> 459840447 | M43: =L43-K43 -> -36600000 | N43: =M43/K43 -> -0.073724855
J44: 교육문화사업비 | K44: =SUM('세출1(2025)'!G256) -> 9100000 | L44: =SUM('세출1(2025)'!H256) -> 7100000 | M44: =L44-K44 -> -2000000 | N44: =M44/K44 -> -0.21978022
...

Sheet 세입1(2025)
A2: 관 | C2: 항 | E2: 목 | G2: 2025년 2차 | H2: 2025년 3차 | I2: 증가(B)-(A) | K2: 2025년 3차세부 예산 내역 | Q2: *확인 및 작성 완료 후 = 노랑색 배경 *줄 추가 가능 = 반드시 수식 연결 할 것 *증감 있을 시 = 세목 부분 메모 삽입
G3: (A) | H3: (B) | I3: 액수 | J3: 비율
A4: 총계 | G4: =SUM(G5,G31,G54,G79,G82,G101) -> 1803956576 | H4: =SUM(H5,H31,H54,H79,H82,H101) -> 1713261576 | I4: =SUM(I5,I31,I54,I79,I82,I101) -> -90695000 | J4: =I4/G4 -> -0.0502756
A5: 01 | B5: 사업수입 | C5: 11 | D5: 사업수입 | E5: 소계 | G5: =SUM(G6,G12,G16,G20) -> 18340000 | H5: =SUM(H6,H12,H16,H20) -> 14090000 | I5: =SUM(I6,I12,I16,I20) -> -4250000 | J5: =I5/G5 -> -0.23173391 | O5: =SUM(O7,O12,O16,O20) -> 14090000
E6: 111 | F6: 가족기능강화사업수입 | G6: 6600000 | H6: =O6 -> 4950000 | I6: =H6-G6 -> -1650000 | J6: =I6/G6 -> -0.25 | O6: =SUM(O7+O10) -> 4950000
K7: 1. 학교부적응학생프로그램 | O7: =SUM(O8) -> 4950000
K8: 지원금 | L8: 11000 | M8: 15 | N8: 30 | O8: =L8*N8*M8 -> 4950000
K10: 2. 사랑의교실 | O10: =SUM(O11) -> 0
O11: =SUM(L11*N11) -> 0
E12: 112 | F12: 지역사회보호사업수입 | G12: 8640000 | H12: =SUM(O12) -> 8640000 | I12: =H12-G12 -> 0 | J12: =I12/G12 -> 0 | O12: =SUM(O13) -> 8640000
K13: 1. 급식서비스 | O13: =SUM(O14:O15) -> 8640000
K14: 유료 | L14: 80000 | M14: 9 | N14: 12 | O14: =SUM(L14*M14*N14) -> 8640000
O15: =SUM(L15*M15*N15) -> 0
E16: 113 | F16: 복지네트워크구축사업 | G16: 1000000 | H16: =SUM(O16) -> 500000 | I16: =H16-G16 -> -500000 | J16: =I16/G16 -> -0.5 | O16: =SUM(O17) -> 500000
K17: 1.실습지도 | O17: =SUM(O18:O19) -> 500000
K18: 실습비(하계) | L18: 100000 | M18: 1 | N18: 4 | O18: =SUM(L18*N18*M18) -> 400000
K19: 실습비(학기중) | L19: 100000 | M19: 1 | N19: 1 | O19: =SUM(L19*N19*M19) -> 100000
E20: 114 | F20: 교육문화사업수입 | G20: 2100000 | H20: =O20 -> 0 | I20: =H20-G20 -> -2100000 | J20: =I20/G20 -> -1 | O20: =SUM(O22) -> 0
K21: 1. 문화누리바우처프로그램 | O21: 0
K22: 유료 | O22: =SUM(L22*M22*N22) -> 0
O23: =O24 -> 0
O24: =SUM(L24*M24*N24) -> 0
E25: 115 | F25: 자활지원 등 기타사업 | G25: 0 | H25: =SUM(O25) -> 0 | I25: =H25-G25 -> 0 | J25: 0 | O25: =SUM(O26) -> 0
K26: 1. 꿈볶는카페 | O26: =SUM(O27) -> 0
K27: 운영수입금 | L27: 0 | N27: 10 | O27: =SUM(L27*N27) -> 0
A28: 02 | B28: 과년도수입 | C28: 21 | D28: 과년도수입 | E28: 소계 | G28: =SUM(G29) -> 0 | H28: =SUM(H29) -> 0 | I28: =SUM(H28-G28) -> 0 | J28: 0 | O28: 0
E29: 211 | F29: 과년도수입 | G29: 0 | H29: 0 | I29: =SUM(H29-G29) -> 0 | J29: 0 | O29: 0
K30: 1.과년도수입 | O30: 0
A31: 03 | B31: 보조금수입 | C31: 31 | D31: 보조금수입 | E31: 소계 | G31: =SUM(G32,G34) -> 1394578000 | H31: =SUM(H32,H34) -> 1370523000 | I31: =H31-G31 -> -24055000 | J31: =I31/G31 -> -0.017248946 | O31: =SUM(O32,O34) -> 1370523000
E32: 313 | F32: 시군구보조금 | G32: 723995000 | H32: =O32 -> 723995000 | I32: =H32-G32 -> 0 | J32: =I32/G32 -> 0 | O32: =SUM(O33) -> 723995000
K33: 1.시군구보조금(경상보조금) | O33: 723995000
E34: 314 | F34: 기타보조금 | G34: 670583000 | H34: =SUM(O34) -> 646528000 | I34: =H34-G34 -> -24055000 | J34: =I34/G34 -> -0.035871771 | O34: =SUM(O35:O51) -> 646528000
K35: 1. 경로식당운영비 | O35: 110880000
K36: 2. 밑반찬운영비 | O36: 153090000
K37: 3. 무료급식소조리사인건비 | O37: 45120000
K38: 4. 무료급식소영양사인건비 | O38: 25740000
K39: 5. 푸드뱅크 | O39: 46082000
K40: 6. 푸드마켓 | O40: 100273000
K41: 7. 푸드뱅크코디네이터 | O41: 36000000
K42: 8. 무한돌봄네트워크 | O42: 45348000
...

Sheet 세출1(2025)
A2: 관 | C2: 항 | E2: 목 | G2: 2025년 2차 | H2: 2025년 3차 | I2: 증가(B)-(A) | K2: 2025년 3차 예산 세부 내역 | Q2: 작성 완료 후 = 노랑색 배경 줄 추가 가능 = 반드시 수식 연결 할 것 증감 있을 시 = 메모 삽입(증감액과 사유)
G3: (A) | H3: (B) | I3: 액 수 | J3: 비 율(%)
A4: 총계 | G4: =SUM(G6+G105+G115+G153+G163+G346+G348) -> 1803956576 | H4: =SUM(H6+H105+H115+H153+H163+H346+H348) -> 1713261576 | I4: =H4-G4 -> -90695000 | J4: =I4/G4 -> -0.0502756 | O4: =SUM(H4) -> 1713261576
A5: 01 | B5: 사무비 | C5: 합계 | G5: =G6+'세출1(2025)'!G105+'세출1(2025)'!G115 -> 820300599 | H5: =H6+'세출1(2025)'!H105+'세출1(2025)'!H115 -> 791633919 | I5: =H5-G5 -> -28666680 | J5: =I5/G5 -> -0.034946555 | O5: =O6+'세출1(2025)'!O105+'세출1(2025)'!O115 -> 791633919
C6: 11 | D6: 인건비 | E6: 합계 | G6: =G7+G46+G90+G94+G100 -> 718646450 | H6: =H7+H46+H90+H94+H100 -> 700809770 | I6: =H6-G6 -> -17836680 | J6: =I6/G6 -> -0.024819826 | O6: =SUM(O7+O46+O90+O94+O100) -> 700809770
E7: 111 | F7: 급여 | G7: 516099920 | H7: =O7 -> 507619770 | I7: =H7-G7 -> -8480150 | J7: =I7/G7 -> -0.016431217 | K7: 기본급 합계 | O7: =SUM(O8,O44) -> 507619770
J8: 기본급 | O8: =SUM(O9:O43) -> 488520370
K9: 관장 5호봉 | M9: 3324500 | N9: 3 | O9: =PRODUCT(M9:N9) -> 9973500
K10: 관장 6호봉 | M10: 3461600 | N10: 9 | O10: =PRODUCT(M10:N10) -> 31154400
K11: 부장 24호봉 | M11: 4776700 | N11: 12 | O11: =PRODUCT(M11:N11) -> 57320400
K12: 과장 13호봉 | M12: 3613100 | N12: 2 | O12: =PRODUCT(M12:N12) -> 7226200
K13: 과장 14호봉 | M13: 3699100 | N13: 10 | O13: =PRODUCT(M13:N13) -> 36991000
K14: 과장13호봉 | M14: 3613100 | N14: 5 | O14: =PRODUCT(M14:N14) -> 18065500 | Q14: 이성국
K15: 과장14호봉 | M15: 3699100 | N15: 7 | O15: =PRODUCT(M15:N15) -> 25893700
K16: 선임사회복지사14호봉 | M16: 3365100 | N16: 10 | O16: =PRODUCT(M16:N16) -> 33651000 | Q16: 안은빈
K17: 선임사회복지사15호봉 | M17: 3440800 | N17: 2 | O17: =PRODUCT(M17:N17) -> 6881600
K18: 선임사회복지사 13호봉 | M18: 3286200 | N18: 4 | O18: =PRODUCT(M18:N18) -> 13144800 | Q18: 정재경
K19: 선임사회복지사 14호봉 | M19: 3365100 | N19: 7 | O19: =PRODUCT(M19:N19) -> 23555700
K20: 선임사회복지사 13호봉 | M20: 2229930 | N20: 1 | O20: =M20*N20 -> 2229930
K21: 선임사회복지사 13호봉 | M21: 3286200 | N21: 4 | O21: =PRODUCT(M21:N21) -> 13144800 | Q21: 김영도
K22: 선임사회복지사 13호봉 | M22: 1060070 | N22: 1 | O22: =PRODUCT(M22:N22) -> 1060070
K23: 선임사회복지사 13호봉 | M23: 1908120 | N23: 1 | O23: =M23*N23 -> 1908120
K24: 선임사회복지사 13호봉 | M24: 3286200 | N24: 2 | O24: =PRODUCT(M24:N24) -> 6572400
K25: 선임사회복지사 14호봉 | M25: 3365100 | N25: 3 | O25: =PRODUCT(M25:N25) -> 10095300
K26: 사회복지사 4호봉 | M26: 2329900 | N26: 4 | O26: =PRODUCT(M26:N26) -> 9319600 | Q26: 조희진
K27: 사회복지사 2호봉 | M27: 1811050 | N27: 1 | O27: =PRODUCT(M27:N27) -> 1811050 | Q27: 이은진
K28: 사회복지사 2호봉 | M28: 2245700 | N28: 3 | O28: =PRODUCT(M28:N28) -> 6737100
K29: 사회복지사 3호봉 | M29: 2286400 | N29: 4 | O29: =PRODUCT(M29:N29) -> 9145600 | Q29: 송하늘
K30: 사회복지사 2호봉 | M30: 2245700 | N30: 4 | O30: =PRODUCT(M30:N30) -> 8982800
K31: 사회복지사 1호봉 | M31: 1777910 | N31: 1 | O31: =PRODUCT(M31:N31) -> 1777910
K32: 사회복지사 1호봉 | M32: 2204600 | N32: 7 | O32: =PRODUCT(M32:N32) -> 15432200
K33: 사회복지사 4호봉 | M33: 2329900 | N33: 12 | O33: =PRODUCT(M33:N33) -> 27958800
K34: 사회복지사 1호봉 | M34: 2204600 | N34: 4 | O34: =PRODUCT(M34:N34) -> 8818400 | Q34: 최수민
K35: 사회복지사 2호봉 | M35: 2245700 | N35: 8 | O35: =PRODUCT(M35:N35) -> 17965600
K36: 사회복지사 2호봉 | M36: 2245700 | N36: 6 | O36: =PRODUCT(M36:N36) -> 13474200 | Q36: 김민지
K37: 사회복지사 3호봉 | M37: 2286400 | N37: 6 | O37: =PRODUCT(M37:N37) -> 13718400
K38: 사회복지사 8호봉 | M38: 2645000 | N38: 1 | O38: =PRODUCT(M38:N38) -> 2645000 | Q38: 조정현
K39: 사회복지사 3호봉 | M39: 2123090 | N39: 1 | O39: =PRODUCT(M39:N39) -> 2123090
K40: 사회복지사 3호봉 | M40: 2286400 | N40: 5 | O40: =PRODUCT(M40:N40) -> 11432000
K41: 사회복지사 4호봉 | M41: 2329900 | N41: 5 | O41: =PRODUCT(M41:N41) -> 11649500
...

Sheet 세부사업계획서(25.3차)
A1: 예산편성 시 업무 진행 순서 | F1: 운영위원 회의 자료 작성 (진행·예정 사업) → 세입 · 세출 확정 → 사업계획서 작성 → 세부사업계획서 작성
A2: 사업계획서 작성 GOGO→ → → → → → → → → → | F2: 2025년 사업계획서
A3: 세부사업계획 | F3: 아래 ↓ 세부사업계획서 작성 완료 후 글자색 ""검정색"""으로
A4: 분류 | C4: 세부사업명 | D4: 2025년 2차 | E4: 2025년 3차 | F4: 사업내용 | G4: 기대효과
D5: 2차예산 (단위: 천원) | E5: 3차예산 (단위: 천원)
A6: 계 | D6: =SUM(D7,D11,D16,D33,D50,D64,D73,D75,D77,D79,D81,D83,D38,D42) -> 939956 | E6: =SUM(E7,E11,E16,E33,E50,E64,E73,E75,E77,E79,E81,E83,E38,E42) -> 891585977 | F6: ='총괄(수정금지)'!L36-E6 -> 93214213
A7: 1. 사례 관리 기능 | B7: 사 례 관 리 사 업 | C7: 계 | D7: 37000 | E7: =SUM(E8:E10) -> 28500000
C8: 사례발굴 사업 | D8: 2000 | E8: ='총괄(수정금지)2025'!L39 -> 1000000 | F8: ▷당사자 가정 및 주민 의뢰를 통한 발굴 ▷유관기관 의뢰를 통한 발굴 ▷응급위기관리사업 | G8: ▷복지사각지대의 요보호대상자 발굴 ▷지역사회 내 취약계층의 복지 현황 파악 ▷응급위기 상황 대처 역량 강화
C9: 사례개입 사업 | D9: 9500 | E9: ='총괄(수정금지)2025'!L40 -> 9500000 | F9: ▷사례개입 -초기면접 -대상자선정 및 서비스판정 -개입계획수립 -상담 -사례회의 -평가회의 ▷통합사례회의 ▷햇살나눔네트워크 ▷생명마을만들기 | G9: ▷사례관리대상자에 대한 서비스 조정을 통해 중복수혜 예방 ▷통합적인 사례관리를 통한 서비스의 전문성 향상 ▷관내 유관기관간의 전문서비스네트워크 구축
C10: 서비스연계사업 | D10: 25500 | E10: ='총괄(수정금지)2025'!L41 -> 18000000 | F10: ▷내부·외부 서비스 연계 -기본생활지원 -심리정서지원 -건강지원 -가족기능지원 -교육발달지원 -경제적지원 | G10: ▷대상자의 역량강화 ▷아동 및 가족지원을 통한 가족기능강화 ▷통합적인 사례관리를 통한 재가보호
A11: 2. 서 비 스 제 공 기 능 | B11: 가 족 기 능 강 화 사 업 | C11: 계 | D11: =SUM(D12) -> 6600 | E11: =SUM(E12) -> 1320000
C12: 학교부적응 학생프로그램(햇빛자리) | D12: 6600 | E12: ='세출1(2025)'!O190 -> 1320000 | F12: ▷학교 내 징계 청소년 및 부적응 학생을 위한 집단상담, 진로탐색, 중독예방 교육 등 실시 | G12: ▷학생들의 자아정체성 탐색과 강점 발견 ▷지역 내 청소년의 건강한 가치관 수립
A14: 분류 | C14: 세부사업명 | D14: 2025년 2차 | E14: 2025년 3차 | F14: 사업내용 | G14: 기대효과
D15: 2차예산 (단위: 천원) | E15: 3차예산 (단위: 천원)
D16: =SUM(D17:D29) -> 496440 | E16: =SUM(E17:E29) -> 459840447
A17: 2. 서 비 스 제 공 기 능 | B17: 지 역 사 회 보 호 사 업 | C17: 경로식당 | D17: 193980 | E17: ='세출1(2025)'!O199+'세출1(2025)'!O210+'세출1(2025)'!O214 -> 193980000 | F17: ▷정기적인 중식 제공 및 거동불편대상자 식사 배달 | G17: ▷지역사회 거주하는 요보호노인을 대상으로 식사제공을 통한 결식방지 ▷정기적인 안부확인 및 서비스 연계 가능
C18: 밑반찬 배달 | D18: 153090 | E18: ='세출1(2025)'!O204 -> 153090000 | F18: ▷정기적인 밑반찬 제공 및 거동 불편대상자 식사 배달 | G18: ▷지역사회 거주하는 요보호노인을 대상으로 밑반찬제공을 통한 결식방지 ▷정기적인 안부확인 및 서비스 연계 가능
C19: 한방진료 | D19: 100 | E19: 100000 | F19: ▷ 한방 침 시술, 한의사 건강상담 | G19: ▷ 맞춤형 진료를 통한 신체통증 완화 및 건강 유지
C20: 결연사업 | D20: 54900 | E20: ='세출1(2025)'!O221 -> 42000000 | F20: ▷결연서비스 | G20: ▷저소득 노인, 아동, 장애인 현금 지원을 통한 경제적 지원
C21: 어린이재단 | D21: 6000 | E21: ='세출1(2025)'!O224 -> 9300000 | F21: ▷결연서비스 | G21: ▷저소득 아동 경제적 지원을 통한 건강한 성장 지원
C22: 개별상담서비스 | D22: 200 | E22: ='세출1(2025)'!O229 -> 200000 | F22: ▷개별 상담 서비스 | G22: ▷요보호대상자에 대한 지원으로 정서적지지 및 심리적 안정감을 제공 ▷요보호대상자에 대한 일상생활관리
C23: 생활용품 등 경제적 지원 | D23: 32000 | E23: ='세출1(2025)'!O232 -> 21000000 | F23: ▷생활용품지원 | G23: ▷경제적으로 어려운 지역사회 주민에게 생활에 필요한 물품을 지원을 통한 경제적 지원
C24: 장학금지원사업 | D24: 43000 | E24: ='세출1(2025)'!O235 -> 30000000 | F24: ▷정율사관학원 장학금 지원 ▷원더풀의원 장학금 지원 | G24: ▷경제적으로 어려운 지역사회 아동·청소년이 건강하게 성장할 수 있도록 지원
C25: 청소년 마약중독 예방 프로그램 | D25: 3985 | E25: ='세출1(2025)'!O238 -> 3985447 | F25: ▷청소년 마약 중독 예방 캠페인 및 책자, 공모전 진행 | G25: ▷마약 중독 인식 개선
C26: 개별식습관개선 프로그램 | D26: 985 | E26: ='세출1(2025)'!O245 -> 985000 | F26: ▷균형잡힌 식습관과 저염식을 통한 개별 식습관 개선 지원 | G26: ▷노인의 만성질환 예방 및 건강유지
C27: 기후위기 극복사업 | D27: 4000 | E27: ='세출1(2025)'!O248 -> 1000000 | F27: ▷여름철 무더위 안전사고 예방을 위한 무더위 쉼터 운영 ▷겨울철 한파 안전사고 예방을 위한 난방 지원 사업 제공 | G27: ▷폭염 및 한파취약가구 발굴을 통해 고독사 예방
C28: 행복나침반 | D28: 200 | E28: ='세출1(2025)'!O251 -> 200000 | F28: ▷한라마을 단지 전수조사 ▷한라마을 단지 내 지역주민 관련 기초 데이터 구축 | G28: ▷복지관 무료급식소 이용 및 미이용자 정보 파악, 근황 확인 용이 ▷복지관 신규 사업 대상자 및 후원물품 필요 대상자 발굴 ▷이용자 방문 및 상담 요청시 필요 정보 검색 가능
C29: 김장김치 지원사업 | D29: 4000 | E29: ='세출1(2025)'!O255 -> 4000000 | F29: ▷취약계층 가정 대상 김장김치 배분 | G29: ▷복지관 신규 사례대상자 발굴 ▷물품 지원을 통한 취약계층 가정 경제적 어려움 해소
A31: 사업 분류 | C31: 세부사업명 | D31: 2025년 2차 | E31: 2025년 3차 | F31: 사업내용 | G31: 기대효과
D32: 2차예산 (단위: 천원) | E32: 3차예산 (단위: 천원)
A33: 3. 서 비 스 제 공 기 능 | B33: 교 육 문 화 | C33: 계 | D33: =SUM(D34:D37) -> 9100 | E33: =SUM(E34:E37) -> 7100000
C34: 교육문화프로그램 | D34: 1000 | E34: ='세출1(2025)'!O257 -> 1000000 | F34: ▷지역주민 대상 교육문화 프로그램 진행 | G34: ▷지역주민 대상 교육문화 프로그램 참여의 기회 제공
C35: 평생교육 | D35: 6000 | E35: ='세출1(2025)'!O260 -> 6100000 | F35: ▷지역주민 대상 평생교육 프로그램 진행 | G35: ▷지역주민의 학습 접근성 증대 ▷평생교육 프로그램을 통한 지역주민 역량 강화 및 삶의 질 향상
C37: 문화누리바우처 프로그램 | D37: 2100 | E37: 0 | F37: ▷사업종료
B38: 자 활 지 원 등 기 타 | C38: 계 | D38: =SUM(D39:D41) -> 3100 | E38: =SUM(E39:E41) -> 3100000
C39: 홍보사업 | D39: 2500 | E39: ='세출1(2025)'!O267 -> 2500000 | F39: ▷소식지 및 리플렛, 온라인 플렛폼 운영 (블로그, 유튜브) 등 홍보물 제작을 통해 지역사회 내 기관의 인지도확산 및 사업홍보 실시 | G39: ▷기관 이미지 개선 및 인지도 상승 ▷자원 개발 및 연계확대
C40: 보고서및 연구지발간 | D40: 500 | E40: ='세출1(2025)'!O274 -> 500000 | F40: ▷연 사업보고서 발간 ▷기타보고서, 연구지발간 | G40: ▷사회복지 전문프로그램
C41: 취업정보 | D41: 100 | E41: ='세출1(2025)'!O277 -> 100000 | F41: ▷취업정보 게시 | G41: ▷정보접근이 어려운 지역주민들에게 취업 정보 제공
A42: 3. 지 역 조 직 화 기 능 | B42: 복 지 네 트 워 크 구 축 | C42: 계 | D42: =SUM(D43:D47) -> 6100 | E42: =SUM(E43:E47) -> 5100000
C43: 지역주민 간담회 (사업설명회) | D43: 1000 | E43: ='세출1(2025)'!O283 -> 1000000 | F43: ▷지역주민 대상 복지관 사업 안내 및 의견수렴 | G43: ▷지역주민과의 교류의 장 마련 ▷주민의견을 반영한 사업 계획 수립 및 운영
...

Sheet 3차예산_운영위원회예산총괄(세입및세출)
B1: <보고사항2>
B2: 2025년도 심곡동종합사회복지관 3차예산 세입(안)
B3: ￭ 세부 내용: 사업수입 및 기타보조금 수입 감소, 지정·비지정 후원금 감소, 잡수입 증가
B4: (단위 : 원)
B5: 세 입
B6: 항 | C6: 목 | E6: ='법인의안)본예산_세입세출총괄표(25.3차)'!B2 -> 2025년 2차 | F6: ='법인의안)본예산_세입세출총괄표(25.3차)'!C2 -> 2025년 3차 | G6: 증감 | H6: 사유 및 근거
B7: 총 계 | E7: =SUM(E12,E15,E18,E21,E25,E29) -> 1803956576 | F7: =SUM(F12,F15,F18,F21,F25,F29) -> 1713261576 | G7: =F7-E7 -> -90695000
B8: 사 업 수 입 | C8: 가족기능강화 | E8: ='총괄(수정금지)2025'!D10 -> 6600000 | F8: ='총괄(수정금지)2025'!E10 -> 4950000 | G8: =F8-E8 -> -1650000 | H8: *학교부적응학생프로그램 -1,650,000원
C9: 지역사회보호 | E9: ='총괄(수정금지)2025'!D14 -> 8640000 | F9: ='총괄(수정금지)2025'!E14 -> 8640000 | G9: =F9-E9 -> 0
C10: 복지네트워크구축 | E10: ='총괄(수정금지)2025'!D17 -> 1000000 | F10: ='총괄(수정금지)2025'!E17 -> 500000 | G10: =F10-E10 -> -500000 | H10: *실습지도 -500,000원
C11: 교육문화사업수입 | E11: ='총괄(수정금지)2025'!D19 -> 2100000 | F11: ='총괄(수정금지)2025'!E19 -> 0 | G11: =F11-E11 -> -2100000 | H11: *문화누리바우처 프로그램 -2,100,000원
C12: 소 계 | E12: =SUM(E8:E11) -> 18340000 | F12: =SUM(F8:F11) -> 14090000 | G12: =F12-E12 -> -4250000
B13: 보 조 금 수 입 | C13: 시군구보조금 | E13: ='총괄(수정금지)2025'!D29 -> 723995000 | F13: ='총괄(수정금지)2025'!E29 -> 723995000 | G13: =F13-E13 -> 0
C14: 기타보조금 | E14: ='총괄(수정금지)2025'!D31 -> 670583000 | F14: ='총괄(수정금지)2025'!E31 -> 646528000 | G14: =F14-E14 -> -24055000 | H14: *무한돌봄 450,000원 *무더위쉼터냉방비 495,000원 *기타보조사업(예정) -25,000,000원
C15: 소계 | E15: =SUM(E13:E14) -> 1394578000 | F15: =SUM(F13:F14) -> 1370523000 | G15: =F15-E15 -> -24055000
B16: 후 원 금 수 입 | C16: 지정후원금 | E16: ='총괄(수정금지)2025'!D35 -> 198100000 | F16: ='총괄(수정금지)2025'!E35 -> 155580000 | G16: =F16-E16 -> -42520000 | H16: *지정후원금 -42,520,000원 (기타외부공모사업 예정금액 축소 및 각종 지정후원금 확정액 반영)
C17: 비지정후원금 | E17: ='총괄(수정금지)2025'!D37 -> 60000000 | F17: ='총괄(수정금지)2025'!E37 -> 40000000 | G17: =F17-E17 -> -20000000 | H17: *비지정후원 -20,000,000원
C18: 소계 | E18: =SUM(E16:E17) -> 258100000 | F18: =SUM(F16:F17) -> 195580000 | G18: =F18-E18 -> -62520000
B19: 전 입 금 | C19: 법인전입금 | E19: ='총괄(수정금지)2025'!D41 -> 30000000 | F19: ='총괄(수정금지)2025'!E41 -> 30000000 | G19: =F19-E19 -> 0
C20: 법인전입금 (후원금) | E20: ='총괄(수정금지)2025'!D43 -> 0 | F20: ='총괄(수정금지)2025'!E43 -> 0 | G20: =F20-E20 -> 0
C21: 소계 | E21: =SUM(E19:E20) -> 30000000 | F21: =SUM(F19:F20) -> 30000000 | G21: =F21-E21 -> 0
B22: 이 월 금 | C22: 전년도이월금 | E22: ='총괄(수정금지)2025'!D48 -> 39708390 | F22: ='총괄(수정금지)2025'!E48 -> 39708390 | G22: =F22-E22 -> 0
C23: 전년도이월금 (후원금) | E23: ='총괄(수정금지)2025'!D51 -> 38730024 | F23: ='총괄(수정금지)2025'!E51 -> 38730024 | G23: =F23-E23 -> 0
C24: 이월사업비 | E24: ='총괄(수정금지)2025'!D55 -> 16700162 | F24: ='총괄(수정금지)2025'!E55 -> 16700162 | G24: =F24-E24 -> 0
C25: 소 계 | E25: =SUM(E22:E24) -> 95138576 | F25: =SUM(F22:F24) -> 95138576 | G25: =F25-E25 -> 0
B26: 잡 수 입 | C26: 불용품매각대 | E26: ='총괄(수정금지)2025'!D59 -> 300000 | F26: ='총괄(수정금지)2025'!E59 -> 50000 | G26: =F26-E26 -> -250000 | H26: *불용품 매각대 및 예금이자수입 -770,000원
C27: 기타예금 이자수입 | E27: ='총괄(수정금지)2025'!D63 -> 900000 | F27: ='총괄(수정금지)2025'!E63 -> 380000 | G27: =F27-E27 -> -520000
C28: 기타잡수입 | E28: ='총괄(수정금지)2025'!D65 -> 6600000 | F28: ='총괄(수정금지)2025'!E65 -> 7500000 | G28: =F28-E28 -> 900000 | H28: *육아휴직사업주 지원금 등 900,000원
C29: 소 계 | E29: =SUM(E26:E28) -> 7800000 | F29: =SUM(F26:F28) -> 7930000 | G29: =F29-E29 -> 130000
B31: 2025년도 심곡동종합사회복지관 3차예산 세출(안)
B32: ￭ 세부 내용: 인건비 감소, 업무추진비 감소, 기타운영비 감소, 시설비 감소, 사업비 감소, 예비비및기타 감소
B33: (단위 : 원)
B34: 세 출
B35: 항 | C35: 목 | E35: =E6 -> 2025년 2차 | F35: =F6 -> 2025년 3차 | G35: 증감 | H35: 사유 및 근거
B36: 총 계 | E36: =SUM(E42,E46,E54,E58,E76,E78,E81) -> 1803956576 | F36: =SUM(F42,F46,F54,F58,F76,F78,F81) -> 1713261576 | G36: =F36-E36 -> -90695000
B37: 인 건 비 | C37: 급여 | E37: ='총괄(수정금지)2025'!K10 -> 516099920 | F37: ='총괄(수정금지)2025'!L10 -> 507619770 | G37: =F37-E37 -> -8480150 | H37: *종사자 변동 및 육아휴직 근로 기간 제외 적용 -17,836,680원
C38: 제수당 | E38: ='총괄(수정금지)2025'!K12 -> 84431880 | F38: ='총괄(수정금지)2025'!L12 -> 78996430 | G38: =F38-E38 -> -5435450
C39: 퇴직금및퇴직적립금 | E39: ='총괄(수정금지)2025'!K13 -> 52044320 | F39: ='총괄(수정금지)2025'!L13 -> 49884690 | G39: =F39-E39 -> -2159630
C40: 사회보험부담금 | E40: ='총괄(수정금지)2025'!K14 -> 65970330 | F40: ='총괄(수정금지)2025'!L14 -> 64208880 | G40: =F40-E40 -> -1761450
C41: 기타후생경비 | E41: ='총괄(수정금지)2025'!K15 -> 100000 | F41: ='총괄(수정금지)2025'!L15 -> 100000 | G41: =F41-E41 -> 0
...

Sheet 법인의안)본예산_세입세출총괄표(25.3차)
A1: 세입 | F1: 세출
A2: 항목 | B2: ='총괄(수정금지)2025'!D5 -> 2025년 2차 | C2: ='총괄(수정금지)2025'!E5 -> 2025년 3차 | D2: 증감(B-A) | F2: 항목 | G2: ='총괄(수정금지)2025'!K5 -> 2025년 2차 | H2: ='총괄(수정금지)2025'!L5 -> 2025년 3차 | I2: 증감(B-A)
D3: 금액 | E3: 비율(%) | I3: 금액 | J3: 비율(%)
A4: 총 계 | B4: =SUM(B5:B10) -> 1803956576 | C4: =SUM(C5:C10) -> 1713261576 | D4: =SUM(D5:D10) -> -90695000 | E4: =D4/B4 -> -0.0502756 | F4: 총 계 | G4: =SUM(G5:G11) -> 1803956576 | H4: =SUM(H5:H11) -> 1713261576 | I4: =SUM(I5:I11) -> -90695000 | J4: =I4/G4 -> -0.0502756 | K4: =B4-G4 -> 0 | L4: =C4-'총괄(수정금지)2025'!E7 -> 0 | M4: =D4-'총괄(수정금지)2025'!F7 -> 0 | N4: =D4-I4 -> 0
A5: 사업수입 | B5: =SUM('총괄(수정금지)2025'!D8) -> 18340000 | C5: =SUM('총괄(수정금지)2025'!E8) -> 14090000 | D5: =SUM('총괄(수정금지)2025'!F8) -> -4250000 | E5: =D5/B5 -> -0.23173391 | F5: 인건비 | G5: ='총괄(수정금지)2025'!K8 -> 718646450 | H5: ='총괄(수정금지)2025'!L8 -> 700809770 | I5: ='총괄(수정금지)2025'!M8 -> -17836680 | J5: =I5/G5 -> -0.024819826 | K5: =G4-'총괄(수정금지)2025'!K7 -> 0 | L5: =H4-'총괄(수정금지)2025'!L7 -> 0 | M5: =I4-'총괄(수정금지)2025'!M7 -> 0
A6: 보조금수입 | B6: ='총괄(수정금지)2025'!D27 -> 1394578000 | C6: ='총괄(수정금지)2025'!E27 -> 1370523000 | D6: ='총괄(수정금지)2025'!F27 -> -24055000 | E6: =D6/B6 -> -0.017248946 | F6: 업무추진비 | G6: ='총괄(수정금지)2025'!K16 -> 12060000 | H6: ='총괄(수정금지)2025'!L16 -> 7560000 | I6: ='총괄(수정금지)2025'!M16 -> -4500000 | J6: =I6/G6 -> -0.37313433
A7: 후원금수입 | B7: ='총괄(수정금지)2025'!D33 -> 258100000 | C7: ='총괄(수정금지)2025'!E33 -> 195580000 | D7: ='총괄(수정금지)2025'!F33 -> -62520000 | E7: =D7/B7 -> -0.24223169 | F7: 운영비 | G7: ='총괄(수정금지)2025'!K21 -> 89594149 | H7: ='총괄(수정금지)2025'!L21 -> 83264149 | I7: ='총괄(수정금지)2025'!M21 -> -6330000 | J7: =I7/G7 -> -0.070651935
A8: 법인전입금 | B8: ='총괄(수정금지)2025'!D39 -> 30000000 | C8: ='총괄(수정금지)2025'!E39 -> 30000000 | D8: ='총괄(수정금지)2025'!F39 -> 0 | E8: =D8/B8 -> 0 | F8: 시설비 | G8: ='총괄(수정금지)2025'!K30 -> 20500000 | H8: ='총괄(수정금지)2025'!L30 -> 10200000 | I8: ='총괄(수정금지)2025'!M30 -> -10300000 | J8: =I8/G8 -> -0.50243902
A9: 이월금 | B9: ='총괄(수정금지)2025'!D45 -> 95138576 | C9: ='총괄(수정금지)2025'!E45 -> 95138576 | D9: ='총괄(수정금지)2025'!F45 -> 0 | E9: =D9/B9 -> 0 | F9: 사업비 | G9: ='총괄(수정금지)2025'!K36 -> 939955977 | H9: ='총괄(수정금지)2025'!L36 -> 891585977 | I9: ='총괄(수정금지)2025'!M36 -> -48370000 | J9: =I9/G9 -> -0.051459857
