Workbook

Sheet 보수일람표(수정금지)
A1: 2024년 심곡동종합사회복지관 임직원 보수일람표
R2: (단위:원)
A3: 순위 | B3: 직위 | C3: 성명 | D3: 호봉 | E3: 개월 | F3: 기본급 | G3: 기본급*개월 | H3: 기본급*개월수 생활임금 | I3: 제수당 | O3: 인건비 소계(A) | P3: 퇴직적립금 (B) | Q3: 사회보험공제액 (생활임금포함) (C) | R3: 인건비합산 (A+B+C)
I4: 명절휴가비 | J4: 시간외 근무수당 | K4: 가족수당 | L4: 직책수당 | M4: 관리자수당 | N4: 연가보상비
G5: 507562200 | H5: 7701650 | I5: 50552340 | J5: 10920000 | K5: 7360000 | L5: 4800000 | M5: 3600000 | N5: 8420300 | O5: 600916490 | P5: 50076520 | Q5: 53623590 | R5: 704616600
A6: 1 | B6: 관장 | C6: 연정준 | D6: 4 | E6: 3 | F6: 3100400 | G6: 9301200 | H6: - | I6: 1860240 | J6: - | K6: - | L6: - | M6: 900000 | O6: 12061440 | P6: 1005120 | Q6: 4238000 | R6: 54528020
D7: 5 | E7: 9 | F7: 3227600 | G7: 29048400 | H7: - | I7: 1936560 | J7: - | M7: 2700000 | N7: 675150 | O7: 34360110 | P7: 2863350
A8: 2 | B8: 부장 | C8: 이지완 | D8: 23 | E8: 12 | F8: 4585800 | G8: 55029600 | H8: - | I8: 5502960 | J8: 840000 | K8: 480000 | L8: 1200000 | N8: 915950 | O8: 63968510 | P8: 5330710 | Q8: 5757250 | R8: 75056470
A9: 3 | B9: 과장 | C9: 장윤희 | D9: 12 | E9: 2 | F9: 3421800 | G9: 6843600 | H9: - | I9: 2053080 | J9: 140000 | K9: 40000 | L9: 200000 | O9: 9276680 | P9: 773060 | Q9: 4407810 | R9: 57545170
D10: 13 | E10: 10 | F10: 3507800 | G10: 35078000 | H10: - | I10: 2104680 | J10: 700000 | K10: 200000 | L10: 1000000 | N10: 690500 | O10: 39773180 | P10: 3314440
A11: 4 | B11: 선임 사회복지사 | C11: 이주연 | D11: 18 | E11: 11 | F11: 3541900 | G11: 38960900 | H11: - | I11: 4250280 | J11: 770000 | K11: 1540000 | L11: 550000 | O11: 46071180 | P11: 3839270 | Q11: 4489980 | R11: 59340710
D12: 19 | E12: 1 | F12: 3601400 | G12: 3601400 | H12: - | I12: - | J12: 70000 | K12: 140000 | L12: 50000 | N12: 698850 | O12: 4560250 | P12: 380030
A13: 5 | B13: 선임 사회복지사 | C13: 이수준 | D13: 13 | E13: 7 | F13: 3190400 | G13: 22332800 | H13: - | I13: 1914240 | J13: 490000 | K13: 280000 | L13: 350000 | O13: 25367040 | P13: 2113920 | Q13: 4026650 | R13: 52881840
D14: 14 | E14: 5 | F14: 3267000 | G14: 16335000 | H14: - | I14: 1960200 | J14: 350000 | K14: 200000 | L14: 250000 | N14: 634850 | O14: 19730050 | P14: 1644180
A15: 6 | B15: 선임 사회복지사 | C15: 이성국 | D15: 12 | E15: 5 | F15: 3120100 | G15: 15600500 | H15: - | I15: 1872060 | J15: 350000 | K15: 350000 | L15: 250000 | O15: 18422560 | P15: 1535220 | Q15: 3986700 | R15: 52324830
D16: 13 | E16: 7 | F16: 3190400 | G16: 22332800 | H16: - | I16: 1914240 | J16: 490000 | K16: 490000 | L16: 350000 | N16: 620200 | O16: 26197240 | P16: 2183110
A17: 7 | B17: 선임 사회복지사 | C17: 안은빈 | D17: 12 | E17: 5 | F17: 3120100 | G17: 15600500 | H17: - | I17: 1872060 | J17: 350000 | K17: 350000 | L17: 250000 | O17: 18422560 | P17: 1535220 | Q17: 3986700 | R17: 52324830
D18: 13 | E18: 7 | F18: 3190400 | G18: 22332800 | H18: - | I18: 1914240 | J18: 490000 | K18: 490000 | L18: 350000 | N18: 620200 | O18: 26197240 | P18: 2183110
A19: 8 | B19: 선임 사회복지사 | C19: 박지현 | D19: 7 | E19: 2 | F19: 2641000 | G19: 5282000 | H19: - | I19: 1584600 | J19: 140000 | K19: - | L19: - | O19: 7006600 | P19: 583890 | Q19: 3319490 | R19: 43673910
D20: 8 | E20: 10 | F20: 2737700 | G20: 27377000 | H20: - | I20: 1642620 | J20: 700000 | K20: - | L20: - | N20: 524000 | O20: 30243620 | P20: 2520310
A21: 9 | B21: 선임 사회복지사 | C21: 이수정 | D21: 6 | E21: 2 | F21: 2549300 | G21: 5098600 | H21: - | I21: 1529580 | J21: 140000 | K21: 80000 | L21: - | O21: 6848180 | P21: 570690 | Q21: 3252350 | R21: 42738000
D22: 7 | E22: 10 | F22: 2641000 | G22: 26410000 | H22: - | I22: 1584600 | J22: 700000 | K22: 400000 | L22: - | N22: 505500 | O22: 29600100 | P22: 2466680
A23: 10 | B23: 사회복지사 | C23: 유현화 | D23: 1 | E23: 9 | F23: 2140300 | G23: 19262700 | H23: 2765070 | I23: 2568360 | J23: 630000 | K23: 360000 | L23: - | O23: 25586130 | P23: 2132180 | Q23: 2974360 | R23: 39512810
D24: 2 | E24: 3 | F24: 2180200 | G24: 6540600 | H24: 802560 | I24: - | J24: 210000 | K24: 120000 | L24: - | N24: 468500 | O24: 8141660 | P24: 678480
A25: 11 | B25: 선임 사회복지사 | C25: 이혜경 | D25: 16 | E25: 9 | F25: 3411300 | G25: 30701700 | H25: - | I25: 4093560 | J25: 630000 | K25: 630000 | L25: - | O25: 36055260 | P25: 3004610 | Q25: 4183810 | R25: 55722660
D26: 17 | E26: 3 | F26: 3477800 | G26: 10433400 | H26: - | I26: - | J26: 210000 | K26: 210000 | L26: - | N26: 665650 | O26: 11519050 | P26: 959930
A27: 12 | B27: 사회복지사 | C27: 김지윤 | D27: 5 | E27: 10 | F27: 2321900 | G27: 23219000 | H27: 1274900 | I27: 2786280 | J27: 700000 | K27: 380000 | L27: - | O27: 28360180 | P27: 2363350 | Q27: 2992560 | R27: 39766470
D28: 6 | E28: 2 | F28: 2381300 | G28: 4762600 | H28: 133760 | I28: - | J28: 140000 | K28: 80000 | L28: - | N28: 468600 | O28: 5584960 | P28: 465420
A29: 13 | B29: 사회복지사 | C29: 박진호 | D29: 6 | E29: 10 | F29: 2381300 | G29: 23813000 | H29: 668800 | I29: 2857560 | J29: 700000 | K29: 460000 | L29: - | O29: 28499360 | P29: 2374950 | Q29: 3058150 | R29: 40030760
D30: 7 | E30: 2 | F30: 2470200 | G30: 4940400 | H30: - | I30: - | J30: 140000 | K30: 80000 | L30: - | N30: 468800 | O30: 5629200 | P30: 469100
A31: 14 | B31: 사회복지사 | C31: 이소연 | D31: 4 | E31: 9 | F31: 2262000 | G31: 20358000 | H31: 1674090 | I31: 1357200 | J31: 630000 | K31: - | L31: - | O31: 24019290 | P31: 2001610 | Q31: 2949780 | R31: 39170120
D32: 5 | E32: 3 | F32: 2321900 | G32: 6965700 | H32: 382470 | I32: 1393140 | J32: 210000 | K32: - | L32: - | N32: 463550 | O32: 9414860 | P32: 784580
A38: 2024년 심곡동종합사회복지관 임직원 보수일람표(수정)
R39: (단위:원)
A40: 순위 | B40: 직위 | C40: 성명 | D40: 호봉 | E40: 개월 | F40: 기본급 | G40: 기본급*개월 | H40: 기본급*개월수 생활임금 | I40: 제수당 | O40: 인건비 소계(A) | P40: 퇴직적립금 (B) | Q40: 사회보험공제액 (생활임금포함) (C) | R40: 인건비합산 (A+B+C)
I41: 명절휴가비 | J41: 시간외 근무수당 | K41: 가족수당 | L41: 직책수당 | M41: 관리자수당 | N41: 연가보상비
G42: 481514570 | H42: 17597030 | I42: 49069680 | J42: 10850000 | K42: 7347800 | L42: 4800000 | M42: 3600000 | N42: 8130250 | O42: 582909330 | P42: 50111450 | Q42: 52869550 | R42: 695124330
A43: 1 | B43: 관장 | C43: 연정준 | D43: 4 | E43: 3 | F43: 3100400 | G43: 9301200 | H43: - | I43: 1860240 | J43: - | K43: - | L43: - | M43: 900000 | O43: 12061440 | P43: 1005120 | Q43: 4238000 | R43: 54528020
D44: 5 | E44: 9 | F44: 3227600 | G44: 29048400 | H44: - | I44: 1936560 | J44: - | M44: 2700000 | N44: 675150 | O44: 34360110 | P44: 2863350
A45: 2 | B45: 부장 | C45: 이지완 | D45: 23 | E45: 12 | F45: 4585800 | G45: 55029600 | H45: - | I45: 5502960 | J45: 840000 | K45: 480000 | L45: 1200000 | N45: 915950 | O45: 63968510 | P45: 5330710 | Q45: 5757250 | R45: 75056470
A46: 3 | B46: 과장 | C46: 장윤희 | D46: 12 | E46: 2 | F46: 3421800 | G46: 6843600 | H46: - | I46: 2053080 | J46: 140000 | K46: 40000 | L46: 200000 | O46: 9276680 | P46: 773060 | Q46: 4407810 | R46: 57545170
D47: 13 | E47: 10 | F47: 3507800 | G47: 35078000 | H47: - | I47: 2104680 | J47: 700000 | K47: 200000 | L47: 1000000 | N47: 690500 | O47: 39773180 | P47: 3314440
A48: 4 | B48: 선임 사회복지사 | C48: 이주연 | D48: 18 | E48: 11 | F48: 3541900 | G48: 38960900 | H48: - | I48: 4250280 | J48: 770000 | K48: 1540000 | L48: 550000 | O48: 46071180 | P48: 3839270 | Q48: 4489980 | R48: 59340710
D49: 19 | E49: 1 | F49: 3601400 | G49: 3601400 | H49: - | I49: - | J49: 70000 | K49: 140000 | L49: 50000 | N49: 698850 | O49: 4560250 | P49: 380030
A50: 5 | B50: 선임 사회복지사 | C50: 이수준 | D50: 13 | E50: 7 | F50: 3190400 | G50: 22332800 | H50: - | I50: 1914240 | J50: 490000 | K50: 280000 | L50: 350000 | O50: 25367040 | P50: 2113920 | Q50: 4026650 | R50: 52881840
D51: 14 | E51: 5 | F51: 3267000 | G51: 16335000 | H51: - | I51: 1960200 | J51: 350000 | K51: 200000 | L51: 250000 | N51: 634850 | O51: 19730050 | P51: 1644180
A52: 6 | B52: 선임 사회복지사 | C52: 이성국 | D52: 12 | E52: 5 | F52: 3120100 | G52: 15600500 | H52: - | I52: 1872060 | J52: 350000 | K52: 350000 | L52: 250000 | O52: 18422560 | P52: 1535220 | Q52: 3986700 | R52: 52324830
D53: 13 | E53: 7 | F53: 3190400 | G53: 22332800 | H53: - | I53: 1914240 | J53: 490000 | K53: 490000 | L53: 350000 | N53: 620200 | O53: 26197240 | P53: 2183110
A54: 7 | B54: 선임 사회복지사 | C54: 안은빈 | D54: 12 | E54: 5 | F54: 3120100 | G54: 15600500 | H54: - | I54: 1872060 | J54: 350000 | K54: 350000 | L54: 250000 | O54: 18422560 | P54: 1535220 | Q54: 3986700 | R54: 52324830
D55: 13 | E55: 7 | F55: 3190400 | G55: 22332800 | H55: - | I55: 1914240 | J55: 490000 | K55: 490000 | L55: 350000 | N55: 620200 | O55: 26197240 | P55: 2183110
A56: 8 | B56: 선임 사회복지사 | C56: 박지현 | D56: 7 | E56: 2 | F56: 2641000 | G56: 5282000 | H56: - | I56: 1584600 | J56: 140000 | K56: - | L56: - | O56: 7006600 | P56: 583890 | Q56: 787520 | R56: 8378010
A57: 9 | B57: 선임 사회복지사 | C57: 이수정 | D57: 6 | E57: 2 | F57: 2549300 | G57: 5098600 | H57: - | I57: 1529580 | J57: 140000 | K57: 80000 | L57: - | O57: 6848180 | P57: 570690 | Q57: 998710 | R57: 11322000
D58: 7 | E58: 1 | F58: 2641000 | G58: 2641000 | H58: - | K58: 40000 | L58: - | O58: 2681000 | P58: 223420
A59: 10 | B59: 사회복지사 | C59: 유현화 | D59: 1 | E59: 8 | F59: 2140300 | G59: 17122400 | H59: 2457840 | I59: 2568360 | J59: 560000 | K59: 320000 | L59: - | O59: 23028600 | P59: 1919050 | Q59: 2974380 | R59: 39513030
D60: 2 | E60: 4 | F60: 2180200 | G60: 8720800 | H60: 1070080 | I60: - | J60: 280000 | K60: 160000 | L60: - | N60: 468500 | O60: 10699380 | P60: 891620
A61: 11 | B61: 선임 사회복지사 | C61: 이혜경 | D61: 16 | E61: 2 | F61: 3411300 | G61: 6822600 | H61: - | I61: 2046780 | J61: 140000 | K61: 140000 | L61: - | O61: 9149380 | P61: 762450 | Q61: 966910 | R61: 10878740
A62: 12 | B62: 사회복지사 | C62: 김지윤 | D62: 5 | E62: 4 | F62: 2321900 | G62: 9287600 | H62: 509960 | I62: 1393140 | J62: 280000 | K62: 140000 | L62: - | O62: 11610700 | P62: 967560 | Q62: 1122740 | R62: 13701000
A63: 13 | B63: 사회복지사 | C63: 박진호 | D63: 6 | E63: 3 | F63: 2381300 | G63: 7143900 | H63: 200640 | I63: 1428780 | J63: 210000 | K63: 180000 | L63: - | O63: 9163320 | P63: 763610 | Q63: 968080 | R63: 10895010
A64: 14 | B64: 사회복지사 | C64: 이소연 | D64: 4 | E64: 9 | F64: 2262000 | G64: 20358000 | H64: 1674090 | I64: 1357200 | J64: 630000 | K64: - | L64: - | O64: 24019290 | P64: 2001610 | Q64: 2949780 | R64: 39170120
D65: 5 | E65: 3 | F65: 2321900 | G65: 6965700 | H65: 382470 | I65: 1393140 | J65: 210000 | K65: - | L65: - | N65: 463550 | O65: 9414860 | P65: 784580
A66: 15 | B66: 사회복지사 | C66: 김민지 | D66: 1 | E66: 1 | F66: 1933180 | G66: 1933180 | H66: 277500 | J66: 70000 | O66: 2280680 | P66: 190060 | Q66: 2387340 | R66: 31329710
D67: 1 | E67: 4 | F67: 2140300 | G67: 8561200 | H67: 1228920 | J67: 280000 | O67: 10070120 | P67: 839180
D68: 2 | E68: 5 | F68: 2180200 | G68: 10901000 | H68: 1337600 | I68: 1308120 | J68: 350000 | N68: 468500 | O68: 14365220 | P68: 1197110
A69: 16 | B69: 사회복지사 | C69: 이은진 | D69: 3 | E69: 1 | F69: 2004990 | G69: 2004990 | H69: 205770 | J69: 70000 | K69: 126460 | O69: 2407220 | P69: 200610 | Q69: 2505390 | R69: 32975280
D70: 3 | E70: 9 | F70: 2219800 | G70: 19978200 | H70: 2050290 | I70: 1331880 | J70: 630000 | K70: 1260000 | N70: 468450 | O70: 25718820 | P70: 2143240
A71: 17 | B71: 사회복지사 | C71: 이승준 | D71: 3 | E71: 6 | F71: 2219800 | G71: 13318800 | H71: 1366860 | I71: 1331880 | J71: 420000 | O71: 16437540 | P71: 1369800 | Q71: 2198480 | R71: 37930950
D72: 4 | E72: 3 | F72: 2262000 | G72: 6786000 | H72: 558030 | J72: 210000 | N72: 468550 | O72: 8022580 | P72: 668550
A73: 18 | B73: 사회복지사 | C73: 최수민 | D73: 1 | E73: 1 | F73: 1141500 | G73: 1141500 | H73: 163860 | J73: 70000 | K73: 21340 | O73: 1396700 | P73: 1651900 | Q73: 2127270 | R73: 29239820
D74: 1 | E74: 8 | F74: 2140300 | G74: 17122400 | H74: 2457840 | I74: 1284180 | J74: 560000 | K74: 320000 | N74: 468450 | O74: 22212870 | P74: 1851080
A75: 19 | B75: 사회복지사 | C75: 조희진 | D75: 3 | E75: 4 | F75: 2219800 | G75: 8879200 | H75: 911240 | J75: 280000 | O75: 10070440 | P75: 839210 | Q75: 1989860 | R75: 25788790
D76: 4 | E76: 4 | F76: 2262000 | G76: 9048000 | H76: 744040 | I76: 1357200 | J76: 280000 | N76: 468550 | O76: 11897790 | P76: 991490

Sheet 총괄(수정금지)
A1: 2024년 심곡동종합사회복지관 4차 추경예산서
A2: (심곡동종합사회복지관)
A3: <별지 제6호 서식> (1)세입세출 총괄 | L3: 제출일자 : 2024.12 (단위: 원)
A4: 세 입 | H4: 세 출
A5: 관 | B5: 항 | C5: 목 | D5: 2024년 3차 | E5: 2024년 4차 | F5: 증감(B)-(A) | H5: 관 | I5: 항 | J5: 목 | K5: 2024년 3차 | L5: 2024년 4차 | M5: 증감(B)-(A)
D6: (A) | E6: (B) | F6: 액수 | G6: 비율 | K6: (A) | L6: (B) | N6: 비율
A7: 계 | D7: =SUM(D27,D33,D39,D45,D8,D57) -> 1831214498 | E7: =SUM(E27,E33,E39,E45,E8,E57) -> 1790788608 | F7: =E7-D7 -> -40425890 | G7: =F7/D7 -> -0.022075999 | H7: 계 | J7: =SUM(J8,J16,J21,J30,J36,J55,J62) -> 0.99988832 | K7: =SUM(K8+K16+K21+K30+K36+K55+K58+K62) -> 1831214498 | L7: =SUM(L8+L16+L21+L30+L36+L55+L58+L62) -> 1790788608 | M7: =L7-K7 -> -40425890 | N7: =M7/K7 -> -0.022075999 | O7: =L7-E7 -> 0
A8: 사업수입 | B8: 소계 | D8: =SUM(D10:D21) -> 18080000 | E8: =SUM(E10:E21) -> 16945000 | F8: =E8-D8 -> -1135000 | G8: =F8/D8 -> -0.062776549 | H8: 사무비 | I8: 소계 | J8: =L8/L7 -> 0.37790884 | K8: =SUM(K10:K15) -> 692485050 | L8: =SUM(L10:L15) -> 676754850 | M8: =SUM(M10:M15) -> -15730200 | N8: =M8/K8 -> -0.022715581
B10: 사업수입 | C10: 가족기능강화 사업수입 | D10: =SUM(세입1!G6) -> 6600000 | E10: =SUM(세입1!H6) -> 6765000 | F10: =E10-D10 -> 165000 | G10: =F10/D10 -> 0.025 | I10: 인건비 | J10: 급여 | K10: =SUM(세출1!G7) -> 495605580 | L10: =SUM(세출1!H7) -> 490312200 | M10: =L10-K10 -> -5293380 | N10: =M10/K10 -> -0.01068063
J12: 제수당 | K12: =SUM(세출1!G53) -> 83362110 | L12: =SUM(세출1!H53) -> 74783480 | M12: =L12-K12 -> -8578630 | N12: =M12/K12 -> -0.10290802
J13: 퇴직금 및 퇴직적립금 | K13: =SUM(세출1!G95) -> 49931490 | L13: =SUM(세출1!O95) -> 49750280 | M13: =L13-K13 -> -181210 | N13: =M13/K13 -> -0.0036291727
C14: 지역사회보호 사업수입 | D14: =SUM(세입1!G12) -> 7680000 | E14: =SUM(세입1!H12) -> 7680000 | F14: =E14-D14 -> 0 | G14: =F14/D14 -> 0 | J14: 사회보험부담금 | K14: =SUM(세출1!G99) -> 63485870 | L14: =SUM(세출1!H99) -> 61808890 | M14: =L14-K14 -> -1676980 | N14: =M14/K14 -> -0.026415012
J15: 기타후생경비 | K15: =SUM(세출1!G105) -> 100000 | L15: =SUM(세출1!H105) -> 100000 | M15: =L15-K15 -> 0 | N15: =M15/K15 -> 0
I16: 소계 | J16: =L16/L7 -> 0.0067344632 | K16: =SUM(K18:K20) -> 12060000 | L16: =SUM(L18:L20) -> 12060000 | M16: =SUM(L16-K16) -> 0 | N16: =M16/K16 -> 0
C17: 복지네트워크구축 사업수입 | D17: =SUM(세입1!G16) -> 1000000 | E17: =SUM(세입1!H16) -> 1000000 | F17: =SUM(세입1!I16) -> 0 | G17: =F17/D17 -> 0
I18: 업무추진비 | J18: 기관운영비 | K18: =SUM(세출1!G111) -> 8500000 | L18: =SUM(세출1!O111) -> 8500000 | M18: =SUM(L18-K18) -> 0 | N18: =M18/K18 -> 0
C19: 교육문화 사업수입 | D19: =세입1!G20 -> 2800000 | E19: =세입1!H20 -> 1500000 | F19: =세입1!I20 -> -1300000 | G19: =F19/D19 -> -0.46428571 | J19: 직책보조비 | K19: =SUM(세출1!G113) -> 1500000 | L19: =SUM(세출1!O113) -> 1500000 | M19: =SUM(L19-K19) -> 0 | N19: =M19/K19 -> 0
J20: 회의비 | K20: =SUM(세출1!G115) -> 2060000 | L20: =SUM(세출1!O115) -> 2060000 | M20: =SUM(L20-K20) -> 0 | N20: =M20/K20 -> 0
I21: 소계 | J21: =L21/L7 -> 0.050074904 | K21: =SUM(K23:K29) -> 86280898 | L21: =SUM(L23:L29) -> 89673568 | M21: =SUM(L21-K21) -> 3392670 | N21: =M21/K21 -> 0.039321218
A22: 과년도 수입 | B22: 소계 | D22: =SUM(D24) -> 0 | E22: =SUM(E24) -> 0 | F22: =E22-D22 -> 0 | G22: 0
I23: 운영비 | J23: 여비 | K23: =SUM(세출1!G121) -> 400000 | L23: =SUM(세출1!H121) -> 400000 | M23: =SUM(L23-K23) -> 0 | N23: =M23/K23 -> 0
B24: 과년도수입 | C24: 과년도수입 | D24: =SUM(세입1!G27) -> 0 | E24: =SUM(세입1!H27) -> 0 | F24: =E24-D24 -> 0 | G24: 0 | J24: 수용비및수수료 | K24: =SUM(세출1!G123) -> 27860898 | L24: =SUM(세출1!H123) -> 40203568 | M24: =SUM(L24-K24) -> 12342670 | N24: =M24/K24 -> 0.44301049
J25: 공공요금 | K25: =SUM(세출1!G131) -> 22240000 | L25: =SUM(세출1!H131) -> 19500000 | M25: =SUM(L25-K25) -> -2740000 | N25: =M25/K25 -> -0.12320144
J26: 제세공과금 | K26: =SUM(세출1!G137) -> 8000000 | L26: =SUM(세출1!H137) -> 7600000 | M26: =SUM(L26-K26) -> -400000 | N26: =M26/K26 -> -0.05
A27: 보조금 수입 | B27: 소계 | D27: =SUM(D29:D32) -> 1443948060 | E27: =SUM(E29:E32) -> 1438637170 | F27: =E27-D27 -> -5310890 | G27: =F27/D27 -> -0.003678034 | J27: 차량비 | K27: =SUM(세출1!G141) -> 4800000 | L27: =SUM(세출1!H141) -> 4140000 | M27: =SUM(L27-K27) -> -660000 | N27: =M27/K27 -> -0.1375
J28: 연료비 | K28: =SUM(세출1!G145) -> 3500000 | L28: =SUM(세출1!H145) -> 2400000 | M28: =SUM(L28-K28) -> -1100000 | N28: =M28/K28 -> -0.31428571
B29: 보조금수입 | C29: 시군구보조금 | D29: =SUM(세입1!G30) -> 736912000 | E29: =SUM(세입1!H30) -> 736912000 | F29: =E29-D29 -> 0 | G29: =F29/D29 -> 0 | J29: 기타운영비 | K29: =SUM(세출1!G147) -> 19480000 | L29: =SUM(세출1!H147) -> 15430000 | M29: =SUM(L29-K29) -> -4050000 | N29: =M29/K29 -> -0.20790554
H30: 재산 조성비 | I30: 소계 | J30: =L30/L7 -> 0.0092138178 | K30: =SUM(K33:K35) -> 22500000 | L30: =SUM(L33:L35) -> 16500000 | M30: =SUM(L30-K30) -> -6000000 | N30: =M30/K30 -> -0.26666667
C31: 기타보조금 | D31: =SUM(세입1!G32) -> 707036060 | E31: =SUM(세입1!H32) -> 701725170 | F31: =E31-D31 -> -5310890 | G31: =F31/D31 -> -0.0075114839
A33: 후원금 수입 | B33: 소계 | D33: =SUM(D35:D38) -> 253670000 | E33: =SUM(E35:E38) -> 218690000 | F33: =E33-D33 -> -34980000 | G33: =F33/D33 -> -0.13789569 | I33: 시설비 | J33: 시설비 | K33: =SUM(세출1!G157) -> 5000000 | L33: =SUM(세출1!H157) -> 2000000 | M33: =SUM(L33-K33) -> -3000000 | N33: =M33/K33 -> -0.6
J34: 자산취득비 | K34: =SUM(세출1!G158) -> 2500000 | L34: =SUM(세출1!H158) -> 2500000 | M34: =SUM(L34-K34) -> 0 | N34: =M34/K34 -> 0
B35: 후원금수입 | C35: 지정후원금 | D35: =SUM(세입1!G51) -> 198670000 | E35: =SUM(세입1!H51) -> 168690000 | F35: =E35-D35 -> -29980000 | G35: =F35/D35 -> -0.15090351 | J35: 시설장비유지비 | K35: =SUM(세출1!G161) -> 15000000 | L35: =SUM(세출1!H161) -> 12000000 | M35: =SUM(L35-K35) -> -3000000 | N35: =M35/K35 -> -0.2
H36: 사업비 | I36: 소계 | J36: =L36/L7 -> 0.54992543 | K36: =SUM(K39:K54) -> 1006888550 | L36: =SUM(L39:L54) -> 984800190 | M36: =SUM(M39:M54) -> -22088360 | N36: =SUM(M36/K36) -> -0.021937244
C37: 비지정후원금 | D37: =SUM(세입1!G86) -> 55000000 | E37: =SUM(세입1!H86) -> 50000000 | F37: =E37-D37 -> -5000000 | G37: =F37/D37 -> -0.090909091
A39: 전입금 | B39: 소계 | D39: =SUM(D41:D44) -> 34000000 | E39: =SUM(E41:E44) -> 34000000 | F39: =E39-D39 -> 0 | G39: =F39/D39 -> 0 | I39: 사업비 (사례관리기능) | J39: 사례발굴사업비 | K39: =SUM(세출1!G168) -> 1000000 | L39: =SUM(세출1!H168) -> 500000 | M39: =SUM(L39-K39) -> -500000 | N39: =M39/K39 -> -0.5
J40: 사례개입사업비 | K40: =SUM(세출1!G171) -> 7700000 | L40: =SUM(세출1!H171) -> 8220000 | M40: =SUM(L40-K40) -> 520000 | N40: =M40/K40 -> 0.067532468
B41: 전입금 | C41: 법인전입금 | D41: =SUM(세입1!G89) -> 30000000 | E41: =SUM(세입1!H89) -> 30000000 | F41: =E41-D41 -> 0 | G41: =F41/D41 -> 0 | J41: 서비스연계사업비 | K41: =SUM(세출1!G178) -> 27850000 | L41: =SUM(세출1!H178) -> 26750000 | M41: =SUM(L41-K41) -> -1100000 | N41: =M41/K41 -> -0.039497307
I42: 사업비 (서비스제공기능사업) | J42: 가족기능강화사업비 | K42: =SUM(세출1!G208) -> 16920000 | L42: =SUM(세출1!H208) -> 12795000 | M42: =L42-K42 -> -4125000 | N42: =M42/K42 -> -0.24379433
C43: 법인전입금(후원금) | D43: =SUM(세입1!G90) -> 4000000 | E43: =SUM(세입1!H90) -> 4000000 | F43: =E43-D43 -> 0 | G43: 0 | J43: 지역사회보호사업비 | K43: =SUM(세출1!G219) -> 518965000 | L43: =SUM(세출1!H219) -> 510336840 | M43: =L43-K43 -> -8628160 | N43: =M43/K43 -> -0.016625707
J44: 교육문화사업비 | K44: =SUM(세출1!G264) -> 10103000 | L44: =SUM(세출1!H264) -> 8847800 | M44: =L44-K44 -> -1255200 | N44: =M44/K44 -> -0.12424032
A45: 이월금 | B45: 소계 | D45: =SUM(D48:D55) -> 74716438 | E45: =SUM(E48:E56) -> 74716438 | F45: =E45-D45 -> 0 | G45: =F45/D45 -> 0 | J45: 자활지원등기타사업비 | K45: =SUM(세출1!G277) -> 4100000 | L45: =SUM(세출1!O277) -> 2600000 | M45: =L45-K45 -> -1500000 | N45: =M45/K45 -> -0.36585366
I46: 사업비 (지역사회조직화기능) | J46: 복지네트워크구축사업 | K46: =SUM(세출1!G292) -> 1900000 | L46: =SUM(세출1!H292) -> 2400000 | M46: =L46-K46 -> 500000 | N46: =M46/K46 -> 0.26315789
J47: 주민조직화사업 | K47: =SUM(세출1!G307) -> 71760000 | L47: =SUM(세출1!H307) -> 70060000 | M47: =L47-K47 -> -1700000 | N47: =M47/K47 -> -0.023690078
B48: 이월금 | C48: 전년도이월금 | D48: =SUM(세입1!G92) -> 19420397 | E48: =SUM(세입1!H92) -> 19420397 | F48: =E48-D48 -> 0 | G48: =F48/D48 -> 0 | J48: 자원개발및관리사업비 | K48: =SUM(세출1!G347) -> 17500000 | L48: =SUM(세출1!H347) -> 13200000 | M48: =L48-K48 -> -4300000 | N48: =M48/K48 -> -0.24571429
I49: 사업비 | J49: 푸드뱅크 | K49: =SUM(세출1!G375) -> 47049000 | L49: =SUM(세출1!H375) -> 47049000 | M49: =L49-K49 -> 0 | N49: =M49/K49 -> 0
J50: 푸드뱅크(G푸드드림) | K50: =SUM(세출1!G419) -> 35100000 | L50: =SUM(세출1!H419) -> 35100000 | M50: =L50-K50 -> 0 | N50: =M50/K50 -> 0
C51: 전년도이월금(후원금) | D51: =SUM(세입1!G98) -> 25720670 | E51: =SUM(세입1!H98) -> 25720670 | F51: =E51-D51 -> 0 | G51: =SUM(F51/D51) -> 0 | J51: 푸드마켓 | K51: =SUM(세출1!G440) -> 122156490 | L51: =SUM(세출1!H440) -> 122156490 | M51: =L51-K51 -> 0 | N51: =M51/K51 -> 0
J52: 무한돌봄네트워크 | K52: =SUM(세출1!G514) -> 44285060 | L52: =SUM(세출1!H514) -> 44285060 | M52: =L52-K52 -> 0 | N52: =M52/K52 -> 0
J53: 커뮤니티케어센터 | K53: =SUM(세출1!G548) -> 45400000 | L53: =SUM(세출1!H548) -> 45400000 | M53: =L53-K53 -> 0 | N53: =M53/K53 -> 0
J54: 푸드마켓(G푸드드림) | K54: =SUM(세출1!G495) -> 35100000 | L54: =SUM(세출1!H495) -> 35100000 | M54: =L54-K54 -> 0 | N54: 1
C55: 이월사업비 | D55: =SUM(세입1!G100) -> 29575371 | E55: =SUM(세입1!H100) -> 29575371 | F55: =E55-D55 -> 0 | G55: =SUM(F55/D55) -> 0 | H55: 과년도 지출 | I55: 소계 | J55: =SUM(L55/L7) -> 0 | K55: =SUM(K57) -> 0 | L55: =SUM(L57) -> 0 | M55: =L55-K55 -> 0 | N55: 0
A57: 잡수입 | B57: 소계 | D57: =SUM(D59:D67) -> 6800000 | E57: =SUM(E59:E67) -> 7800000 | F57: =E57-D57 -> 1000000 | G57: =F57/D57 -> 0.14705882 | I57: 과년도지출 | J57: 과년도지출 | K57: =SUM(세출1!G363) -> 0 | L57: =SUM(세출1!H363) -> 0 | M57: =SUM(L57-K57) -> 0 | N57: 0
H58: 잡지출 | I58: 소계 | J58: =SUM(L58/L7) -> 0.00011168264 | K58: =SUM(K59) -> 200000 | L58: =SUM(L59) -> 200000 | M58: =L58-K58 -> 0 | N58: =M58/K58 -> 0
B59: 잡수입 | C59: 불용품매각대 | D59: =SUM(세입1!G111) -> 300000 | E59: =SUM(세입1!H111) -> 300000 | F59: =E59-D59 -> 0 | G59: =F59/D59 -> 0 | I59: 잡지출 | J59: 잡지출 | K59: =SUM(세출1!G365) -> 200000 | L59: =SUM(세출1!H365) -> 200000 | M59: =L59-K59 -> 0 | N59: =M59/K59 -> 0
H62: 예비비 및 기타 | I62: 소계 | J62: =L62/L7 -> 0.0060308626 | K62: =SUM(K64:K66) -> 10800000 | L62: =SUM(L64:L66) -> 10800000 | M62: =SUM(L62-K62) -> 0 | N62: =M62/K62 -> 0
C63: 기타예금이자수입 | D63: =SUM(세입1!G113) -> 900000 | E63: =SUM(세입1!H113) -> 900000 | F63: =E63-D63 -> 0 | G63: =F63/D63 -> 0
I64: 예비비및기타 | J64: 예비비 | K64: =SUM(세출1!G368) -> 3000000 | L64: =SUM(세출1!H368) -> 3000000 | M64: =SUM(L64-K64) -> 0 | N64: =M64/K64 -> 0
C65: 기타잡수입 | D65: =SUM(세입1!G117) -> 5600000 | E65: =SUM(세입1!H117) -> 6600000 | F65: =E65-D65 -> 1000000 | G65: =F65/D65 -> 0.17857143
J66: 반환금 | K66: =SUM(세출1!G370) -> 7800000 | L66: =SUM(세출1!H370) -> 7800000 | M66: =SUM(L66-K66) -> 0 | N66: =SUM(M66/K66) -> 0
K287: 7.주민모니터링단
O389: =SUM(O390:O394) -> 0
O390: =ROUNDUP((L390*M390),-1) -> 0
O391: =ROUNDUP((L391*M391),-1) -> 0
O393: =ROUNDUP((L393*M393),-1) -> 0
O394: =ROUNDUP((L394*M394),-1) -> 0
L415: 155695 | M415: 10 | O415: =SUM(L415*M415) -> 1556950
H422: =SUM(O422) -> 0
O423: =SUM(L423*M423) -> 0
O427: =SUM(L427*M427) -> 0

Sheet 세입1
A1: 2)세입내역
A2: 관 | C2: 항 | E2: 목 | G2: 2024년 3차 | H2: 2024년 4차 | I2: 증가(B)-(A) | K2: 2024년 4차예산 세부 내역 | Q2: *확인 및 작성 완료 후 = 노랑색 배경 *줄 추가 가능 = 반드시 수식 연결 할 것 *증감 있을 시 = 세목 부분 메모 삽입
G3: (A) | H3: (B) | I3: 액수 | J3: 비율
A4: 총계 | G4: =SUM(G5,G29,G50,G88,G91,G110) -> 1831214498 | H4: =SUM(H5,H29,H50,H88,H91,H110) -> 1790788608 | I4: =SUM(I5,I29,I50,I88,I91,I110) -> -40425890 | J4: =I4/G4 -> -0.022075999
A5: 01 | B5: 사업수입 | C5: 11 | D5: 사업수입 | E5: 소계 | G5: =SUM(G6,G12,G16,G20) -> 18080000 | H5: =SUM(H6,H12,H16,H20) -> 16945000 | I5: =SUM(I6,I12,I16,I20) -> -1135000 | J5: =I5/G5 -> -0.062776549 | O5: =SUM(O7,O12,O16,O20) -> 16945000
E6: 111 | F6: 가족기능강화사업수입 | G6: 6600000 | H6: =O6 -> 6765000 | I6: =H6-G6 -> 165000 | J6: =I6/G6 -> 0.025 | O6: =SUM(O7+O10) -> 6765000
K7: 1. 학교부적응학생프로그램 | O7: =SUM(O8) -> 6765000
K8: 지원금 | L8: 11000 | M8: 41 | N8: 15 | O8: =L8*N8*M8 -> 6765000
K10: 2. 사랑의교실 | O10: =SUM(O11) -> 0
O11: =SUM(L11*N11) -> 0
E12: 112 | F12: 지역사회보호사업수입 | G12: 7680000 | H12: =SUM(O12) -> 7680000 | I12: =H12-G12 -> 0 | J12: =I12/G12 -> 0 | O12: =SUM(O13) -> 7680000
K13: 1. 급식서비스 | O13: =SUM(O14:O15) -> 7680000
K14: 유료 | L14: 80000 | M14: 8 | N14: 12 | O14: =SUM(L14*M14*N14) -> 7680000
O15: =SUM(L15*M15*N15) -> 0
E16: 113 | F16: 복지네트워크구축사업 | G16: 1000000 | H16: =SUM(O16) -> 1000000 | I16: =H16-G16 -> 0 | J16: =I16/G16 -> 0 | O16: =SUM(O17) -> 1000000
K17: 1.실습지도 | O17: =SUM(O18) -> 1000000
K18: 실습비 | L18: 100000 | M18: 1 | N18: 10 | O18: =SUM(L18*N18*M18) -> 1000000
E20: 114 | F20: 교육문화사업수입 | G20: 2800000 | H20: =SUM(O20) -> 1500000 | I20: =H20-G20 -> -1300000 | J20: =I20/G20 -> -0.46428571 | O20: =SUM(O21) -> 1500000
K21: 1. 논술스피치교실 | O21: =O22 -> 1500000
K22: 유료 | L22: 50000 | M22: 6 | N22: 5 | O22: =SUM(L22*M22*N22) -> 1500000
E23: 115 | F23: 자활지원 등 기타사업 | G23: 0 | H23: =SUM(O23) -> 0 | I23: =H23-G23 -> 0 | J23: 0 | O23: =SUM(O24) -> 0
K24: 1. 꿈볶는카페 | O24: =SUM(O25) -> 0
K25: 운영수입금 | L25: 0 | N25: 10 | O25: =SUM(L25*N25) -> 0
A26: 02 | B26: 과년도수입 | C26: 21 | D26: 과년도수입 | E26: 소계 | G26: =SUM(G27) -> 0 | H26: =SUM(H27) -> 0 | I26: =SUM(H26-G26) -> 0 | J26: 0 | O26: 0
E27: 211 | F27: 과년도수입 | G27: 0 | H27: 0 | I27: =SUM(H27-G27) -> 0 | J27: 0 | O27: 0
K28: 1.과년도수입 | O28: 0
A29: 03 | B29: 보조금수입 | C29: 31 | D29: 보조금수입 | E29: 소계 | G29: =SUM(G30,G32) -> 1443948060 | H29: =SUM(H30,H32) -> 1438637170 | I29: =H29-G29 -> -5310890 | J29: =I29/G29 -> -0.003678034 | O29: =SUM(O30,O32) -> 1438637170
E30: 313 | F30: 시군구보조금 | G30: 736912000 | H30: =O30 -> 736912000 | I30: =H30-G30 -> 0 | J30: =I30/G30 -> 0 | O30: =SUM(O31) -> 736912000
K31: 1.시군구보조금(경상보조금) | O31: 736912000
E32: 314 | F32: 기타보조금 | G32: 707036060 | H32: =SUM(O32) -> 701725170 | I32: =H32-G32 -> -5310890 | J32: =I32/G32 -> -0.0075114839 | O32: =SUM(O33:O47) -> 701725170
K33: 1. 경로식당운영비 | O33: 111320000
K34: 2. 밑반찬운영비 | O34: 181665000
K35: 3. 무료급식소조리사인건비 | O35: 40391040
K36: 4. 무료급식소영양사인건비 | O36: 25320000
K37: 5. 푸드뱅크 | O37: 46949000
K38: 6. 푸드마켓 | O38: 119294000
K39: 7. 푸드뱅크코디네이터 | O39: 35000000
K40: 8. 무한돌봄네트워크 | O40: 44286130
K41: 9 . 햇살나눔사업 | O41: 7000000
K42: 10. 평생교육 | O42: 5000000
K43: 11. 커뮤니티케어센터 | O43: 45000000
K44: 12. 어린이날행사 | O44: 4500000
... K46: 14. 스마트복지안전공동체 | O46: 1000000
O47: 0
A48: 관 | C48: 항 | E48: 목 | G48: 2024년 3차 | H48: 2024년 4차 | I48: 증가(B)-(A) | K48: 2024년 4차예산 세부 내역
G49: (A) | H49: (B) | I49: 액수 | J49: 비율
A50: 04 | B50: 후원금수입 | C50: 41 | D50: 후원금수입 | E50: 소계 | G50: =SUM(G51,G86) -> 253670000 | H50: =SUM(H51,H86) -> 218690000 | I50: =H50-G50 -> -34980000 | J50: =I50/G50 -> -0.13789569 | O50: =SUM(O51+O86) -> 218690000
E51: 411 | F51: 지정후원금 | G51: 198670000 | H51: =SUM(O51) -> 168690000 | I51: =H51-G51 -> -29980000 | J51: =I51/G51 -> -0.15090351 | O51: =SUM(O52:O85) -> 168690000
K52: 1. 어린이재단 | O52: =6000000 -> 6000000 | P52: 0 | Q52: 60
K53: 2. 결연후원금 | O53: 48000000 | P53: 0
K54: 3. (주)부광정공(사업비및기타환경개선지원) | O54: 7000000 | P54: 0
K55: 4. 정율사관학원(신학기지원등) | O55: 11000000 | P55: 0
K56: 5. 너나우리(GS파워) | O56: 14000000 | P56: 0
K57: 6.어린이재단(김동진장학금) | O57: 0
K58: 7.부천희망재단(소원을말해요) | O58: 0
K59: 8. 월드비전(꿈날개클럽주니어지원사업) | O59: 2100000 | P59: 0
K60: 9. 한국사회복지관협회 (취약계층난방비지원) | O60: 2500000 | P60: 0
K61: 10. 우양재단(먹거리지원사업) | O61: 210000 | P61: 0
K62: 11. 원더풀의원(원더풀하트 프로젝트) | O62: 18000000 | P62: 0
K63: 12. 이랜드복지재단(SOS위고사업) | O63: 0
K64: 13. 희망브리지전국재해구호협회(다시,희망) | O64: 0 | Q64: -160
K65: 14. 공동모금회(사회적관계망형성) | O65: 23010000 | P65: 0
K71: 15.공동모금회(설맞이저소득층특별지원) | O71: 7500000 | P71: 0
K72: 16.우양재단(생일축하프로젝트) | O72: 400000 | P72: 0
K73: 17.한국난방관리(직원회식지원) | O73: 500000 | P73: 0
K74: 18.어린이재단(이주배경아동학습비지원) | O74: 1500000 | P74: 0 | Q74: 150
K75: 19.우양재단(식재료지원) | O75: 1500000 | P75: 0 | Q75: 150
K76: 20.진말몽당축제(심곡1동주민자치회) | O76: 14300000 | Q76: 1430
K77: 21.수해피해지원(부천희망재단) | O77: 1000000 | Q77: 100
K78: 22.행복가정학습지원사업(KT&G) | O78: 100000 | Q78: 10
K79: 23.에너지빈곤가정지원사업(어린이재단) | O79: 1500000 | Q79: 165
K80: 24.신한금융희망재단(주거지원사업) | O80: 1000000
K81: 26.경로잔치(심곡2행정복지센터) | O81: 500000
K82: 27.어린이재단(산타원정대) | O82: 2070000
K83: 28. 기타외부공모사업 | O83: 5000000 | Q83: 200
E86: 412 | F86: 비지정후원금 | G86: 55000000 | H86: =O86 -> 50000000 | I86: =H86-G86 -> -5000000 | J86: =I86/G86 -> -0.090909091 | O86: =SUM(O87) -> 50000000
K87: 1. 일반후원금 | O87: 50000000
A88: 06 | B88: 전입금 | C88: 61 | D88: 전입금 | E88: 소계 | G88: =SUM(G89:G90) -> 34000000 | H88: =SUM(O88) -> 34000000 | I88: =H88-G88 -> 0 | J88: =I88/G88 -> 0 | O88: =SUM(O89:O90) -> 34000000
E89: 611 | F89: 법인전입금 | G89: 30000000 | H89: =SUM(O89) -> 30000000 | I89: =H89-G89 -> 0 | J89: =I89/G89 -> 0 | K89: 1. 법인전입금 | O89: 30000000
E90: 612 | F90: 법인전입금(후원금) | G90: 4000000 | H90: =SUM(O90) -> 4000000 | I90: =H90-G90 -> 0 | J90: 0 | K90: 1. 법인전입금(후원금) | O90: 4000000
A91: 07 | B91: 이월금 | C91: 71 | D91: 이월금 | E91: 소계 | G91: =SUM(G92,G98,G100) -> 74716438 | H91: =SUM(H92,H98,H100) -> 74716438 | I91: =H91-G91 -> 0 | J91: =I91/G91 -> 0 | O91: =SUM(O92+O98+O100) -> 74716438
E92: 711 | F92: 전년도이월금 | G92: 19420397 | H92: =O92 -> 19420397 | I92: =H92-G92 -> 0 | J92: =I92/G92 -> 0 | O92: =SUM(O93:O97) -> 19420397
K93: 1. 사업비이월금 | O93: 526850
K94: 2. 법인전입금이월금 | O94: 9355250
K95: 3. 잡수입이월금 | O95: 5472903
K96: 4. 잡수입이월금(후원금) | O96: 347864
K97: 5. 정부보조금이월금 | O97: 3717530
E98: 712 | F98: 전년도이월금(후원금) | G98: 25720670 | H98: =SUM(O98) -> 25720670 | I98: =H98-G98 -> 0 | J98: =I98/G98 -> 0 | O98: =SUM(O99) -> 25720670
K99: 1. 일반후원수입이월금 | O99: 25720670
E100: 713 | F100: 이월사업비 | G100: 29575371 | H100: =O100 -> 29575371 | I100: =H100-G100 -> 0 | J100: =I100/G100 -> 0 | O100: =SUM(O101:O108) -> 29575371
K101: 1. 보)햇살나눔사업(이월) | O101: 3597627
K102: 2. 후)실로암선교센터(특별교육지원)이월 | O102: 3985447
K103: 3. 후)어린이재단(김동진장학금)이월 | O103: 2000197
K104: 4. 후)정율사관학원(신학기지원등)이월 | O104: 5000000
K105: 5. 후)희망브리지전국재해구호협회(다시,희망)이월 | O105: 2400000
K106: 6. 후) 농협사랑밭(온스토어)이월 | O106: 9800000
K107: 7. 후)우양재단(식재료지원)이월 | O107: 2000000
K108: 8. 후)원더풀의원(원더풀하트프로젝트)이월 | O108: 792100
A110: 08 | B110: 잡수입 | C110: 81 | D110: 잡수입 | E110: 소계 | G110: =SUM(G111,G113,G117) -> 6800000 | H110: =SUM(O110) -> 7800000 | I110: =H110-G110 -> 1000000 | J110: =I110/G110 -> 0.14705882 | O110: =SUM(O111,O113,O117) -> 7800000
E111: 811 | F111: 불용품매각대 | G111: 300000 | H111: =SUM(O111) -> 300000 | I111: =H111-G111 -> 0 | J111: =I111/G111 -> 0 | O111: =SUM(O112) -> 300000
...

Sheet 세출1
A1: 3)세출내역
A2: 관 | C2: 항 | E2: 목 | G2: 2024년 3차 | H2: 2024년4차 | I2: 증가(B)-(A) | K2: 2024년 4차예산 세부 내역 | Q2: 작성 완료 후 = 노랑색 배경 줄 추가 가능 = 반드시 수식 연결 할 것 증감 있을 시 = 메모 삽입(증감액과 사유)
G3: (A) | H3: (B) | I3: 액 수 | J3: 비 율(%)
A4: 총계 | G4: =SUM(G6+G110+G120+G156+G167+G365+G367) -> 1831214498 | H4: =SUM(H6+H110+H120+H156+H167+H365+H367) -> 1790788608 | I4: =H4-G4 -> -40425890 | J4: =I4/G4 -> -0.022075999 | O4: =SUM(H4) -> 1790788608
A5: 01 | B5: 사무비 | C5: 합계 | G5: =G6+세출1!G110+세출1!G120 -> 790825948 | H5: =H6+세출1!H110+세출1!H120 -> 778488418 | I5: =H5-G5 -> -12337530 | J5: =I5/G5 -> -0.015600816 | O5: =O6+세출1!O110+세출1!O120 -> 778488418
D6: 인건비 | E6: 합계 | G6: =G7+G53+G95+G99+G105 -> 692485050 | H6: =H7+H53+H95+H99+H105 -> 676754850 | I6: =H6-G6 -> -15730200 | J6: =I6/G6 -> -0.022715581 | O6: =SUM(O7+O53+O95+O99+O105) -> 676754850
E7: 111 | F7: 급여 | G7: 495605580 | H7: =O7 -> 490312200 | I7: =H7-G7 -> -5293380 | J7: =I7/G7 -> -0.01068063 | K7: 기본급 합계 | O7: =SUM(O8,O51) -> 490312200
J8: 기본급 | O8: =SUM(O9:O50) -> 472313140
K9: 관장 4호봉 | M9: 3,100,400원* | N9: 3월= | O9: 9301200
K10: 관장 5호봉 | M10: 3,227,600원* | N10: 9월= | O10: 29048400
K11: 부장 23호봉 | M11: 4,585,800원* | N11: 12월= | O11: 55029600
K12: 과장 12호봉 | M12: 3,421,800원* | N12: 2월= | O12: 6843600
K13: 과장 13호봉 | M13: 3,507,800원* | N13: 10월= | O13: 35078000
K14: 선임사회복지사 18호봉 | M14: 3,541,900원* | N14: 7월= | O14: 24793300
K15: 선임사회복지사 13호봉 | M15: 3,190,400원* | N15: 7월= | O15: 22332800
K16: 선임사회복지사 14호봉 | M16: 3,267,000원* | N16: 1 | O16: 3267000
K17: 선임사회복지사 12호봉 | M17: 3,120,100원* | N17: 5월= | O17: 15600500
K18: 선임사회복지사 13호봉 | M18: 3,190,400원* | N18: 4 | O18: 12761600
K19: 선임사회복지사 12호봉 | M19: 3,120,100원* | N19: 5월= | O19: 15600500
K20: 선임사회복지사 13호봉 | M20: 3,190,400원* | N20: 7월= | O20: 22332800
K21: 선임사회복지사 7호봉 | M21: 2,641,000원* | N21: 2월= | O21: 5282000
K22: 선임사회복지사 6호봉 | M22: 2,549,300원* | N22: 2월= | O22: 5098600
K23: 선임사회복지사 7호봉 | M23: 2,641,000원* | N23: 1월= | O23: 2641000
K24: 사회복지사 1호봉 | M24: 2,140,300원* | N24: 8월= | O24: 17122400
K25: 사회복지사 2호봉 | M25: 2,180,200원* | N25: 3 | O25: 6540600
K26: 선임사회복지사 16호봉 | M26: 3,411,300원* | N26: 2월= | O26: 6822600
K27: 사회복지사 5호봉 | M27: 2,321,900원* | N27: 4월= | O27: 9287600
K28: 사회복지사 6호봉 | M28: 2,381,300원* | N28: 3월= | O28: 7143900
K29: 사회복지사 4호봉 | M29: 2,262,000원* | N29: 7월= | O29: 15834000
K30: 사회복지사 1호봉 | M30: 1,933,180원* | N30: 1월= | O30: 1933180
K31: 사회복지사 1호봉 | M31: 2,140,300원* | N31: 4월= | O31: 8561200
K32: 사회복지사 2호봉 | M32: 2,180,200원* | N32: 5월= | O32: 10901000
K33: 사회복지사 3호봉 | M33: 2,004,990원* | N33: 1월= | O33: 2004990
K34: 사회복지사 3호봉 | M34: 2,219,800원* | N34: 9월= | O34: 19978200
K35: 사회복지사 3호봉 | M35: 2,219,800원* | N35: 4월= | O35: 8879200
K36: 사회복지사 1호봉 | M36: 1,141,500원* | N36: 1월= | O36: 1141500
K37: 사회복지사 1호봉 | M37: 2,140,300원* | N37: 8월= | O37: 17122400
... K40: 사회복지사 2호봉 | M40: 2,180,200원* | N40: 5월 = | O40: 10901000
K41: 선임사회복지사 13호봉 | M41: 3084060 | N41: 1 | O41: 3084060
K42: 선임사회복지사 13호봉 | M42: 3190400 | N42: 1 | O42: 3190400
K43: 선임사회복지사 14호봉 | M43: 3267000 | N43: 2 | O43: 6534000
K44: 선임사회복지사 9호봉 | M44: 2754330 | N44: 1 | O44: 2754330
K45: 선임사회복지사 10호봉 | M45: 2943000 | N45: 3 | O45: 8829000
K46: 선임사회복지사 8호봉 | M46: 794,820원* | N46: 1월 = | O46: 794820
K47: 사회복지사 7호봉 | M47: 2,470,200원* | N47: 5월 = | O47: 12351000
K48: 사회복지사 1호봉 | M48: 1242760 | N48: 1 | O48: 1242760
K49: 사회복지사 1호봉 | M49: 2140300 | N49: 2 | O49: 4280600
K50: 사회복지사 1호봉 | M50: 2140300 | N50: 1 | O50: 2140300
J51: 기본급(생활임금) | K51: 생활임금 | N51: 12 | O51: 17999060
A53: 01 | B53: 사무비 | C53: 11 | D53: 인건비 | E53: 112 | F53: 제수당 | G53: 83362110 | H53: =O53 -> 74783480 | I53: =H53-G53 -> -8578630 | J53: =I53/G53 -> -0.10290802 | K53: 제수당 합계 | O53: =SUM(O54,O83,O84,O85,O93,O82) -> 74783480
J54: 명절휴가비 | K54: 명절휴가비 합계 | O54: =SUM(O55:O81) -> 48697380
K55: 관장 4호봉 | M55: 3100400 | N55: 0.6 | O55: =ROUNDUP((M55*N55),-1) -> 1860240
K56: 관장 5호봉 | M56: 3227600 | N56: 0.6 | O56: =ROUNDUP((M56*N56),-1) -> 1936560
K57: 부장 23호봉 | M57: 4585800 | N57: 1.2 | O57: =ROUNDUP((M57*N57),-1) -> 5502960
J58: 이혜진 | K58: 과장 12호봉 | M58: 3421800 | N58: 0.6 | O58: =ROUNDUP((M58*N58),-1) -> 2053080 | Q58: .,
J59: 이주연 | K59: 과장 13호봉 | M59: 3507800 | N59: 0.6 | O59: =ROUNDUP((M59*N59),-1) -> 2104680 | Q59: 4
J60: 이수준 | K60: 선임사회복지사 18호봉 | M60: 3541900 | N60: 0.6 | O60: =ROUNDUP((M60*N60),-1) -> 2125140
K61: 선임사회복지사 13호봉 | M61: 3190400 | N61: 0.6 | O61: =ROUNDUP((M61*N61),-1) -> 1914240
K62: 선임사회복지사 12호봉 | M62: 3120100 | N62: 0.6 | O62: =ROUNDUP((M62*N62),-1) -> 1872060
J63: 박지현 | K63: 선임사회복지사 13호봉 | M63: 3190400 | N63: 0.6 | O63: =ROUNDUP((M63*N63),-1) -> 1914240
K64: 선임사회복지사 12호봉 | M64: 3120100 | N64: 0.6 | O64: =ROUNDUP((M64*N64),-1) -> 1872060
K65: 선임사회복지사 13호봉 | M65: 3190400 | N65: 0.6 | O65: =ROUNDUP((M65*N65),-1) -> 1914240
K66: 선임사회복지사 7호봉 | M66: 2641000 | N66: 0.6 | O66: =ROUNDUP((M66*N66),-1) -> 1584600
K67: 선임사회복지사 6호봉 | M67: 2549300 | N67: 0.6 | O67: =ROUNDUP((M67*N67),-1) -> 1529580
K68: 사회복지사 1호봉 | M68: 2140300 | N68: 0.6 | O68: =ROUNDUP((M68*N68),-1) -> 1284180
K69: 사회복지사 2호봉 | M69: 2180300 | N69: 0.6 | O69: =ROUNDUP((M69*N69),-1) -> 1308180
K70: 선임사회복지사 16호봉 | M70: 3411300 | N70: 0.6 | O70: =ROUNDUP((M70*N70),-1) -> 2046780
K71: 사회복지사 5호봉 | M71: 2321900 | N71: 0.6 | O71: =ROUNDUP((M71*N71),-1) -> 1393140
K72: 사회복지사 6호봉 | M72: 2381300 | N72: 0.6 | O72: =ROUNDUP((M72*N72),-1) -> 1428780
K73: 사회복지사 4호봉 | M73: 2262000 | N73: 0.6 | O73: =ROUNDUP((M73*N73),-1) -> 1357200
K74: 사회복지사 2호봉 | M74: 2180200 | N74: 0.6 | O74: =ROUNDUP((M74*N74),-1) -> 1308120
K75: 사회복지사 3호봉 | M75: 2219800 | N75: 0.6 | O75: =ROUNDUP((M75*N75),-1) -> 1331880
... K81: 선임사회복지사 9호봉 | M81: 2849300 | N81: 0.6 | O81: =ROUNDUP((M81*N81),-1) -> 1709580
K82: 가족수당 | M82: 11 | N82: 12 | O82: 6509420
K83: 시간외근무수당 | L83: 연84만원이내 | M83: 13 | N83: 12 | O83: 10780000
K84: 연가보상비 | M84: 14 | N84: 1 | O84: 600000
K85: 직책수당 | O85: =SUM(O86:O92) -> 4596680
L86: 50000 | M86: 1 | N86: 12 | O86: =L86*M86*N86 -> 600000
L87: 50000 | M87: 1 | N87: 7 | O87: =L87*M87*N87 -> 350000
L88: 50000 | M88: 1 | N88: 8 | O88: =L88*M88*N88 -> 400000
L89: 50000 | M89: 1 | N89: 9 | O89: =L89*M89*N89 -> 450000
L90: 48340 | M90: 2 | N90: 1 | O90: =L90*M90*N90 -> 96680
L91: 50000 | M91: 2 | N91: 3 | O91: =L91*M91*N91 -> 300000
L92: 100000 | M92: 2 | N92: 12 | O92: =L92*M92*N92 -> 2400000
K93: 관리자수당 | L93: 300000 | M93: 1 | N93: 12 | O93: =SUM(L93*M93*N93) -> 3600000
E94: 113 | F94: 일용잡금 | G94: 0 | H94: 0 | I94: =H94-G94 -> 0 | J94: 0 | K94: 일용잡금 | O94: 0
E95: 115 | F95: 퇴직금 및 퇴직적립금 | G95: 49931490 | H95: =O95 -> 49750280 | I95: =H95-G95 -> -181210 | J95: =I95/G95 -> -0.0036291727 | O95: =SUM(O96:O98) -> 49750280
K96: 퇴직적립금 | M96: =O8+O53-O46 -> 546301800 | N96: 1/12월= | O96: =ROUNDUP((M96/12),-1)+401360+518260+178360 -> 46623130 | Q96: 11월박혜령178360
K97: 퇴직적립금(생활임금) | M97: =O51 -> 17999060 | N97: 1/12월= | O97: =ROUNDUP((M97/12),-1)+50390+51220+25610 -> 1627150 | Q97: 25610
K98: 퇴직연금수수료 | N98: 연1회 | O98: 1500000
E99: 116 | F99: 사회보험부담금 | G99: 63485870 | H99: =O99 -> 61808890 | I99: =H99-G99 -> -1676980 | J99: =I99/G99 -> -0.026415012 | O99: =SUM(O100:O104) -> 61808890
G100: 0 | K100: 국민연금(기타임금-처우,특수근무포함) | M100: =SUM(M96:M97)+31500000 -> 595800860 | N100: 0.045 | O100: =ROUNDUP((M100*N100),-1) -> 26811040
K101: 건강보험(기타임금포함) | M101: =SUM(M100) -> 595800860 | N101: 0.03545 | O101: =ROUNDUP((M101*N101),-1) -> 21121150
K102: 장기요양보험료 | M102: =SUM(O101) -> 21121150 | N102: 0.9082%/7.09% | O102: =ROUNDUP(O101*(0.9082%/7.09%),-1) -> 2705540
K103: 고용보험(기타임금포함) | M103: =SUM(M101) -> 595800860 | N103: 0.0115 | O103: =ROUNDUP((M103*N103),-1) -> 6851710 | Q103: 5833900
K104: 산재보험료(기타임금포함) | M104: =SUM(M101) -> 595800860 | N104: 0.00764 | O104: =ROUNDUP((M104*N104),-1)-203970-28500 -> 4319450 | Q104: 3674810
E105: 117 | F105: 기타후생경비 | G105: 100000 | H105: =SUM(O105) -> 100000 | I105: =H105-G105 -> 0 | J105: =I105/G105 -> 0 | O105: =SUM(O107) -> 100000
K106: 1.기타후생경비
K107: -직원복리후생(상해보험가입 등) | M107: 100000 | N107: 1 | O107: =SUM(M107*N107) -> 100000
A108: 관 | C108: 항 | E108: 목 | G108: 2024년 3차 | H108: 2024년4차 | I108: 증가(B)-(A) | K108: 2024년 3차예산 세부 내역
...

Sheet 세부사업계획서
A1: 예산편성 시 업무 진행 순서 | F1: 운영위원 회의 자료 작성 (진행·예정 사업) → 세입 · 세출 확정 → 사업계획서 작성 → 세부사업계획서 작성
A2: 사업계획서 작성 GOGO -> | F2: 2024년 사업계획서
A3: 세부사업계획 | F3: 아래 ↓ 세부사업계획서 작성 완료 후 글자색 빨간색으로
A4: 분류 | C4: 세부사업명 | D4: 2024년 | F4: 사업내용 | G4: 기대효과
D5: 3차예산 (단위: 천원) | E5: 4차예산 (단위: 천원)
A6: 계 | D6: =SUM(D7,D11,D18,D33,D50,D66,D75,D77,D79,D81,D83,D85,D38,D42)+1 -> 1006889 | E6: =SUM(E7,E11,E18,E33,E50,E66,E75,E77,E79,E81,E83,E85,E38,E42) -> 984800190 | F6: ='총괄(수정금지)'!L36-E6 -> 0
A7: 1. 사례 관리 기능 | B7: 사 례 관 리 사 업 | C7: 계 | D7: =SUM(D8:D10) -> 36550 | E7: =SUM(E8:E10) -> 35470000
C8: 사례발굴 사업 | D8: 1000 | E8: ='총괄(수정금지)'!L39 -> 500000 | F8: ▷당사자 가정 및 주민 의뢰를 통한 발굴 ▷유관기관 의뢰를 통한 발굴 ▷권역기초조사 ▷응급위기관리사업 | G8: ▷복지사각지대의 요보호대상자 발굴 ▷지역사회 내 취약계층의 복지 현황 파악 ▷응급위기 상황 대처 역량 강화
C9: 사례개입 사업 | D9: 7700 | E9: ='총괄(수정금지)'!L40 -> 8220000 | F9: ▷사례개입 -초기면접 -대상자선정 및 서비스판정 -개입계획수립 -상담 -사례회의 -평가회의 ▷통합사례회의 ▷햇살나눔사업 ▷생명마을만들기 | G9: ▷사례관리대상자에 대한 서비스 조정을 통해 중복수혜 예방 ▷통합적인 사례관리를 통한 서비스의 전문성 향상 ▷관내 유관기관간의 전문서비스네트워크 구축
C10: 서비스연계사업 | D10: 27850 | E10: ='총괄(수정금지)'!L41 -> 26750000 | F10: ▷내부·외부 서비스 연계 -기본생활지원 -심리정서지원 -건강지원 -가족기능지원 -교육발달지원 -경제적지원 | G10: ▷대상자의 역량강화 ▷아동 및 가족지원을 통한 가족기능강화 ▷통합적인 사례관리를 통한 재가보호
A11: 2. 서 비 스 제 공 기 능 | B11: 가 족 기 능 강 화 사 업 | C11: 계 | D11: =SUM(D12:D14) -> 16920 | E11: =SUM(E12:E14) -> 12795000
C12: 학교부적응 학생프로그램(햇빛자리) | D12: 6600 | E12: =세출1!O209 -> 2475000 | F12: ▷학교 내 징계 청소년 및 부적응 학생을 위한 집단상담, 원예치료, 학교폭력예방교육 등 진행 | G12: ▷학생들의 학교적응력 향상 ▷청소년 비행 예방
C13: 너나우리 (아동성장 프로그램) | D13: 10020 | E13: =세출1!O212 -> 10020000 | F13: ▷자녀를 둔 저소득 가정을 대상으로 가족캠프를 진행하여 갈등 및 스트레스 해소 지원 | G13: ▷가족 구성원 간 갈등 및 스트레스 해소 ▷아동의 건강한 성장 지원
C14: 캠핑장비대여사업 | D14: 300 | E14: =세출1!O215 -> 300000 | F14: ▷캠핑을 쉽게 접할 수 있도록 저렴한 비용으로 캠핑 장비를 대여하여 건강한 여가문화생활 지원 | G14: ▷가족에 대한 여가선용의 기회 제공 ▷여가활동을 통한 가족의 유대감 향상
A16: 분류 | C16: 세부사업명 | D16: 2024년 | E16: 2024년 | F16: 사업내용 | G16: 기대효과
D17: 3차예산 (단위: 천원) | E17: 4차예산 (단위: 천원)
D18: =SUM(D19:D29) -> 518965 | E18: =SUM(E19:E29) -> 510336840
A19: 2. 서 비 스 제 공 기 능 | B19: 지 역 사 회 보 호 사 업 | C19: 경로식당 | D19: 192200 | E19: =세출1!O220+세출1!O229+세출1!O233 -> 188191040 | F19: ▷정기적인 중식 제공 및 거동불편대상자 식사 배달 | G19: ▷지역사회 거주하는 요보호노인을 대상으로 식사제공을 통한 결식방지 ▷정기적인 안부확인 및 서비스 연계 가능
C20: 밑반찬 배달 | D20: 181665 | E20: =세출1!O225 -> 181665000 | F20: ▷정기적인 밑반찬 제공 및 거동 불편대상자 식사 배달 | G20: ▷지역사회 거주하는 요보호노인을 대상으로 밑반찬제공을 통한 결식방지 ▷정기적인 안부확인 및 서비스 연계 가능
C21: 한방진료 | D21: 100 | E21: =세출1!O237 -> 100000 | F21: ▷한방 침시술 ▷한의사 건강상담 | G21: ▷맞춤형 진료를 통한 신체통증 완화 맟 건강 유지
C22: 결연사업 | D22: 49500 | E22: =세출1!O240 -> 44100000 | F22: ▷결연서비스 | G22: ▷저소득 노인, 아동, 장애인 현금 지원을 통한 경제적 지원
C23: 어린이재단 | D23: 6000 | E23: =세출1!O243 -> 6000000 | F23: ▷결연서비스 | G23: ▷저소득 아동 경제적 지원을 통한 건강한 성장 지원
C24: 개별상담서비스 | D24: 200 | E24: =세출1!O246 -> 200000 | F24: ▷개별 상담 서비스 | G24: ▷요보호대상자에 대한 지원으로 정서적지지 및 심리적 안정감을 제공 ▷요보호대상자에 대한 일상생활관리
C25: 생활용품 등 경제적 지원 | D25: 36000 | E25: =세출1!O249 -> 36000000 | F25: ▷생활용품지원 | G25: ▷경제적으로 어려운 지역사회 주민에게 생활에 필요한 물품을 지원을 통한 경제적 지원
C26: 장학금지원사업 | D26: 44000 | E26: =세출1!O252 -> 45580800 | F26: ▷정율사관학원 장학금 지원 ▷원더풀의원 장학금 지원 | G26: ▷경제적으로 어려운 지역사회 아동·청소년이 건강하게 성장할 수 있도록 지원
C27: 청소년 마약중독 예방 프로그램 | D27: 3500 | E27: =세출1!O255 -> 3500000 | F27: ▷청소년 마약 중독 예방 캠페인 및 책자, 공모전 진행 | G27: ▷마약 중독 인식 개선
C28: 14)개별식습관개선프로그램 | D28: 3800 | E28: =세출1!O258 -> 3800000 | F28: ▷균형잡힌 식습관과 저염식을 통한 개별 식습관 개선 지원 | G28: ▷노인의 만성질환 예방 및 건강유지
C29: 기후위기 극복사업 | D29: 2000 | E29: =세출1!O261 -> 1200000 | F29: ▷여름철 무더위 안전사고 예방을 위한 무더위 쉼터 운영 ▷겨울철 한파 안전사고 예방을 위한 난방 지원 사업 제공 | G29: ▷폭염 및 한파취약가구 발굴을 통해 고독사 예방
A31: 사업 분류 | C31: 세부사업명 | D31: 2024년 | E31: 2024년 | F31: 사업내용 | G31: 기대효과
D32: 3차예산 (단위: 천원) | E32: 4차예산 (단위: 천원)
A33: 3. 서 비 스 제 공 기 능 | B33: 교 육 문 화 | C33: 계 | D33: =SUM(D34:D37) -> 10103 | E33: =SUM(E34:E37) -> 8847800
C34: 교육문화프로그램 | D34: 1000 | E34: =세출1!O265 -> 1000000 | F34: ▷지역주민 대상 교육문화 프로그램 진행 | G34: ▷지역주민 대상 교육문화 프로그램 참여의 기회 제공
C35: 평생교육 | D35: 6003 | E35: =세출1!O268 -> 6047800 | F35: ▷지역주민 대상 평생교육 프로그램 진행 | G35: ▷지역주민 대상 평생교육의 기회 제공 ▷지역 내 평생교육 활성화
C36: 장애인재활운동서비스 | D36: 300 | E36: =세출1!O271 -> 300000 | F36: ▷뇌병변, 지체장애인대상 재활운동프로그램 ▷슐런 | G36: ▷장애인의 사회참여 증진 ▷재활을 통한 신체건강 증진
C37: 논술 스피치 교육 | D37: 2800 | E37: =세출1!O274 -> 1500000 | F37: ▷아동·청소년 대상 올바른 독서법, 글쓰기 교육, 말하기 등 논술교실 프로그램 | G37: ▷사고력 증진 ▷대화 기술 및 사회적 관계 기술 습득
B38: 자 활 지 원 등 기 타 | C38: 계 | D38: =SUM(D39:D41) -> 4100 | E38: =SUM(E39:E41) -> 2600000
C39: 홍보사업 | D39: 3000 | E39: =세출1!O278 -> 1500000 | F39: ▷소식지 및 리플렛, 온라인 플렛폼 운영 (블로그, 유튜브) 등 홍보물 제작을 통해 지역사회 내 기관의 인지도확산 및 사업홍보 실시 | G39: ▷기관 이미지 개선 및 인지도 상승 ▷자원 개발 및 연계확대
C40: 보고서및 연구지발간 | D40: 1000 | E40: =세출1!O283 -> 1000000 | F40: ▷연 사업보고서 발간 ▷기타보고서, 연구지발간 | G40: ▷사회복지 전문프로그램
C41: 취업정보 | D41: 100 | E41: =세출1!O287 -> 100000 | F41: ▷취업정보 게시 | G41: ▷정보접근이 어려운 지역주민들에게 취업 정보 제공
A42: 3. 지 역 조 직 화 기 능 | B42: 복 지 네 트 워 크 구 축 | C42: 계 | D42: =SUM(D43:D46) -> 1900 | E42: =SUM(E43:E46) -> 2400000
C43: 지역주민 간담회 (사업설명회) | D43: 500 | E43: =세출1!O293 -> 500000 | F43: ▷지역주민 대상 복지관 사업 안내 및 의견수렴 | G43: ▷지역주민과의 교류의 장 마련 ▷주민의견을 반영한 사업 계획 수립 및 운영
C44: 네트워크 모임 | D44: 300 | E44: =세출1!O296 -> 800000 | F44: ▷지역자원 및 사업의 공유 및 사 업연계를 통해 복지네트워크구축 ▷협의회, 실무자모임, 부재연, 부 지련 등 활동 | G44: ▷지역사회 자원 공유 ▷지역사회 복지네트워크 구축
C45: 실습지도 | D45: 1000 | E45: =세출1!O299 -> 1000000 | F45: ▷사례관리학교 운영 ▷사회복지학과 학부생 및 대학원생 대상교육 ▷실습계획, 지도 및 평가 | G45: ▷사회복지 실무경험제공 ▷실천지식과 기술습득 ▷사례관리실천과정 습득 ▷준사례관리자 양성
C46: 기관견학 | D46: 100 | E46: =세출1!O303 -> 100000 | F46: ▷온라인(메타버스 앱), 오프라인(직접방문) 기관 견학 프로그램 제공 | G46: ▷기관견학 참여자에 대한 인적자원 확보 ▷복지관 대외 홍보를 통한 이미지 상승
A48: 사업분류 | C48: 세부사업명 | D48: 2024년 | E48: 2024년 | F48: 사업내용 | G48: 기대효과
D49: 3차예산 (단위: 천원) | E49: 4차예산 (단위: 천원)
A50: 3. 지 역 조 직 화 기 능 | B50: 주 민 조 직 화 사 업 | C50: 계 | D50: =SUM(D51:D62) -> 71760 | E50: =SUM(E51:E62) -> 70060000
C51: 주민교육 | D51: 800 | E51: =세출1!O308 -> 800000 | F51: ▷지역주민의 욕구를 반영한 다 양한 지역대상교육, 부모교육 등 | G51: ▷지역주민의 인식개선 및 역량강화
C52: 절기행사 | D52: 21000 | E52: =세출1!O311 -> 21000000 | F52: ▷설날행사 ▷어린이날행사 ▷어버이날행사 ▷추석행사 | G52: ▷지역사회 화합의 소통의 장 마련 ▷ 절기별 명절 분위기 조성
C53: 멘토스 | D53: 1200 | E53: =세출1!O314 -> 1200000 | F53: ▷대학생 봉사단 멘토링 재능기부 ▷학습 및 특기 멘토링, 직업탐색, 체험 활동 | G53: ▷멘티 학습 능력 향상 및 진로 지원 ▷정서적안정 및 사회성향상
C54: 스마일 | D54: 1000 | E54: =세출1!O317 -> 1000000 | F54: ▷대학생 봉사자를 활용한 중장년 및 노인 대상 디지털 활용 교육 ▷일상생활 및 돌봄 관련 온라인 서비스 사용 안내, 정서지원 활동 | G54: ▷중장년 및 노인의 디지털 접근 및 활용 능력 강화 ▷사회적 관계망 형성 및 정서 지원
C55: 주민참여 공모전 | D55: 6000 | E55: =세출1!O320 -> 5500000 | F55: ▷지역 문제해결 및 복지 발전을 위한 사회복지 프로그램 아이디어 공모 ▷주민기획 우수 프로그램 실현 | G55: ▷사회복지 프로그램 기획 및 실천 경험 기회 제공 ▷주민이 주민을 이끄는 자생적 성장
C56: 해리포터기자단 | D56: 3000 | E56: =세출1!O323 -> 2000000 | F56: ▷초등학교 아동들의 기자단 활동 | G56: ▷기자활동에 대한 체험 ▷소속감 및 자존감 향상
C57: 다-가치 모이자 | D57: 0 | E57: =세출1!O327 -> 0 | F57: ▷이주배경 아동, 가족 대상 조직화 프로그램 진행 | G57: ▷이주배경 아동 가정 조직화 및 사회문제 해결
C58: 산도보이지 | D58: 150 | E58: =세출1!O331 -> 150000 | F58: ▷산행을 매개로 한 1인 중장년층 주민모임 진행 | G58: ▷사회적 고립감 및 외로움 완화
C59: 심쿸남 | D59: 300 | E59: =세출1!O334 -> 100000 | F59: ▷요리만들기 및 나눔을 주제로한 1인 중장년층 주민모임 | G59: ▷사회적 고립감 감소 및 나눔을 통한 선순환
C60: 사회적관계망형성사업 | D60: 23010 | E60: =세출1!O337 -> 23010000 | F60: ▷경기사회복지공동모금회 선정 사업 ▷ 1인가구의 일상생활유지 및 신체활동 모임조직 운영 | G60: ▷사회적 관계망 형성 및 삶의 만족도 향상을 통한 주민주도적 삶 지원
C61: 스마트복지안전공동체 | D61: 1000 | E61: =세출1!O340 -> 1000000 | F61: ▷위기가구 발굴을 위한 지역사회 주민조직 구성 | G61: ▷지역 내 선순환이 가능한 민·관·주민 공동체 모델 제시
C62: 진말몽당축제 | D62: 14300 | E62: =세출1!O343 -> 14300000 | F62: ▷심곡1동 지역주민과 대학, 주민자치회, 복지관이 어우러져 만드는 마을 축제 | G62: ▷지역 내 민·학·주민의 화합과 소통의 장 마련
A64: 사업분류 | C64: 세부사업명 | D64: 2024년 | E64: 2024년 | F64: 사업내용 | G64: 기대효과
D65: 3차예산 (단위: 천원) | E65: 4차예산 (단위: 천원)
A66: 3. 지 역 조 직 화 기 능 | B66: 자 원 개 발 및 관 리 사 업 | C66: 계 | D66: =SUM(D67:D71) -> 17500 | E66: =SUM(E67:E71) -> 13200000
C67: 자원봉사자 모집 및 관리 | D67: 4000 | E67: =세출1!O349 -> 1700000 | F67: ▷지역 내 다양한 인적자원 발굴 및 모집 ▷기초교육, 보수교육, 간담회, 감사서신 발송, 봉사자실적 관리 등 | G67: ▷다양한 인적자원 네트워크 구축
C68: 후원자 개발 및 관리 | D68: 6000 | E68: =세출1!O352 -> 6000000 | F68: ▷지역사회 내 다양한 자원 개발 및 관리 | G68: ▷사회복지 서비스 제공에 필요한 물적 자원 확보 ▷지역사회 복지발전 실현을 위한 지역사회 자원 축적
C69: 후원행사 | D69: 500 | E69: =세출1!O355 -> 500000 | F69: ▷기관 후원자 및 자원봉사자, 지역주민을 초청하여 후원개발을 위한 행사 | G69: ▷신규 후원개발을 통한 물적자원 확보
C70: 개관행사 | D70: 3000 | E70: =세출1!O358 -> 3000000 | F70: ▷개관을 맞이하여 지역주민과 함께하는 지역축제 실시 | G70: ▷개관행사를 통한 복지관 인지도 및 관심 향상
C71: 자원봉사자 및후원자의날 | D71: 4000 | E71: =세출1!O361 -> 2000000 | F71: ▷자원봉사자 후원자지지 격려 활동 | G71: ▷자원봉사활동 및 후원에 대한 동기부여 및 기관과의 연계구축
A73: 사업분류 | C73: 세부사업명 | D73: 2024년 | E73: 2024년 | F73: 사업내용 | G73: 기대효과
D74: 3차예산 (단위: 천원) | E74: 4차예산 (단위: 천원)
A75: 4. 기 타 사 업 | B75: 4. 푸드 뱅크 | C75: 계 | D75: =D76 -> 47049 | E75: =E76 -> 47049000
C76: 1)푸드뱅크 | D76: 47049 | E76: =세출1!O375 -> 47049000 | F76: ▷지역내 여유식품 확보를 통해 지역의 어려운 이웃에게배분 ▷기부처 및 배분처 네트워크로 자원연계망 구축 | G76: ▷지역복지 네트워크 형성 ▷지역 자원 연계 ▷경제적, 물적 자원 확보 ▷자원의 공유 및 배분
B77: 5.G-푸드드림 | C77: 계 | D77: =D78 -> 35100 | E77: =E78 -> 35100000
C78: 1)G-푸드드림 (뱅크) | D78: 35100 | E78: =세출1!O419 -> 35100000 | F78: ▷푸드뱅크 기부처 및 이용자 발굴, 관리 ▷기부식품등제공사업 홍보 ▷자원봉사단 운영 | G78: ▷푸드뱅크사업 지원을 통한 사업의 확대 및 진행
B79: 6.G-푸드드림 | C79: 계 | D79: =D80 -> 35100 | E79: =세출1!O495 -> 35100000
C80: 1)G-푸드드림(마켓) | D80: 35100 | E80: =세출1!O495 -> 35100000 | F80: ▷푸드마켓 기부처 및 이용자 발굴, 관리 ▷기부식품등제공사업 홍보 ▷자원봉사단 운영 | G80: ▷푸드마켓사업 지원을 통한 사업의 확대 및 진행
B81: 7. 푸드 마켓 | C81: 계 | D81: =D82 -> 122156 | E81: =E82 -> 122156490
C82: 1)푸드마켓 | D82: 122156 | E82: =세출1!O440 -> 122156490 | F82: ▷푸드마켓 운영 ▷기부처 발굴 및 네트워크로 자원연계망 구축 ▷홍보 및 자원봉사자 관리 | G82: ▷지역사회 기부식품 나눔문화 활성화 ▷기부식품제공을 통한 저소득층 결식문제 완화
B83: 8. 무한돌봄네트워크사업 | C83: 계 | D83: =D84 -> 44285 | E83: =E84 -> 44285060
C84: 1)무한돌봄네트워크사업 | D84: 44285 | E84: =세출1!O514 -> 44285060 | F84: ▷고난이도 사례관리 진행 ▷지역네트워크구축 | G84: ▷당사자 문제해결능력 향상 ▷지역보호체계마련 ▷통합사례관리기반마련
B85: 9. 커뮤니티케어센터 | C85: 계 | D85: =D86 -> 45400 | E85: =E86 -> 45400000
C86: 1)커뮤니티케어사업 | D86: 45400 | E86: =세출1!O548 -> 45400000 | F86: ▷통합돌봄 대상자의 욕구에 맞는 프로그램 제공을 통해 지역사회 내에서 건강한 노후를 보낼 수 있도록 지원 | G86: ▷지역사회 내 돌봄안전망 강화

Sheet 법인의안)세입세출총괄표
A1: 세입 | F1: 세출
A2: 항목 | B2: ='총괄(수정금지)'!D5 -> 2024년 3차 | C2: ='총괄(수정금지)'!E5 -> 2024년 4차 | D2: 증감(B-A) | F2: 항목 | G2: ='총괄(수정금지)'!K5 -> 2024년 3차 | H2: ='총괄(수정금지)'!L5 -> 2024년 4차 | I2: 증감(B-A)
D3: 금액 | E3: 비율(%) | I3: 금액 | J3: 비율(%)
A4: 총 계 | B4: =SUM(B5:B10) -> 1831214498 | C4: =SUM(C5:C10) -> 1790788608 | D4: =SUM(D5:D10) -> -40425890 | E4: =D4/B4 -> -0.022075999 | F4: 총 계 | G4: =SUM(G5:G11) -> 1831214498 | H4: =SUM(H5:H11) -> 1790788608 | I4: =SUM(I5:I11) -> -40425890 | J4: =I4/G4 -> -0.022075999 | K4: =B4-'총괄(수정금지)'!D7 -> 0 | L4: =C4-'총괄(수정금지)'!E7 -> 0 | M4: =D4-'총괄(수정금지)'!F7 -> 0
A5: 사업수입 | B5: =SUM('총괄(수정금지)'!D8) -> 18080000 | C5: =SUM('총괄(수정금지)'!E8) -> 16945000 | D5: =SUM('총괄(수정금지)'!F8) -> -1135000 | E5: =SUM('총괄(수정금지)'!G8) -> -0.062776549 | F5: 인건비 | G5: ='총괄(수정금지)'!K8 -> 692485050 | H5: ='총괄(수정금지)'!L8 -> 676754850 | I5: ='총괄(수정금지)'!M8 -> -15730200 | J5: =I5/G5 -> -0.022715581 | K5: =G4-'총괄(수정금지)'!K7 -> 0 | L5: =H4-'총괄(수정금지)'!L7 -> 0 | M5: =I4-'총괄(수정금지)'!M7 -> 0
A6: 보조금수입 | B6: ='총괄(수정금지)'!D27 -> 1443948060 | C6: ='총괄(수정금지)'!E27 -> 1438637170 | D6: ='총괄(수정금지)'!F27 -> -5310890 | E6: ='총괄(수정금지)'!G27 -> -0.003678034 | F6: 업무추진비 | G6: ='총괄(수정금지)'!K16 -> 12060000 | H6: ='총괄(수정금지)'!L16 -> 12060000 | I6: ='총괄(수정금지)'!M16 -> 0 | J6: =I6/G6 -> 0
A7: 후원금수입 | B7: ='총괄(수정금지)'!D33 -> 253670000 | C7: ='총괄(수정금지)'!E33 -> 218690000 | D7: ='총괄(수정금지)'!F33 -> -34980000 | E7: ='총괄(수정금지)'!G33 -> -0.13789569 | F7: 운영비 | G7: ='총괄(수정금지)'!K21 -> 86280898 | H7: ='총괄(수정금지)'!L21 -> 89673568 | I7: ='총괄(수정금지)'!M21 -> 3392670 | J7: =I7/G7 -> 0.039321218
A8: 법인전입금 | B8: ='총괄(수정금지)'!D39 -> 34000000 | C8: ='총괄(수정금지)'!E39 -> 34000000 | D8: ='총괄(수정금지)'!F39 -> 0 | E8: ='총괄(수정금지)'!G39 -> 0 | F8: 시설비 | G8: ='총괄(수정금지)'!K30 -> 22500000 | H8: ='총괄(수정금지)'!L30 -> 16500000 | I8: ='총괄(수정금지)'!M30 -> -6000000 | J8: =I8/G8 -> -0.26666667
A9: 이월금 | B9: ='총괄(수정금지)'!D45 -> 74716438 | C9: ='총괄(수정금지)'!E45 -> 74716438 | D9: ='총괄(수정금지)'!F45 -> 0 | E9: ='총괄(수정금지)'!G45 -> 0 | F9: 사업비 | G9: ='총괄(수정금지)'!K36 -> 1006888550 | H9: ='총괄(수정금지)'!L36 -> 984800190 | I9: ='총괄(수정금지)'!M36 -> -22088360 | J9: =I9/G9 -> -0.021937244
A10: 잡수입 | B10: ='총괄(수정금지)'!D57 -> 6800000 | C10: ='총괄(수정금지)'!E57 -> 7800000 | D10: ='총괄(수정금지)'!F57 -> 1000000 | E10: ='총괄(수정금지)'!G57 -> 0.14705882 | F10: 잡지출 | G10: ='총괄(수정금지)'!K58 -> 200000 | H10: ='총괄(수정금지)'!L58 -> 200000 | I10: ='총괄(수정금지)'!M58 -> 0 | J10: =I10/G10 -> 0
F11: 예비비및기타 | G11: ='총괄(수정금지)'!K62 -> 10800000 | H11: ='총괄(수정금지)'!L62 -> 10800000 | I11: ='총괄(수정금지)'!M62 -> 0 | J11: =I11/G11 -> 0

Sheet 법인의안)세입세출세부내역
A1: 세 입 | H1: 세 출
A2: 과목 | D2: 당초예산액 | E2: 추경예산액 | F2: 증감 | H2: 과목 | L2: 당초예산액 | M2: 추경예산액 | N2: 증감
A3: 관 | B3: 항 | C3: 목 | H3: 관 | I3: 항 | J3: 목
A4: 사업수입 | B4: 사업수입 | C4: 가족기능강화사업수입 | D4: ='총괄(수정금지)'!D10 -> 6600000 | E4: ='총괄(수정금지)'!E10 -> 6765000 | F4: ='총괄(수정금지)'!F10 -> 165000 | H4: 사무비 | I4: 인건비 | J4: 급여 | L4: ='총괄(수정금지)'!K10 -> 495605580 | M4: ='총괄(수정금지)'!L10 -> 490312200 | N4: ='총괄(수정금지)'!M10 -> -5293380
C5: 지역사회보호사업수입 | D5: ='총괄(수정금지)'!D14 -> 7680000 | E5: ='총괄(수정금지)'!E14 -> 7680000 | F5: ='총괄(수정금지)'!F14 -> 0 | J5: 제수당 | L5: ='총괄(수정금지)'!K12 -> 83362110 | M5: ='총괄(수정금지)'!L12 -> 74783480 | N5: ='총괄(수정금지)'!M12 -> -8578630
C6: 복지네트워크구축사업수입 | D6: =SUM('총괄(수정금지)'!D17) -> 1000000 | E6: =SUM('총괄(수정금지)'!E17) -> 1000000 | F6: ='총괄(수정금지)'!F17 -> 0 | J6: 퇴직금 및 퇴직적립금 | L6: ='총괄(수정금지)'!K13 -> 49931490 | M6: ='총괄(수정금지)'!L13 -> 49750280 | N6: ='총괄(수정금지)'!M13 -> -181210
C7: 교육문화사업수입 | D7: ='총괄(수정금지)'!D19 -> 2800000 | E7: ='총괄(수정금지)'!E19 -> 1500000 | F7: ='총괄(수정금지)'!F19 -> -1300000 | J7: 사회보험부담금 | L7: ='총괄(수정금지)'!K14 -> 63485870 | M7: ='총괄(수정금지)'!L14 -> 61808890 | N7: ='총괄(수정금지)'!M14 -> -1676980
C8: 소계 | D8: =SUM(D4:D7) -> 18080000 | E8: =SUM(E4:E7) -> 16945000 | F8: =SUM(F4:F7) -> -1135000 | J8: 기타후생경비 | L8: ='총괄(수정금지)'!K15 -> 100000 | M8: ='총괄(수정금지)'!L15 -> 100000 | N8: ='총괄(수정금지)'!M15 -> 0
A9: 보조금수입 | B9: 보조금수입 | C9: 시군구보조금 | D9: ='총괄(수정금지)'!D29 -> 736912000 | E9: ='총괄(수정금지)'!E29 -> 736912000 | F9: ='총괄(수정금지)'!F29 -> 0 | J9: 소계 | L9: =SUM(L4:L8) -> 692485050 | M9: =SUM(M4:M8) -> 676754850 | N9: =SUM(N4:N8) -> -15730200
C10: 기타보조금 | D10: ='총괄(수정금지)'!D31 -> 707036060 | E10: ='총괄(수정금지)'!E31 -> 701725170 | F10: ='총괄(수정금지)'!F31 -> -5310890 | I10: 업무추진비 | J10: 기관운영비 | L10: ='총괄(수정금지)'!K18 -> 8500000 | M10: ='총괄(수정금지)'!L18 -> 8500000 | N10: ='총괄(수정금지)'!M18 -> 0
C11: 소계 | D11: =SUM(D9:D10) -> 1443948060 | E11: =SUM(E9:E10) -> 1438637170 | F11: =SUM(F9:F10) -> -5310890 | J11: 직책보조비 | L11: ='총괄(수정금지)'!K19 -> 1500000 | M11: ='총괄(수정금지)'!L19 -> 1500000 | N11: ='총괄(수정금지)'!M19 -> 0
A12: 후원금수입 | B12: 후원금수입 | C12: 지정후원금 | D12: ='총괄(수정금지)'!D35 -> 198670000 | E12: ='총괄(수정금지)'!E35 -> 168690000 | F12: ='총괄(수정금지)'!F35 -> -29980000 | J12: 회의비 | L12: ='총괄(수정금지)'!K20 -> 2060000 | M12: ='총괄(수정금지)'!L20 -> 2060000 | N12: ='총괄(수정금지)'!M20 -> 0
C13: 비지정후원금 | D13: ='총괄(수정금지)'!D37 -> 55000000 | E13: ='총괄(수정금지)'!E37 -> 50000000 | F13: ='총괄(수정금지)'!F37 -> -5000000 | J13: 소계 | L13: =SUM(L10:L12) -> 12060000 | M13: =SUM(M10:M12) -> 12060000 | N13: =SUM(N10:N12) -> 0
C14: 소계 | D14: =SUM(D12:D13) -> 253670000 | E14: =SUM(E12:E13) -> 218690000 | F14: =SUM(F12:F13) -> -34980000 | I14: 운영비 | J14: 여비 | L14: ='총괄(수정금지)'!K23 -> 400000 | M14: ='총괄(수정금지)'!L23 -> 400000 | N14: ='총괄(수정금지)'!M23 -> 0
A15: 전입금 | B15: 전입금 | C15: 법인전입금 | D15: ='총괄(수정금지)'!D41 -> 30000000 | E15: ='총괄(수정금지)'!E41 -> 30000000 | F15: ='총괄(수정금지)'!F41 -> 0 | J15: 수용비 및 수수료 | L15: ='총괄(수정금지)'!K24 -> 27860898 | M15: ='총괄(수정금지)'!L24 -> 40203568 | N15: ='총괄(수정금지)'!M24 -> 12342670
C16: 법인전입금(후원금) | D16: ='총괄(수정금지)'!D43 -> 4000000 | E16: ='총괄(수정금지)'!E43 -> 4000000 | F16: ='총괄(수정금지)'!F43 -> 0 | J16: 공공요금 | L16: ='총괄(수정금지)'!K25 -> 22240000 | M16: ='총괄(수정금지)'!L25 -> 19500000 | N16: ='총괄(수정금지)'!M25 -> -2740000
C17: 소계 | D17: =SUM(D15:D16) -> 34000000 | E17: =SUM(E15:E16) -> 34000000 | F17: =SUM(F15:F16) -> 0 | J17: 제세공과금 | L17: ='총괄(수정금지)'!K26 -> 8000000 | M17: ='총괄(수정금지)'!L26 -> 7600000 | N17: ='총괄(수정금지)'!M26 -> -400000
A18: 이월금 | B18: 이월금 | C18: 전년도이월금 | D18: ='총괄(수정금지)'!D48 -> 19420397 | E18: ='총괄(수정금지)'!E48 -> 19420397 | F18: ='총괄(수정금지)'!F48 -> 0 | J18: 차량비 | L18: ='총괄(수정금지)'!K27 -> 4800000 | M18: ='총괄(수정금지)'!L27 -> 4140000 | N18: ='총괄(수정금지)'!M27 -> -660000
C19: 전년도이월금(후원금) | D19: ='총괄(수정금지)'!D51 -> 25720670 | E19: ='총괄(수정금지)'!E51 -> 25720670 | F19: ='총괄(수정금지)'!F51 -> 0 | J19: 연료비 | L19: ='총괄(수정금지)'!K28 -> 3500000 | M19: ='총괄(수정금지)'!L28 -> 2400000 | N19: ='총괄(수정금지)'!M28 -> -1100000
C20: 이월사업비 | D20: ='총괄(수정금지)'!D55 -> 29575371 | E20: ='총괄(수정금지)'!E55 -> 29575371 | F20: ='총괄(수정금지)'!F55 -> 0 | J20: 기타운영비 | L20: ='총괄(수정금지)'!K29 -> 19480000 | M20: ='총괄(수정금지)'!L29 -> 15430000 | N20: ='총괄(수정금지)'!M29 -> -4050000
C21: 소계 | D21: =SUM(D18:D20) -> 74716438 | E21: =SUM(E18:E20) -> 74716438 | F21: =SUM(F18:F20) -> 0 | J21: 소계 | L21: =SUM(L14:L20) -> 86280898 | M21: =SUM(M14:M20) -> 89673568 | N21: =SUM(N14:N20) -> 3392670
A22: 잡수입 | B22: 잡수입 | C22: 불용품매각대 | D22: ='총괄(수정금지)'!D59 -> 300000 | E22: ='총괄(수정금지)'!E59 -> 300000 | F22: ='총괄(수정금지)'!F59 -> 0 | I22: 합계 | L22: =SUM(L9,L13,L21) -> 790825948 | M22: =SUM(M9,M13,M21) -> 778488418 | N22: =SUM(N9,N13,N21) -> -12337530
C23: 기타예금이자수입 | D23: ='총괄(수정금지)'!D63 -> 900000 | E23: ='총괄(수정금지)'!E63 -> 900000 | F23: ='총괄(수정금지)'!F63 -> 0 | H23: 재산조성비 | I23: 시설비 | K23: 시설비 | L23: ='총괄(수정금지)'!K33 -> 5000000 | M23: ='총괄(수정금지)'!L33 -> 2000000 | N23: ='총괄(수정금지)'!M33 -> -3000000
C24: 기타잡수입 | D24: ='총괄(수정금지)'!D65 -> 5600000 | E24: ='총괄(수정금지)'!E65 -> 6600000 | F24: ='총괄(수정금지)'!F65 -> 1000000 | K24: 자산취득비 | L24: ='총괄(수정금지)'!K34 -> 2500000 | M24: ='총괄(수정금지)'!L34 -> 2500000 | N24: ='총괄(수정금지)'!M34 -> 0
C25: 소계 | D25: =SUM(D22:D24) -> 6800000 | E25: =SUM(E22:E24) -> 7800000 | F25: =SUM(F22:F24) -> 1000000 | K25: 시설장비 유지비 | L25: ='총괄(수정금지)'!K35 -> 15000000 | M25: ='총괄(수정금지)'!L35 -> 12000000 | N25: ='총괄(수정금지)'!M35 -> -3000000
A26: 세입계 | D26: =SUM(D25,D21,D17,D14,D11,D8) -> 1831214498 | E26: =SUM(E25,E21,E17,E14,E11,E8) -> 1790788608 | F26: =SUM(F25,F21,F17,F14,F11,F8) -> -40425890 | I26: 합계 | L26: =SUM(L23:L25) -> 22500000 | M26: =SUM(M23:M25) -> 16500000 | N26: =SUM(N23:N25) -> -6000000
H28: 과목 | L28: 당초예산액 | M28: 추경예산액 | N28: 증감
D29: =SUM('총괄(수정금지)'!D7-D26) -> 0 | E29: =SUM('총괄(수정금지)'!E7-E26) -> 0 | F29: =SUM('총괄(수정금지)'!F7-F26) -> 0 | H29: 관 | I29: 항 | J29: 목
H30: 사업비 | I30: 사업비 | J30: 사례발굴사업비 | L30: ='총괄(수정금지)'!K39 -> 1000000 | M30: ='총괄(수정금지)'!L39 -> 500000 | N30: ='총괄(수정금지)'!M39 -> -500000
J31: 사례개입사업비 | L31: ='총괄(수정금지)'!K40 -> 7700000 | M31: ='총괄(수정금지)'!L40 -> 8220000 | N31: ='총괄(수정금지)'!M40 -> 520000
J32: 서비스연계사업비 | L32: ='총괄(수정금지)'!K41 -> 27850000 | M32: ='총괄(수정금지)'!L41 -> 26750000 | N32: ='총괄(수정금지)'!M41 -> -1100000
J33: 가족기능강화사업비 | L33: ='총괄(수정금지)'!K42 -> 16920000 | M33: ='총괄(수정금지)'!L42 -> 12795000 | N33: ='총괄(수정금지)'!M42 -> -4125000
J34: 지역사회보호사업비 | L34: ='총괄(수정금지)'!K43 -> 518965000 | M34: ='총괄(수정금지)'!L43 -> 510336840 | N34: ='총괄(수정금지)'!M43 -> -8628160
J35: 교육문화사업비 | L35: ='총괄(수정금지)'!K44 -> 10103000 | M35: ='총괄(수정금지)'!L44 -> 8847800 | N35: ='총괄(수정금지)'!M44 -> -1255200
J36: 자활지원등기타사업비 | L36: ='총괄(수정금지)'!K45 -> 4100000 | M36: ='총괄(수정금지)'!L45 -> 2600000 | N36: ='총괄(수정금지)'!M45 -> -1500000
J37: 복지네트워크구축사업비 | L37: ='총괄(수정금지)'!K46 -> 1900000 | M37: ='총괄(수정금지)'!L46 -> 2400000 | N37: ='총괄(수정금지)'!M46 -> 500000
J38: 주민조직화사업비 | L38: ='총괄(수정금지)'!K47 -> 71760000 | M38: ='총괄(수정금지)'!L47 -> 70060000 | N38: ='총괄(수정금지)'!M47 -> -1700000
J39: 자원개발및관리사업비 | L39: ='총괄(수정금지)'!K48 -> 17500000 | M39: ='총괄(수정금지)'!L48 -> 13200000 | N39: ='총괄(수정금지)'!M48 -> -4300000
J40: 푸드뱅크사업비 | L40: ='총괄(수정금지)'!K49 -> 47049000 | M40: ='총괄(수정금지)'!L49 -> 47049000 | N40: ='총괄(수정금지)'!M49 -> 0
J41: 푸드뱅크(G-푸드드림사업비) | L41: ='총괄(수정금지)'!K50 -> 35100000 | M41: ='총괄(수정금지)'!L50 -> 35100000 | N41: ='총괄(수정금지)'!M50 -> 0
J42: 푸드마켓사업비 | L42: ='총괄(수정금지)'!K51 -> 122156490 | M42: ='총괄(수정금지)'!L51 -> 122156490 | N42: ='총괄(수정금지)'!M51 -> 0
... J46: 돌봄서비스지원사업비 | L46: ='총괄(수정금지)'!K55 -> 0 | M46: ='총괄(수정금지)'!L55 -> 0 | N46: ='총괄(수정금지)'!M55 -> 0
I47: 합계 | L47: =SUM(L30:L46) -> 1006888550 | M47: =SUM(M30:M46) -> 984800190 | N47: =SUM(N30:N46) -> -22088360
H48: 잡지출 | I48: 잡지출 | K48: 잡지출 | L48: ='총괄(수정금지)'!K59 -> 200000 | M48: ='총괄(수정금지)'!L59 -> 200000 | N48: ='총괄(수정금지)'!M59 -> 0
I49: 합계 | L49: =SUM(L48) -> 200000 | M49: =SUM(M48) -> 200000 | N49: =SUM(N48) -> 0
H50: 예비비 및 기 타 | I50: 예비비 및 기타 | K50: 예비비 | L50: ='총괄(수정금지)'!K64 -> 3000000 | M50: ='총괄(수정금지)'!L64 -> 3000000 | N50: ='총괄(수정금지)'!M64 -> 0
K51: 반환금 | L51: ='총괄(수정금지)'!K66 -> 7800000 | M51: ='총괄(수정금지)'!L66 -> 7800000 | N51: ='총괄(수정금지)'!M66 -> 0
I52: 합계 | L52: =SUM(L50:L51) -> 10800000 | M52: =SUM(M50:M51) -> 10800000 | N52: =SUM(N50:N51) -> 0
H53: 세출계 | L53: =SUM(L52,L49,L47,L26,L22) -> 1831214498 | M53: =SUM(M52,M49,M47,M26,M22) -> 1790788608 | N53: =SUM(N52,N49,N47,N26,N22) -> -40425890
L55: ='총괄(수정금지)'!K7-L53 -> 0 | M55: ='총괄(수정금지)'!L7-M53 -> 0 | N55: ='총괄(수정금지)'!M7-N53 -> 0
L57: =SUM(D26-L53) -> 0 | M57: =SUM(E26-M53) -> 0 | N57: =SUM(F26-N53) -> 0

Sheet 총괄(수정금지)2025
A1: 2025년 심곡동종합사회복지관 3차추경 예산서
A2: (심곡동종합사회복지관)
A3: <별지 제6호 서식> (1)세입세출 총괄 | L3: 제출일자 : 2025.12 (단위: 원)
A4: 세 입 | H4: 세 출
A5: 관 | B5: 항 | C5: 목 | D5: 2025년 2차 | E5: 2025년 3차 | F5: 증감(B)-(A) | H5: 관 | I5: 항 | J5: 목 | K5: 2025년 2차 | L5: 2025년 3차 | M5: 증감(B)-(A)
D6: (A) | E6: (B) | F6: 액수 | G6: 비율 | K6: (A) | L6: (B) | M6: 액수 | N6: 비율
A7: 계 | D7: =SUM(D27,D33,D39,D45,D8,D57) -> 1803956576 | E7: =SUM(E27,E33,E39,E45,E8,E57) -> 1713261576 | F7: =E7-D7 -> -90695000 | G7: =F7/D7 -> -0.0502756 | H7: 계 | J7: =SUM(J8,J16,J21,J30,J36,J55,J62) -> 0.99988326 | K7: =SUM(K8+K16+K21+K30+K36+K55+K58+K62) -> 1803956576 | L7: =SUM(L8+L16+L21+L30+L36+L55+L58+L62) -> 1713261576 | M7: =L7-K7 -> -90695000 | N7: =M7/K7 -> -0.0502756 | O7: =L7-E7 -> 0
A8: 사업수입 | B8: 소계 | D8: =SUM(D10:D21) -> 18340000 | E8: =SUM(E10:E21) -> 14090000 | F8: =E8-D8 -> -4250000 | G8: =F8/D8 -> -0.23173391 | H8: 사무비 | I8: 소계 | J8: =L8/L7 -> 0.40905007 | K8: =SUM(K10:K15) -> 718646450 | L8: =SUM(L10:L15) -> 700809770 | M8: =L8-K8 -> -17836680 | N8: =M8/K8 -> -0.024819826
B10: 사업수입 | C10: 가족기능강화사업수입 | D10: =SUM('세입1(2025)'!G6) -> 6600000 | E10: =SUM('세입1(2025)'!H6) -> 4950000 | F10: =E10-D10 -> -1650000 | G10: =F10/D10 -> -0.25 | I10: 인건비 | J10: 급여 | K10: =SUM('세출1(2025)'!G7) -> 516099920 | L10: =SUM('세출1(2025)'!H7) -> 507619770 | M10: =L10-K10 -> -8480150 | N10: =M10/K10 -> -0.016431217
J12: 제수당 | K12: =SUM('세출1(2025)'!G46) -> 84431880 | L12: =SUM('세출1(2025)'!H46) -> 78996430 | M12: =L12-K12 -> -5435450 | N12: =M12/K12 -> -0.06437675
J13: 퇴직금 및 퇴직적립금 | K13: =SUM('세출1(2025)'!G90) -> 52044320 | L13: =SUM('세출1(2025)'!O90) -> 49884690 | M13: =L13-K13 -> -2159630 | N13: =M13/K13 -> -0.041495979
C14: 지역사회보호사업수입 | D14: =SUM('세입1(2025)'!G12) -> 8640000 | E14: =SUM('세입1(2025)'!H12) -> 8640000 | F14: =E14-D14 -> 0 | G14: =F14/D14 -> 0 | J14: 사회보험부담금 | K14: =SUM('세출1(2025)'!G94) -> 65970330 | L14: =SUM('세출1(2025)'!H94) -> 64208880 | M14: =L14-K14 -> -1761450 | N14: =M14/K14 -> -0.02670064
J15: 기타후생경비 | K15: =SUM('세출1(2025)'!G100) -> 100000 | L15: =SUM('세출1(2025)'!H100) -> 100000 | M15: =L15-K15 -> 0 | N15: =M15/K15 -> 0
I16: 소계 | J16: =L16/L7 -> 0.0044126362 | K16: =SUM(K18:K20) -> 12060000 | L16: =SUM(L18:L20) -> 7560000 | M16: =SUM(L16-K16) -> -4500000 | N16: =M16/K16 -> -0.37313433
C17: 복지네트워크구축사업수입 | D17: =SUM('세입1(2025)'!G16) -> 1000000 | E17: =SUM('세입1(2025)'!H16) -> 500000 | F17: =E17-D17 -> -500000 | G17: =F17/D17 -> -0.5
I18: 업무추진비 | J18: 기관운영비 | K18: =SUM('세출1(2025)'!G106) -> 8500000 | L18: =SUM('세출1(2025)'!O106) -> 5000000 | M18: =SUM(L18-K18) -> -3500000 | N18: =M18/K18 -> -0.41176471
C19: 교육문화사업수입 | D19: ='세입1(2025)'!G20 -> 2100000 | E19: ='세입1(2025)'!H20 -> 0 | F19: ='세입1(2025)'!I20 -> -2100000 | G19: =F19/D19 -> -1 | J19: 직책보조비 | K19: =SUM('세출1(2025)'!G108) -> 1500000 | L19: =SUM('세출1(2025)'!O108) -> 500000 | M19: =SUM(L19-K19) -> -1000000 | N19: =M19/K19 -> -0.66666667
J20: 회의비 | K20: =SUM('세출1(2025)'!G110) -> 2060000 | L20: =SUM('세출1(2025)'!O110) -> 2060000 | M20: =SUM(L20-K20) -> 0 | N20: =M20/K20 -> 0
I21: 소계 | J21: =L21/L7 -> 0.048599788 | K21: =SUM(K23:K29) -> 89594149 | L21: =SUM(L23:L29) -> 83264149 | M21: =SUM(L21-K21) -> -6330000 | N21: =M21/K21 -> -0.070651935
A22: 과년도 수입 | B22: 소계 | D22: =SUM(D24) -> 0 | E22: =SUM(E24) -> 0 | F22: =E22-D22 -> 0 | G22: 0
I23: 운영비 | J23: 여비 | K23: =SUM('세출1(2025)'!G116) -> 400000 | L23: =SUM('세출1(2025)'!H116) -> 400000 | M23: =SUM(L23-K23) -> 0 | N23: =M23/K23 -> 0
B24: 과년도수입 | C24: 과년도수입 | D24: =SUM(세입1!G27) -> 0 | E24: =SUM(세입1!H27) -> 0 | F24: =E24-D24 -> 0 | G24: 0 | J24: 수용비및수수료 | K24: =SUM('세출1(2025)'!G118) -> 31404149 | L24: =SUM('세출1(2025)'!H118) -> 31404149 | M24: =SUM(L24-K24) -> 0 | N24: =M24/K24 -> 0
J25: 공공요금 | K25: =SUM('세출1(2025)'!G126) -> 20760000 | L25: =SUM('세출1(2025)'!H126) -> 20760000 | M25: =SUM(L25-K25) -> 0 | N25: =M25/K25 -> 0
J26: 제세공과금 | K26: =SUM('세출1(2025)'!G132) -> 8000000 | L26: =SUM('세출1(2025)'!H132) -> 8000000 | M26: =SUM(L26-K26) -> 0 | N26: =M26/K26 -> 0
A27: 보조금 수입 | B27: 소계 | D27: =SUM(D29:D32) -> 1394578000 | E27: =SUM(E29:E32) -> 1370523000 | F27: =E27-D27 -> -24055000 | G27: =F27/D27 -> -0.017248946 | J27: 차량비 | K27: =SUM('세출1(2025)'!G136) -> 3360000 | L27: =SUM('세출1(2025)'!H136) -> 3360000 | M27: =SUM(L27-K27) -> 0 | N27: =M27/K27 -> 0
J28: 연료비 | K28: =SUM('세출1(2025)'!G140) -> 2400000 | L28: =SUM('세출1(2025)'!H140) -> 2400000 | M28: =SUM(L28-K28) -> 0 | N28: =M27/K28 -> 0
B29: 보조금수입 | C29: 시군구보조금 | D29: =SUM('세입1(2025)'!G32) -> 723995000 | E29: =SUM('세입1(2025)'!H32) -> 723995000 | F29: =E29-D29 -> 0 | G29: =F29/D29 -> 0 | J29: 기타운영비 | K29: =SUM('세출1(2025)'!G142) -> 23270000 | L29: =SUM('세출1(2025)'!H142) -> 16940000 | M29: =SUM(L29-K29) -> -6330000 | N29: =M29/K29 -> -0.27202407
H30: 재산 조성비 | I30: 소계 | J30: =L30/L7 -> 0.0059535567 | K30: =SUM(K33:K35) -> 20500000 | L30: =SUM(L33:L35) -> 10200000 | M30: =SUM(L30-K30) -> -10300000 | N30: =M30/K30 -> -0.50243902
C31: 기타보조금 | D31: =SUM('세입1(2025)'!G34) -> 670583000 | E31: =SUM('세입1(2025)'!H34) -> 646528000 | F31: =E31-D31 -> -24055000 | G31: =F31/D31 -> -0.035871771
A33: 후원금 수입 | B33: 소계 | D33: =SUM(D35:D38) -> 258100000 | E33: =SUM(E35:E38) -> 195580000 | F33: =E33-D33 -> -62520000 | G33: =F33/D33 -> -0.24223169 | I33: 시설비 | J33: 시설비 | K33: =SUM('세출1(2025)'!G154) -> 6000000 | L33: =SUM('세출1(2025)'!H154) -> 2500000 | M33: =SUM(L33-K33) -> -3500000 | N33: =M33/K33 -> -0.58333333
J34: 자산취득비 | K34: =SUM('세출1(2025)'!G155) -> 2500000 | L34: =SUM('세출1(2025)'!H155) -> 700000 | M34: =SUM(L34-K34) -> -1800000 | N34: =M34/K34 -> -0.72
B35: 후원금수입 | C35: 지정후원금 | D35: =SUM('세입1(2025)'!G55) -> 198100000 | E35: =SUM('세입1(2025)'!H55) -> 155580000 | F35: =E35-D35 -> -42520000 | G35: =F35/D35 -> -0.21463907 | J35: 시설장비유지비 | K35: =SUM('세출1(2025)'!G158) -> 12000000 | L35: =SUM('세출1(2025)'!H158) -> 7000000 | M35: =SUM(L35-K35) -> -5000000 | N35: =M35/K35 -> -0.41666667
H36: 사업비 | I36: 소계 | J36: =L36/L7 -> 0.52040272 | K36: =SUM(K39:K54) -> 939955977 | L36: =SUM(L39:L54) -> 891585977 | M36: =L36-K36 -> -48370000 | N36: =SUM(M36/K36) -> -0.051459857
C37: 비지정후원금 | D37: =SUM('세입1(2025)'!G77) -> 60000000 | E37: =SUM('세입1(2025)'!H77) -> 40000000 | F37: =E37-D37 -> -20000000 | G37: =F37/D37 -> -0.33333333
A39: 전입금 | B39: 소계 | D39: =SUM(D41:D44) -> 30000000 | E39: =SUM(E41:E44) -> 30000000 | F39: =E39-D39 -> 0 | G39: =F39/D39 -> 0 | I39: 사업비 (사례관리기능) | J39: 사례발굴사업비 | K39: =SUM('세출1(2025)'!G164) -> 2000000 | L39: =SUM('세출1(2025)'!H164) -> 1000000 | M39: =SUM(L39-K39) -> -1000000 | N39: =M39/K39 -> -0.5
J40: 사례개입사업비 | K40: =SUM('세출1(2025)'!G167) -> 9500000 | L40: =SUM('세출1(2025)'!H167) -> 9500000 | M40: =SUM(L40-K40) -> 0 | N40: =M40/K40 -> 0
B41: 전입금 | C41: 법인전입금 | D41: =SUM('세입1(2025)'!G80) -> 30000000 | E41: =SUM('세입1(2025)'!H80) -> 30000000 | F41: =E41-D41 -> 0 | G41: =F41/D41 -> 0 | J41: 서비스연계사업비 | K41: =SUM('세출1(2025)'!G174) -> 25500000 | L41: =SUM('세출1(2025)'!H174) -> 18000000 | M41: =SUM(L41-K41) -> -7500000 | N41: =M41/K41 -> -0.29411765
I42: 사업비 (서비스제공기능사업) | J42: 가족기능강화사업비 | K42: =SUM('세출1(2025)'!G189) -> 6600000 | L42: =SUM('세출1(2025)'!H189) -> 1320000 | M42: =L42-K42 -> -5280000 | N42: =M42/K42 -> -0.8
C43: 법인전입금(후원금) | D43: =SUM('세입1(2025)'!G81) -> 0 | E43: =SUM('세입1(2025)'!H81) -> 0 | F43: =E43-D43 -> 0 | G43: 0 | J43: 지역사회보호사업비 | K43: =SUM('세출1(2025)'!G198) -> 496440447 | L43: =SUM('세출1(2025)'!H198) -> 459840447 | M43: =L43-K43 -> -36600000 | N43: =M43/K43 -> -0.073724855
J44: 교육문화사업비 | K44: =SUM('세출1(2025)'!G256) -> 9100000 | L44: =SUM('세출1(2025)'!H256) -> 7100000 | M44: =L44-K44 -> -2000000 | N44: =M44/K44 -> -0.21978022
A45: 이월금 | B45: 소계 | D45: =SUM(D48:D55) -> 95138576 | E45: =SUM(E48:E56) -> 95138576 | F45: =E45-D45 -> 0 | G45: =F45/D45 -> 0 | J45: 자활지원등기타사업비 | K45: =SUM('세출1(2025)'!G266) -> 3100000 | L45: =SUM('세출1(2025)'!O266) -> 3100000 | M45: =L45-K45 -> 0 | N45: =M45/K45 -> 0
I46: 사업비 (지역사회조직화기능) | J46: 복지네트워크구축사업 | K46: =SUM('세출1(2025)'!G282) -> 6100000 | L46: =SUM('세출1(2025)'!H282) -> 5100000 | M46: =L46-K46 -> -1000000 | N46: =M46/K46 -> -0.16393443
J47: 주민조직화사업 | K47: =SUM('세출1(2025)'!G299) -> 70100000 | L47: =SUM('세출1(2025)'!H299) -> 64160000 | M47: =L47-K47 -> -5940000 | N47: =M47/K47 -> -0.084736091
B48: 이월금 | C48: 전년도이월금 | D48: =SUM('세입1(2025)'!G83) -> 39708390 | E48: =SUM('세입1(2025)'!H83) -> 39708390 | F48: =E48-D48 -> 0 | G48: =F48/D48 -> 0 | J48: 자원개발및관리사업비 | K48: =SUM('세출1(2025)'!G328) -> 17500000 | L48: =SUM('세출1(2025)'!H328) -> 28000000 | M48: =L48-K48 -> 10500000 | N48: =M48/K48 -> 0.6
I49: 사업비 | J49: 푸드뱅크 | K49: =SUM('세출1(2025)'!G356) -> 46182000 | L49: =SUM('세출1(2025)'!H356) -> 46182000 | M49: =L49-K49 -> 0 | N49: =M49/K49 -> 0
J50: 푸드뱅크(G푸드드림) | K50: =SUM('세출1(2025)'!G404) -> 36100000 | L50: =SUM('세출1(2025)'!H404) -> 36100000 | M50: =L50-K50 -> 0 | N50: =M50/K50 -> 0
C51: 전년도이월금(후원금) | D51: =SUM('세입1(2025)'!G90) -> 38730024 | E51: =SUM('세입1(2025)'!H90) -> 38730024 | F51: =E51-D51 -> 0 | G51: =SUM(F51/D51) -> 0 | J51: 푸드마켓 | K51: =SUM('세출1(2025)'!G426) -> 103135530 | L51: =SUM('세출1(2025)'!H426) -> 103135530 | M51: =L51-K51 -> 0 | N51: =M51/K51 -> 0
J52: 무한돌봄네트워크 | K52: =SUM('세출1(2025)'!G501) -> 44998000 | L52: =SUM('세출1(2025)'!H501) -> 45448000 | M52: =L52-K52 -> 450000 | N52: =M52/K52 -> 0.010000444
J53: 커뮤니티케어센터 | K53: =SUM('세출1(2025)'!G543) -> 27500000 | L53: =SUM('세출1(2025)'!H543) -> 27500000 | M53: =L53-K53 -> 0 | N53: =M53/K53 -> 0
J54: 푸드마켓(G푸드드림) | K54: =SUM('세출1(2025)'!G481) -> 36100000 | L54: =SUM('세출1(2025)'!H481) -> 36100000 | M54: =L54-K54 -> 0 | N54: 0
C55: 이월사업비 | D55: =SUM('세입1(2025)'!G93) -> 16700162 | E55: =SUM('세입1(2025)'!H93) -> 16700162 | F55: =E55-D55 -> 0 | G55: =SUM(F55/D55) -> 0 | H55: 과년도 지출 | I55: 소계 | J55: =SUM(L55/L7) -> 0 | K55: =SUM(K57) -> 0 | L55: =SUM(L57) -> 0 | M55: =L55-K55 -> 0 | N55: 0
A57: 잡수입 | B57: 소계 | D57: =SUM(D59:D67) -> 7800000 | E57: =SUM(E59:E67) -> 7930000 | F57: =E57-D57 -> 130000 | G57: =F57/D57 -> 0.016666667 | I57: 과년도지출 | J57: 과년도지출 | K57: =SUM(세출1!G363) -> 0 | L57: =SUM(세출1!H363) -> 0 | M57: =SUM(L57-K57) -> 0 | N57: 0
H58: 잡지출 | I58: 소계 | J58: =SUM(L58/L7) -> 0.00011673641 | K58: =SUM(K59) -> 200000 | L58: =SUM(L59) -> 200000 | M58: =L58-K58 -> 0 | N58: =M58/K58 -> 0
B59: 잡수입 | C59: 불용품매각대 | D59: =SUM('세입1(2025)'!G102) -> 300000 | E59: =SUM('세입1(2025)'!H102) -> 50000 | F59: =E59-D59 -> -250000 | G59: =F59/D59 -> -0.83333333 | I59: 잡지출 | J59: 잡지출 | K59: =SUM('세출1(2025)'!H346) -> 200000 | L59: =SUM('세출1(2025)'!H346) -> 200000 | M59: =L59-K59 -> 0 | N59: =M59/K59 -> 0
H62: 예비비 및 기타 | I62: 소계 | J62: =L62/L7 -> 0.011464496 | K62: =SUM(K64:K66) -> 23000000 | L62: =SUM(L64:L66) -> 19641680 | M62: =SUM(L62-K62) -> -3358320 | N62: =M62/K62 -> -0.14601391
C63: 기타예금이자수입 | D63: =SUM('세입1(2025)'!G104) -> 900000 | E63: =SUM('세입1(2025)'!H104) -> 380000 | F63: =E63-D63 -> -520000 | G63: =F63/D63 -> -0.57777778
I64: 예비비및기타 | J64: 예비비 | K64: =SUM('세출1(2025)'!G349) -> 3000000 | L64: =SUM('세출1(2025)'!H349) -> 2630000 | M64: =SUM(L64-K64) -> -370000 | N64: =M64/K64 -> -0.12333333
C65: 기타잡수입 | D65: =SUM('세입1(2025)'!G108) -> 6600000 | E65: =SUM('세입1(2025)'!H108) -> 7500000 | F65: =E65-D65 -> 900000 | G65: =F65/D65 -> 0.13636364
J66: 반환금 | K66: =SUM('세출1(2025)'!G351) -> 20000000 | L66: =SUM('세출1(2025)'!H351) -> 17011680 | M66: =SUM(L66-K66) -> -2988320 | N66: =SUM(M66/K66) -> -0.149416
K287: 7.주민모니터링단
O389: =SUM(O390:O394) -> 0
O390: =ROUNDUP((L390*M390),-1) -> 0
O391: =ROUNDUP((L391*M391),-1) -> 0
O393: =ROUNDUP((L393*M393),-1) -> 0
O394: =ROUNDUP((L394*M394),-1) -> 0
L415: 155695 | M415: 10 | O415: =SUM(L415*M415) -> 1556950
H422: =SUM(O422) -> 0
O423: =SUM(L423*M423) -> 0
O427: =SUM(L427*M427) -> 0

Sheet 세입1(2025)
A2: 관 | C2: 항 | E2: 목 | G2: 2025년 2차 | H2: 2025년 3차 | I2: 증가(B)-(A) | K2: 2025년 3차세부 예산 내역 | Q2: *확인 및 작성 완료 후 = 노랑색 배경 *줄 추가 가능 = 반드시 수식 연결 할 것 *증감 있을 시 = 세목 부분 메모 삽입
G3: (A) | H3: (B) | I3: 액수 | J3: 비율
A4: 총계 | G4: =SUM(G5,G31,G54,G79,G82,G101) -> 1803956576 | H4: =SUM(H5,H31,H54,H79,H82,H101) -> 1713261576 | I4: =SUM(I5,I31,I54,I79,I82,I101) -> -90695000 | J4: =I4/G4 -> -0.0502756
A5: 01 | B5: 사업수입 | C5: 11 | D5: 사업수입 | E5: 소계 | G5: =SUM(G6,G12,G16,G20) -> 18340000 | H5: =SUM(H6,H12,H16,H20) -> 14090000 | I5: =SUM(I6,I12,I16,I20) -> -4250000 | J5: =I5/G5 -> -0.23173391 | O5: =SUM(O7,O12,O16,O20) -> 14090000
E6: 111 | F6: 가족기능강화사업수입 | G6: 6600000 | H6: =O6 -> 4950000 | I6: =H6-G6 -> -1650000 | J6: =I6/G6 -> -0.25 | O6: =SUM(O7+O10) -> 4950000
K7: 1. 학교부적응학생프로그램 | O7: =SUM(O8) -> 4950000
K8: 지원금 | L8: 11000 | M8: 15 | N8: 30 | O8: =L8*N8*M8 -> 4950000
K10: 2. 사랑의교실 | O10: =SUM(O11) -> 0
O11: =SUM(L11*N11) -> 0
E12: 112 | F12: 지역사회보호사업수입 | G12: 8640000 | H12: =SUM(O12) -> 8640000 | I12: =H12-G12 -> 0 | J12: =I12/G12 -> 0 | O12: =SUM(O13) -> 8640000
K13: 1. 급식서비스 | O13: =SUM(O14:O15) -> 8640000
K14: 유료 | L14: 80000 | M14: 9 | N14: 12 | O14: =SUM(L14*M14*N14) -> 8640000
O15: =SUM(L15*M15*N15) -> 0
E16: 113 | F16: 복지네트워크구축사업 | G16: 1000000 | H16: =SUM(O16) -> 500000 | I16: =H16-G16 -> -500000 | J16: =I16/G16 -> -0.5 | O16: =SUM(O17) -> 500000
K17: 1.실습지도 | O17: =SUM(O18:O19) -> 500000
K18: 실습비(하계) | L18: 100000 | M18: 1 | N18: 4 | O18: =SUM(L18*N18*M18) -> 400000
K19: 실습비(학기중) | L19: 100000 | M19: 1 | N19: 1 | O19: =SUM(L19*N19*M19) -> 100000
E20: 114 | F20: 교육문화사업수입 | G20: 2100000 | H20: =O20 -> 0 | I20: =H20-G20 -> -2100000 | J20: =I20/G20 -> -1 | O20: =SUM(O22) -> 0
K21: 1. 문화누리바우처프로그램 | O21: 0
K22: 유료 | O22: =SUM(L22*M22*N22) -> 0
O23: =O24 -> 0
O24: =SUM(L24*M24*N24) -> 0
E25: 115 | F25: 자활지원 등 기타사업 | G25: 0 | H25: =SUM(O25) -> 0 | I25: =H25-G25 -> 0 | J25: 0 | O25: =SUM(O26) -> 0
K26: 1. 꿈볶는카페 | O26: =SUM(O27) -> 0
K27: 운영수입금 | L27: 0 | N27: 10 | O27: =SUM(L27*N27) -> 0
A28: 02 | B28: 과년도수입 | C28: 21 | D28: 과년도수입 | E28: 소계 | G28: =SUM(G29) -> 0 | H28: =SUM(H29) -> 0 | I28: =SUM(H28-G28) -> 0 | J28: 0 | O28: 0
E29: 211 | F29: 과년도수입 | G29: 0 | H29: 0 | I29: =SUM(H29-G29) -> 0 | J29: 0 | O29: 0
K30: 1.과년도수입 | O30: 0
A31: 03 | B31: 보조금수입 | C31: 31 | D31: 보조금수입 | E31: 소계 | G31: =SUM(G32,G34) -> 1394578000 | H31: =SUM(H32,H34) -> 1370523000 | I31: =H31-G31 -> -24055000 | J31: =I31/G31 -> -0.017248946 | O31: =SUM(O32,O34) -> 1370523000
E32: 313 | F32: 시군구보조금 | G32: 723995000 | H32: =O32 -> 723995000 | I32: =H32-G32 -> 0 | J32: =I32/G32 -> 0 | O32: =SUM(O33) -> 723995000
K33: 1.시군구보조금(경상보조금) | O33: 723995000
E34: 314 | F34: 기타보조금 | G34: 670583000 | H34: =SUM(O34) -> 646528000 | I34: =H34-G34 -> -24055000 | J34: =I34/G34 -> -0.035871771 | O34: =SUM(O35:O51) -> 646528000
K35: 1. 경로식당운영비 | O35: 110880000
K36: 2. 밑반찬운영비 | O36: 153090000
K37: 3. 무료급식소조리사인건비 | O37: 45120000
K38: 4. 무료급식소영양사인건비 | O38: 25740000
K39: 5. 푸드뱅크 | O39: 46082000
K40: 6. 푸드마켓 | O40: 100273000
K41: 7. 푸드뱅크코디네이터 | O41: 36000000
K42: 8. 무한돌봄네트워크 | O42: 45348000
K43: 9 . 햇살나눔사업 | O43: 6000000
K44: 10. 평생교육 | O44: 6000000
K45: 11. 커뮤니티케어센터 | O45: 27500000
K46: 12. 어린이날행사 | O46: 4000000
... K50: 16. 무더위쉼터냉방비 | O50: 495000
O51: 0
A52: 관 | C52: 항 | E52: 목 | G52: 2025년 2차 | H52: 2025년 3차 | I52: 증가(B)-(A) | K52: 2025년 3차세부 예산 내역
G53: (A) | H53: (B) | I53: 액수 | J53: 비율
A54: 04 | B54: 후원금수입 | C54: 41 | D54: 후원금수입 | E54: 소계 | G54: =SUM(G55,G77) -> 258100000 | H54: =SUM(H55,H77) -> 195580000 | I54: =H54-G54 -> -62520000 | J54: =I54/G54 -> -0.24223169 | O54: =SUM(O55+O77) -> 195580000
E55: 411 | F55: 지정후원금 | G55: 198100000 | H55: =SUM(O55) -> 155580000 | I55: =H55-G55 -> -42520000 | J55: =I55/G55 -> -0.21463907 | O55: =SUM(O56:O76) -> 155580000
K56: 1. 어린이재단 | O56: 9300000
K57: 2. 결연후원금 | O57: 42000000
K58: 3. (주)부광정공(사업비및기타환경개선지원) | O58: 7000000
K59: 4. 정율사관학원(신학기지원등) | O59: 3000000
K60: 5. 부천희망재단(위기가정지원금) | O60: 2000000
K61: 6. 월드비전(꿈날개클럽주니어지원사업) | O61: 2300000
K62: 7. 한국사회복지관협회 (취약계층난방비지원) | O62: 2500000
K63: 8. 원더풀의원(원더풀하트 프로젝트) | O63: 22000000
K64: 9. 진말몽당축제(심곡1동주민자치회) | O64: 4650000
K65: 10. 해리포터기자단(경기공동모금회) | O65: 10010000
K66: 11. 기타외부공모사업(예정) | O66: 15000000
K67: 12. 멘토스(바보의나눔) | O67: 10010000
... K74: 19. 크리스마스의기적(부천희망재단) | O74: 2000000
E77: 412 | F77: 비지정후원금 | G77: 60000000 | H77: =O77 -> 40000000 | I77: =H77-G77 -> -20000000 | J77: =I77/G77 -> -0.33333333 | O77: =SUM(O78) -> 40000000
K78: 1. 일반후원금 | O78: 40000000
A79: 06 | B79: 전입금 | C79: 61 | D79: 전입금 | E79: 소계 | G79: =SUM(G80:G81) -> 30000000 | H79: =SUM(O79) -> 30000000 | I79: =H79-G79 -> 0 | J79: =I79/G79 -> 0 | O79: =SUM(O80:O81) -> 30000000
E80: 611 | F80: 법인전입금 | G80: 30000000 | H80: =SUM(O80) -> 30000000 | I80: =H80-G80 -> 0 | J80: =I80/G80 -> 0 | K80: 1. 법인전입금 | O80: 30000000
E81: 612 | F81: 법인전입금(후원금) | G81: 0 | H81: =SUM(O81) -> 0 | I81: =H81-G81 -> 0 | J81: 0 | K81: 1. 법인전입금(후원금) | O81: 0
A82: 07 | B82: 이월금 | C82: 71 | D82: 이월금 | E82: 소계 | G82: =SUM(G83,G90,G93) -> 95138576 | H82: =SUM(H83,H90,H93) -> 95138576 | I82: =H82-G82 -> 0 | J82: =I82/G82 -> 0 | O82: =SUM(O83+O90+O93) -> 95138576
E83: 711 | F83: 전년도이월금 | G83: 39708390 | H83: =O83 -> 39708390 | I83: =H83-G83 -> 0 | J83: =I83/G83 -> 0 | O83: =SUM(O84:O89) -> 39708390
K84: 1. 사업비이월금 | O84: 3784615
K85: 2. 법인전입금이월금 | O85: 14508890
K86: 3. 잡수입이월금 | O86: =128000+29267+5230174+1345663 -> 6733104
K87: 4. 잡수입이월금(후원금) | O87: 417388
K88: 5. 정부보조금이월금 | O88: =12786330+178063-2700000 -> 10264393
K89: 6. 법인전입금(후원금)이월 | O89: 4000000
E90: 712 | F90: 전년도이월금(후원금) | G90: 38730024 | H90: =SUM(O90) -> 38730024 | I90: =H90-G90 -> 0 | J90: =I90/G90 -> 0 | O90: =SUM(O91:O92) -> 38730024
K91: 1. 일반후원수입이월금 | O91: 38730024
K92: 2. 결연후원수입이월금 | O92: 0
E93: 713 | F93: 이월사업비 | G93: 16700162 | H93: =O93 -> 16700162 | I93: =H93-G93 -> 0 | J93: =I93/G93 -> 0 | O93: =SUM(O94:O100) -> 16700162
K94: 1. 보)햇살나눔사업(이월) | O94: 2700000
K95: 2. 후)실로암선교센터(특별교육지원)이월 | O95: 3985447
K96: 3. 후)정율사관학원(신학기지원등)이월 | O96: 0
K97: 4. 후)농협사랑밭(온스토어)이월 | O97: 5780000
K98: 5. 후)우양재단(식재료지원)이월 | O98: 985000
K99: 6. 후)원더풀의원(원더풀하트프로젝트)이월 | O99: 3240000
K100: 7. 후)공동모금회(사회적관계망형성) | O100: 9715
A101: 08 | B101: 잡수입 | C101: 81 | D101: 잡수입 | E101: 소계 | G101: =SUM(G102,G104,G108) -> 7800000 | H101: =SUM(O101) -> 7930000 | I101: =H101-G101 -> 130000 | J101: =I101/G101 -> 0.016666667 | O101: =SUM(O102,O104,O108) -> 7930000
E102: 811 | F102: 불용품매각대 | G102: 300000 | H102: =SUM(O102) -> 50000 | I102: =H102-G102 -> -250000 | J102: =I102/G102 -> -0.83333333 | O102: =SUM(O103) -> 50000
K103: 1. 불용품매각대 | O103: 50000
E104: 812 | F104: 기타예금이자수입 | G104: 900000 | H104: =SUM(O104) -> 380000 | I104: =H104-G104 -> -520000 | J104: =I104/G104 -> -0.57777778 | O104: =SUM(O105:O107) -> 380000
K105: 1. 예금이자 | O105: 100000
K106: 2. 예금이자(보조금) | O106: 150000
K107: 3. 예금이자(후원금) | O107: 130000
E108: 813 | F108: 기타잡수입 | G108: 6600000 | H108: =SUM(O108) -> 7500000 | I108: =H108-G108 -> 900000 | J108: =I108/G108 -> 0.13636364 | O108: =SUM(O109) -> 7500000
K109: 1. 기타잡수입 | O109: 7500000
K314: 7.주민모니터링단
O416: =SUM(O417:O421) -> 0
O417: =ROUNDUP((L417*M417),-1) -> 0
O418: =ROUNDUP((L418*M418),-1) -> 0
...

Sheet 세출1(2025)
A2: 관 | C2: 항 | E2: 목 | G2: 2025년 2차 | H2: 2025년 3차 | I2: 증가(B)-(A) | K2: 2025년 3차 예산 세부 내역 | Q2: 작성 완료 후 = 노랑색 배경 줄 추가 가능 = 반드시 수식 연결 할 것 증감 있을 시 = 메모 삽입(증감액과 사유)
G3: (A) | H3: (B) | I3: 액 수 | J3: 비 율(%)
A4: 총계 | G4: =SUM(G6+G105+G115+G153+G163+G346+G348) -> 1803956576 | H4: =SUM(H6+H105+H115+H153+H163+H346+H348) -> 1713261576 | I4: =H4-G4 -> -90695000 | J4: =I4/G4 -> -0.0502756 | O4: =SUM(H4) -> 1713261576
A5: 01 | B5: 사무비 | C5: 합계 | G5: =G6+'세출1(2025)'!G105+'세출1(2025)'!G115 -> 820300599 | H5: =H6+'세출1(2025)'!H105+'세출1(2025)'!H115 -> 791633919 | I5: =H5-G5 -> -28666680 | J5: =I5/G5 -> -0.034946555 | O5: =O6+'세출1(2025)'!O105+'세출1(2025)'!O115 -> 791633919
C6: 11 | D6: 인건비 | E6: 합계 | G6: =G7+G46+G90+G94+G100 -> 718646450 | H6: =H7+H46+H90+H94+H100 -> 700809770 | I6: =H6-G6 -> -17836680 | J6: =I6/G6 -> -0.024819826 | O6: =SUM(O7+O46+O90+O94+O100) -> 700809770
E7: 111 | F7: 급여 | G7: 516099920 | H7: =O7 -> 507619770 | I7: =H7-G7 -> -8480150 | J7: =I7/G7 -> -0.016431217 | K7: 기본급 합계 | O7: =SUM(O8,O44) -> 507619770
J8: 기본급 | O8: =SUM(O9:O43) -> 488520370
K9: 관장 5호봉 | M9: 3324500 | N9: 3 | O9: =PRODUCT(M9:N9) -> 9973500
K10: 관장 6호봉 | M10: 3461600 | N10: 9 | O10: =PRODUCT(M10:N10) -> 31154400
K11: 부장 24호봉 | M11: 4776700 | N11: 12 | O11: =PRODUCT(M11:N11) -> 57320400
K12: 과장 13호봉 | M12: 3613100 | N12: 2 | O12: =PRODUCT(M12:N12) -> 7226200
K13: 과장 14호봉 | M13: 3699100 | N13: 10 | O13: =PRODUCT(M13:N13) -> 36991000
K14: 과장13호봉 | M14: 3613100 | N14: 5 | O14: =PRODUCT(M14:N14) -> 18065500 | Q14: 이성국
K15: 과장14호봉 | M15: 3699100 | N15: 7 | O15: =PRODUCT(M15:N15) -> 25893700
K16: 선임사회복지사14호봉 | M16: 3365100 | N16: 10 | O16: =PRODUCT(M16:N16) -> 33651000 | Q16: 안은빈
K17: 선임사회복지사15호봉 | M17: 3440800 | N17: 2 | O17: =PRODUCT(M17:N17) -> 6881600
K18: 선임사회복지사 13호봉 | M18: 3286200 | N18: 4 | O18: =PRODUCT(M18:N18) -> 13144800 | Q18: 정재경
K19: 선임사회복지사 14호봉 | M19: 3365100 | N19: 7 | O19: =PRODUCT(M19:N19) -> 23555700
K20: 선임사회복지사 13호봉 | M20: 2229930 | N20: 1 | O20: =M20*N20 -> 2229930
K21: 선임사회복지사 13호봉 | M21: 3286200 | N21: 4 | O21: =PRODUCT(M21:N21) -> 13144800 | Q21: 김영도
K22: 선임사회복지사 13호봉 | M22: 1060070 | N22: 1 | O22: =PRODUCT(M22:N22) -> 1060070
K23: 선임사회복지사 13호봉 | M23: 1908120 | N23: 1 | O23: =M23*N23 -> 1908120
K24: 선임사회복지사 13호봉 | M24: 3286200 | N24: 2 | O24: =PRODUCT(M24:N24) -> 6572400
K25: 선임사회복지사 14호봉 | M25: 3365100 | N25: 3 | O25: =PRODUCT(M25:N25) -> 10095300
K26: 사회복지사 4호봉 | M26: 2329900 | N26: 4 | O26: =PRODUCT(M26:N26) -> 9319600 | Q26: 조희진
K27: 사회복지사 2호봉 | M27: 1811050 | N27: 1 | O27: =PRODUCT(M27:N27) -> 1811050 | Q27: 이은진
K28: 사회복지사 2호봉 | M28: 2245700 | N28: 3 | O28: =PRODUCT(M28:N28) -> 6737100
K29: 사회복지사 3호봉 | M29: 2286400 | N29: 4 | O29: =PRODUCT(M29:N29) -> 9145600 | Q29: 송하늘
K30: 사회복지사 2호봉 | M30: 2245700 | N30: 4 | O30: =PRODUCT(M30:N30) -> 8982800
K31: 사회복지사 1호봉 | M31: 1777910 | N31: 1 | O31: =PRODUCT(M31:N31) -> 1777910
K32: 사회복지사 1호봉 | M32: 2204600 | N32: 7 | O32: =PRODUCT(M32:N32) -> 15432200
K33: 사회복지사 4호봉 | M33: 2329900 | N33: 12 | O33: =PRODUCT(M33:N33) -> 27958800
K34: 사회복지사 1호봉 | M34: 2204600 | N34: 4 | O34: =PRODUCT(M34:N34) -> 8818400 | Q34: 최수민
K35: 사회복지사 2호봉 | M35: 2245700 | N35: 8 | O35: =PRODUCT(M35:N35) -> 17965600
K36: 사회복지사 2호봉 | M36: 2245700 | N36: 6 | O36: =PRODUCT(M36:N36) -> 13474200 | Q36: 김민지
K37: 사회복지사 3호봉 | M37: 2286400 | N37: 6 | O37: =PRODUCT(M37:N37) -> 13718400
K38: 사회복지사 8호봉 | M38: 2645000 | N38: 1 | O38: =PRODUCT(M38:N38) -> 2645000 | Q38: 조정현
K39: 사회복지사 3호봉 | M39: 2123090 | N39: 1 | O39: =PRODUCT(M39:N39) -> 2123090
K40: 사회복지사 3호봉 | M40: 2286400 | N40: 5 | O40: =PRODUCT(M40:N40) -> 11432000
K41: 사회복지사 4호봉 | M41: 2329900 | N41: 5 | O41: =PRODUCT(M41:N41) -> 11649500
K42: 사회복지사 1호봉 | M42: 2204600 | N42: 7 | O42: =PRODUCT(M42:N42) -> 15432200 | Q42: 박혜령
K43: 사회복지사 2호봉 | M43: 2245700 | N43: 5 | O43: =PRODUCT(M43:N43) -> 11228500
J44: 기본급(생활임금) | K44: 생활임금 | N44: 12 | O44: 19099400
A46: 01 | B46: 사무비 | C46: 11 | D46: 인건비 | E46: 112 | F46: 제수당 | G46: 84431880 | H46: =O46 -> 78996430 | I46: =H46-G46 -> -5435450 | J46: =I46/G46 -> -0.06437675 | K46: 제수당 합계 | O46: =SUM(O47,O71,O72,O75,O76,O86) -> 78996430
J47: 명절휴가비 | K47: 명절휴가비 합계 | O47: =SUM(O48:O70) -> 45934980
K48: 관장 5호봉 | M48: 3324500 | N48: 0.6 | O48: =ROUNDUP((M48*N48),-1) -> 1994700
K49: 관장 6호봉 | M49: 3461600 | N49: 0.6 | O49: =ROUNDUP((M49*N49),-1) -> 2076960
K50: 부장 24호봉 | M50: 4776700 | N50: 1.2 | O50: =ROUNDUP((M50*N50),-1) -> 5732040
J51: 이혜진 | K51: 과장 13호봉 | M51: 3613100 | N51: 0.6 | O51: =ROUNDUP((M51*N51),-1) -> 2167860
J52: 이주연 | K52: 과장 14호봉 | M52: 3699100 | N52: 0.6 | O52: =ROUNDUP((M52*N52),-1) -> 2219460
J53: 이성국 | K53: 과장 13호봉 | M53: 3613100 | N53: 0.6 | O53: =ROUNDUP((M53*N53),-1) -> 2167860
K54: 과장 14호봉 | M54: 3699100 | N54: 0.6 | O54: =ROUNDUP((M54*N54),-1) -> 2219460
J55: 박지현 | K55: 선임사회복지사 14호봉 | M55: 3365100 | N55: 1.2 | O55: =ROUNDUP((M55*N55),-1) -> 4038120
K56: 선임사회복지사 14호봉 | M56: 3365100 | N56: 0.6 | O56: =ROUNDUP((M56*N56),-1) -> 2019060
K57: 선임사회복지사 14호봉 | M57: 3365100 | N57: 0.6 | O57: =ROUNDUP((M57*N57),-1) -> 2019060
K58: 사회복지사 4호봉 | M58: 2329900 | N58: 0.6 | O58: =ROUNDUP((M58*N58),-1) -> 1397940
K59: 사회복지사 3호봉 | M59: 2286400 | N59: 0.6 | O59: =ROUNDUP((M59*N59),-1) -> 1371840
K60: 사회복지사 2호봉 | M60: 2245700 | N60: 0.6 | O60: =ROUNDUP((M60*N60),-1) -> 1347420
K61: 사회복지사 1호봉 | M61: 2204600 | N61: 0.6 | O61: =ROUNDUP((M61*N61),-1) -> 1322760
K62: 사회복지사 4호봉 | M62: 2329900 | N62: 1.2 | O62: =ROUNDUP((M62*N62),-1) -> 2795880
K63: 사회복지사 1호봉 | M63: 2204600 | N63: 0.6 | O63: =ROUNDUP((M63*N63),-1) -> 1322760
K64: 사회복지사 2호봉 | M64: 2245700 | N64: 0.6 | O64: =ROUNDUP((M64*N64),-1) -> 1347420
K65: 사회복지사 2호봉 | M65: 2245700 | N65: 0.6 | O65: =ROUNDUP((M65*N65),-1) -> 1347420
K66: 사회복지사 3호봉 | M66: 2286400 | N66: 0.6 | O66: =ROUNDUP((M66*N66),-1) -> 1371840
K67: 사회복지사 8호봉 | M67: 2645000 | N67: 0.6 | O67: =ROUNDUP((M67*N67),-1) -> 1587000
... K70: 사회복지사 2호봉 | M70: 2245700 | N70: 0.6 | O70: =ROUNDUP((M70*N70),-1) -> 1347420
K71: 가족수당 | M71: 9 | N71: 12 | O71: 8572350
K72: 시간외근무수당 | O72: =SUM(O73,O74) -> 13260000
L73: 월 7만원 | M73: 13 | N73: 6 | O73: 5460000
L74: 월10만원 | M74: 13 | N74: 6 | O74: 7800000
K75: 연가보상비 | M75: 14 | N75: 1 | O75: 600000
K76: 직책수당 | O76: =SUM(O77:O85) -> 6429100
L77: 50000 | M77: 1 | N77: 12 | O77: =L77*M77*N77 -> 600000
L78: 50000 | M78: 1 | N78: 10 | O78: =L78*M78*N78 -> 500000
L79: 50000 | M79: 1 | N79: 4 | O79: =L79*M79*N79 -> 200000
L80: 50000 | M80: 1 | N80: 5 | O80: =L80*M80*N80 -> 250000
L81: 33930 | M81: 1 | N81: 1 | O81: =L81*M81*N81 -> 33930
L82: 16130 | M82: 1 | N82: 1 | O82: =L82*M82*N82 -> 16130
L83: 29040 | M83: 1 | N83: 1 | O83: =L83*M83*N83 -> 29040
L84: 100000 | M84: 2 | N84: 12 | O84: =L84*M84*N84 -> 2400000
L85: 200000 | M85: 1 | N85: 12 | O85: =L85*M85*N85 -> 2400000
K86: 관리자수당 | O86: =SUM(O87,O88) -> 4200000
L87: 300000 | M87: 1 | N87: 9 | O87: =SUM(L87*M87*N87) -> 2700000
L88: 500000 | M88: 1 | N88: 3 | O88: =SUM(L88*M88*N88) -> 1500000
E89: 113 | F89: 일용잡금 | G89: 0 | H89: 0 | I89: =H89-G89 -> 0 | J89: 0 | K89: 일용잡금 | O89: =SUM(L89*M89*N89) -> 0
E90: 115 | F90: 퇴직금 및 퇴직적립금 | G90: 52044320 | H90: =O90 -> 49884690 | I90: =H90-G90 -> -2159630 | J90: =I90/G90 -> -0.041495979 | O90: =SUM(O91:O93) -> 49884690
K91: 퇴직적립금 | M91: =O8+O46 -> 567516800 | N91: 1/12월= | O91: =ROUNDUP((M91/12),-1) -> 47293070
K92: 퇴직적립금(생활임금) | M92: =O44 -> 19099400 | N92: 1/12월= | O92: =ROUNDUP((M92/12),-1) -> 1591620
K93: 퇴직연금수수료 | N93: 연1회 | O93: 1000000
E94: 116 | F94: 사회보험부담금 | G94: 65970330 | H94: =O94 -> 64208880 | I94: =H94-G94 -> -1761450 | J94: =I94/G94 -> -0.02670064 | O94: =SUM(O95:O99) -> 64208880
K95: 국민연금(기타임금-처우,특수근무포함) | M95: =SUM(M91:M92)+30000000 -> 616616200 | N95: 0.045 | O95: =ROUNDUP((M95*N95),-1) -> 27747730
K96: 건강보험(기타임금포함) | M96: =SUM(M95) -> 616616200 | N96: 0.03545 | O96: =ROUNDUP((M96*N96),-1) -> 21859050
K97: 장기요양보험료 | M97: =SUM(O96) -> 21859050 | N97: 0.9082%/7.09% | O97: =ROUNDUP(O96*(0.9082%/7.09%),-1) -> 2800060
K98: 고용보험(기타임금포함) | M98: =SUM(M96) -> 616616200 | N98: 0.0115 | O98: =ROUNDUP((M98*N98),-1) -> 7091090
K99: 산재보험료(기타임금포함) | M99: =SUM(M96) -> 616616200 | N99: 0.00764 | O99: =ROUNDUP((M99*N99),-1) -> 4710950
E100: 117 | F100: 기타후생경비 | G100: 100000 | H100: =SUM(O100) -> 100000 | I100: =H100-G100 -> 0 | J100: =I100/G100 -> 0 | O100: =SUM(O102) -> 100000
K101: 1.기타후생경비
K102: -직원복리후생(상해보험가입 등) | M102: 100000 | N102: 1 | O102: =SUM(M102*N102) -> 100000
A103: 관 | C103: 항 | E103: 목 | G103: 2025년 2차 | H103: 2025년 3차 | I103: 증가(B)-(A) | K103: 2025년 3차 예산 세부 내역
G104: (A) | H104: (B) | I104: 액 수 | J104: 비 율(%)
...

Sheet 세부사업계획서(25.3차)
A1: 예산편성 시 업무 진행 순서 | F1: 운영위원 회의 자료 작성 (진행·예정 사업) → 세입 · 세출 확정 → 사업계획서 작성 → 세부사업계획서 작성
A2: 사업계획서 작성 GOGO→ → → → → → → → → → | F2: 2025년 사업계획서
A3: 세부사업계획 | F3: 아래 ↓ 세부사업계획서 작성 완료 후 글자색 ""검정색"""으로
A4: 분류 | C4: 세부사업명 | D4: 2025년 2차 | E4: 2025년 3차 | F4: 사업내용 | G4: 기대효과
D5: 2차예산 (단위: 천원) | E5: 3차예산 (단위: 천원)
A6: 계 | D6: =SUM(D7,D11,D16,D33,D50,D64,D73,D75,D77,D79,D81,D83,D38,D42) -> 939956 | E6: =SUM(E7,E11,E16,E33,E50,E64,E73,E75,E77,E79,E81,E83,E38,E42) -> 891585977 | F6: ='총괄(수정금지)'!L36-E6 -> 93214213
A7: 1. 사례 관리 기능 | B7: 사 례 관 리 사 업 | C7: 계 | D7: 37000 | E7: =SUM(E8:E10) -> 28500000
C8: 사례발굴 사업 | D8: 2000 | E8: ='총괄(수정금지)2025'!L39 -> 1000000 | F8: ▷당사자 가정 및 주민 의뢰를 통한 발굴 ▷유관기관 의뢰를 통한 발굴 ▷응급위기관리사업 | G8: ▷복지사각지대의 요보호대상자 발굴 ▷지역사회 내 취약계층의 복지 현황 파악 ▷응급위기 상황 대처 역량 강화
C9: 사례개입 사업 | D9: 9500 | E9: ='총괄(수정금지)2025'!L40 -> 9500000 | F9: ▷사례개입 -초기면접 -대상자선정 및 서비스판정 -개입계획수립 -상담 -사례회의 -평가회의 ▷통합사례회의 ▷햇살나눔네트워크 ▷생명마을만들기 | G9: ▷사례관리대상자에 대한 서비스 조정을 통해 중복수혜 예방 ▷통합적인 사례관리를 통한 서비스의 전문성 향상 ▷관내 유관기관간의 전문서비스네트워크 구축
C10: 서비스연계사업 | D10: 25500 | E10: ='총괄(수정금지)2025'!L41 -> 18000000 | F10: ▷내부·외부 서비스 연계 -기본생활지원 -심리정서지원 -건강지원 -가족기능지원 -교육발달지원 -경제적지원 | G10: ▷대상자의 역량강화 ▷아동 및 가족지원을 통한 가족기능강화 ▷통합적인 사례관리를 통한 재가보호
A11: 2. 서 비 스 제 공 기 능 | B11: 가 족 기 능 강 화 사 업 | C11: 계 | D11: =SUM(D12) -> 6600 | E11: =SUM(E12) -> 1320000
C12: 학교부적응 학생프로그램(햇빛자리) | D12: 6600 | E12: ='세출1(2025)'!O190 -> 1320000 | F12: ▷학교 내 징계 청소년 및 부적응 학생을 위한 집단상담, 진로탐색, 중독예방 교육 등 실시 | G12: ▷학생들의 자아정체성 탐색과 강점 발견 ▷지역 내 청소년의 건강한 가치관 수립
A14: 분류 | C14: 세부사업명 | D14: 2025년 2차 | E14: 2025년 3차 | F14: 사업내용 | G14: 기대효과
D15: 2차예산 (단위: 천원) | E15: 3차예산 (단위: 천원)
D16: =SUM(D17:D29) -> 496440 | E16: =SUM(E17:E29) -> 459840447
A17: 2. 서 비 스 제 공 기 능 | B17: 지 역 사 회 보 호 사 업 | C17: 경로식당 | D17: 193980 | E17: ='세출1(2025)'!O199+'세출1(2025)'!O210+'세출1(2025)'!O214 -> 193980000 | F17: ▷정기적인 중식 제공 및 거동불편대상자 식사 배달 | G17: ▷지역사회 거주하는 요보호노인을 대상으로 식사제공을 통한 결식방지 ▷정기적인 안부확인 및 서비스 연계 가능
C18: 밑반찬 배달 | D18: 153090 | E18: ='세출1(2025)'!O204 -> 153090000 | F18: ▷정기적인 밑반찬 제공 및 거동 불편대상자 식사 배달 | G18: ▷지역사회 거주하는 요보호노인을 대상으로 밑반찬제공을 통한 결식방지 ▷정기적인 안부확인 및 서비스 연계 가능
C19: 한방진료 | D19: 100 | E19: 100000 | F19: ▷ 한방 침 시술, 한의사 건강상담 | G19: ▷ 맞춤형 진료를 통한 신체통증 완화 및 건강 유지
C20: 결연사업 | D20: 54900 | E20: ='세출1(2025)'!O221 -> 42000000 | F20: ▷결연서비스 | G20: ▷저소득 노인, 아동, 장애인 현금 지원을 통한 경제적 지원
C21: 어린이재단 | D21: 6000 | E21: ='세출1(2025)'!O224 -> 9300000 | F21: ▷결연서비스 | G21: ▷저소득 아동 경제적 지원을 통한 건강한 성장 지원
C22: 개별상담서비스 | D22: 200 | E22: ='세출1(2025)'!O229 -> 200000 | F22: ▷개별 상담 서비스 | G22: ▷요보호대상자에 대한 지원으로 정서적지지 및 심리적 안정감을 제공 ▷요보호대상자에 대한 일상생활관리
C23: 생활용품 등 경제적 지원 | D23: 32000 | E23: ='세출1(2025)'!O232 -> 21000000 | F23: ▷생활용품지원 | G23: ▷경제적으로 어려운 지역사회 주민에게 생활에 필요한 물품을 지원을 통한 경제적 지원
C24: 장학금지원사업 | D24: 43000 | E24: ='세출1(2025)'!O235 -> 30000000 | F24: ▷정율사관학원 장학금 지원 ▷원더풀의원 장학금 지원 | G24: ▷경제적으로 어려운 지역사회 아동·청소년이 건강하게 성장할 수 있도록 지원
C25: 청소년 마약중독 예방 프로그램 | D25: 3985 | E25: ='세출1(2025)'!O238 -> 3985447 | F25: ▷청소년 마약 중독 예방 캠페인 및 책자, 공모전 진행 | G25: ▷마약 중독 인식 개선
C26: 개별식습관개선 프로그램 | D26: 985 | E26: ='세출1(2025)'!O245 -> 985000 | F26: ▷균형잡힌 식습관과 저염식을 통한 개별 식습관 개선 지원 | G26: ▷노인의 만성질환 예방 및 건강유지
C27: 기후위기 극복사업 | D27: 4000 | E27: ='세출1(2025)'!O248 -> 1000000 | F27: ▷여름철 무더위 안전사고 예방을 위한 무더위 쉼터 운영 ▷겨울철 한파 안전사고 예방을 위한 난방 지원 사업 제공 | G27: ▷폭염 및 한파취약가구 발굴을 통해 고독사 예방
C28: 행복나침반 | D28: 200 | E28: ='세출1(2025)'!O251 -> 200000 | F28: ▷한라마을 단지 전수조사 ▷한라마을 단지 내 지역주민 관련 기초 데이터 구축 | G28: ▷복지관 무료급식소 이용 및 미이용자 정보 파악, 근황 확인 용이 ▷복지관 신규 사업 대상자 및 후원물품 필요 대상자 발굴 ▷이용자 방문 및 상담 요청시 필요 정보 검색 가능
C29: 김장김치 지원사업 | D29: 4000 | E29: ='세출1(2025)'!O255 -> 4000000 | F29: ▷취약계층 가정 대상 김장김치 배분 | G29: ▷복지관 신규 사례대상자 발굴 ▷물품 지원을 통한 취약계층 가정 경제적 어려움 해소
A31: 사업 분류 | C31: 세부사업명 | D31: 2025년 2차 | E31: 2025년 3차 | F31: 사업내용 | G31: 기대효과
D32: 2차예산 (단위: 천원) | E32: 3차예산 (단위: 천원)
A33: 3. 서 비 스 제 공 기 능 | B33: 교 육 문 화 | C33: 계 | D33: =SUM(D34:D37) -> 9100 | E33: =SUM(E34:E37) -> 7100000
C34: 교육문화프로그램 | D34: 1000 | E34: ='세출1(2025)'!O257 -> 1000000 | F34: ▷지역주민 대상 교육문화 프로그램 진행 | G34: ▷지역주민 대상 교육문화 프로그램 참여의 기회 제공
C35: 평생교육 | D35: 6000 | E35: ='세출1(2025)'!O260 -> 6100000 | F35: ▷지역주민 대상 평생교육 프로그램 진행 | G35: ▷지역주민의 학습 접근성 증대 ▷평생교육 프로그램을 통한 지역주민 역량 강화 및 삶의 질 향상
C37: 문화누리바우처 프로그램 | D37: 2100 | E37: 0 | F37: ▷사업종료
B38: 자 활 지 원 등 기 타 | C38: 계 | D38: =SUM(D39:D41) -> 3100 | E38: =SUM(E39:E41) -> 3100000
C39: 홍보사업 | D39: 2500 | E39: ='세출1(2025)'!O267 -> 2500000 | F39: ▷소식지 및 리플렛, 온라인 플렛폼 운영 (블로그, 유튜브) 등 홍보물 제작을 통해 지역사회 내 기관의 인지도확산 및 사업홍보 실시 | G39: ▷기관 이미지 개선 및 인지도 상승 ▷자원 개발 및 연계확대
C40: 보고서및 연구지발간 | D40: 500 | E40: ='세출1(2025)'!O274 -> 500000 | F40: ▷연 사업보고서 발간 ▷기타보고서, 연구지발간 | G40: ▷사회복지 전문프로그램
C41: 취업정보 | D41: 100 | E41: ='세출1(2025)'!O277 -> 100000 | F41: ▷취업정보 게시 | G41: ▷정보접근이 어려운 지역주민들에게 취업 정보 제공
A42: 3. 지 역 조 직 화 기 능 | B42: 복 지 네 트 워 크 구 축 | C42: 계 | D42: =SUM(D43:D47) -> 6100 | E42: =SUM(E43:E47) -> 5100000
C43: 지역주민 간담회 (사업설명회) | D43: 1000 | E43: ='세출1(2025)'!O283 -> 1000000 | F43: ▷지역주민 대상 복지관 사업 안내 및 의견수렴 | G43: ▷지역주민과의 교류의 장 마련 ▷주민의견을 반영한 사업 계획 수립 및 운영
C44: 네트워크 모임 | D44: 1000 | E44: ='세출1(2025)'!O286 -> 500000 | F44: ▷지역자원 및 사업의 공유 및 사 업연계를 통해 복지네트워크구축 ▷협의회, 실무자모임, 부재연, 부 지련 등 활동 | G44: ▷지역사회 자원 공유 ▷지역사회 복지네트워크 구축
C45: 실습지도 | D45: 1000 | E45: ='세출1(2025)'!O289 -> 500000 | F45: ▷사례관리학교 운영 ▷사회복지학과 학부생 및 대학원생 대상교육 ▷실습계획, 지도 및 평가 | G45: ▷사회복지 실무경험제공 ▷실천지식과 기술습득 ▷사례관리실천과정 습득 ▷준사례관리자 양성
C46: 기관견학 | D46: 100 | E46: =세출1!O303 -> 100000 | F46: ▷온라인(메타버스 앱), 오프라인(직접방문) 기관 견학 프로그램 제공 | G46: ▷기관견학 참여자에 대한 인적자원 확보 ▷복지관 대외 홍보를 통한 이미지 상승
C47: 지역사회욕구조사 | D47: 3000 | E47: ='세출1(2025)'!O296 -> 3000000 | F47: ▷지역사회 욕구조사 | G47: ▷복지관 이용자 욕구 파악 ▷차기 사업 계획 반영
A48: 사업분류 | C48: 세부사업명 | D48: 2025년 2차 | E48: 2025년 3차 | F48: 사업내용 | G48: 기대효과
D49: 2차예산 (단위: 천원) | E49: 3차예산 (단위: 천원)
A50: 3. 지 역 조 직 화 기 능 | B50: 주 민 조 직 화 사 업 | C50: 계 | D50: =SUM(D51:D59) -> 70100 | E50: =SUM(E51:E59) -> 64160000
C51: 주민교육 | D51: 800 | E51: ='세출1(2025)'!O300 -> 2000000 | F51: ▷지역주민의 욕구를 반영한 다양한 지역대상교육, 부모교육 등 | G51: ▷지역주민의 인식개선 및 역량강화
C52: 절기행사 | D52: 23000 | E52: ='세출1(2025)'!O303 -> 20000000 | F52: ▷설날행사 ▷어린이날행사 ▷어버이날행사 ▷추석행사 | G52: ▷지역사회 화합의 소통의 장 마련 ▷ 절기별 명절 분위기 조성
C53: 멘토스 | D53: 13000 | E53: ='세출1(2025)'!O306 -> 12500000 | F53: ▷대학생 봉사단 멘토링 재능기부 ▷학습 및 특기 멘토링, 직업탐색, 체험 활동 | G53: ▷멘티 학습 능력 향상 및 진로 지원 ▷정서적안정 및 사회성향상
C54: 스마일 | D54: 1000 | E54: ='세출1(2025)'!O309 -> 1500000 | F54: ▷대학생 봉사자를 활용한 중장년 및 노인 대상 디지털 활용 교육 ▷일상생활 및 돌봄 관련 온라인 서비스 사용 안내, 정서지원 활동 | G54: ▷중장년 및 노인의 디지털 접근 및 활용 능력 강화
C55: 해리포터 기자단 | D55: 10000 | E55: ='세출1(2025)'!O312 -> 10010000 | F55: ▷아동, 청소년 지역사회 환경문제 발견 및 해결을 위한 서포터즈 운영 | G55: ▷지역사회 환경 관련 문제 인식과 문제 해결을 위한 활동 지원 ▷아동, 청소년 생애주기에 맞는 건강한 성장 및 소통기회 제공 ▷지역사회 아동, 청소년 조직으로써 소속감 및 자존감 향상
C56: 심과함께 | D56: 5000 | E56: ='세출1(2025)'!O315 -> 10500000 | F56: ▷ 1인가구 중장년층의 일상생활유지 및 신체활동 모임조직 운영 | G56: ▷사회적 관계망 형성 및 삶의 만족도 향상을 통한 주민주도적 삶 지원
C57: 진말몽당축제 | D57: 14300 | E57: ='세출1(2025)'!O318 -> 4650000 | F57: ▷심곡1동 지역주민과 대학, 주민자치회, 복지관이 어우러져 만드는 마을 축제 | G57: ▷지역 내 민·학·주민의 화합과 소통의 장 마련
C58: 한끼스카우트 | D58: 1000 | E58: ='세출1(2025)'!O321 -> 1000000 | F58: ▷ 2025년 한끼스카우트 활동 계획 수립 및 기본직무교육 진행 ▷ 무료급식 사업 운영 보조(식사 포장 및 배달, 이용자 말벗, 근황점검, 만족도 조사 등) | G58: ▷ 노화에 따른 신체기능 손실, 만성질환을 겪고 있는 이용자들의 정기적인 상태 파악 및 적절한 조치 가능. ▷ 유관기관과의 인적 자원 공유 및 활용을 통한 지역 내 사회적 연대 강화. ▷ 실천 현장에서의 예비 사회복지사 직무 훈련을 통해 전문 인력을 양성하여 지역사회복지 발전에 기여.
C59: 산수연(축복의여정) | D59: 2000 | E59: ='세출1(2025)'!O324 -> 2000000 | F59: ▷ 본당과 복지관이 협력하여 지역 내 팔순을 맞은 어르신 대상으로 산수연(팔순잔치) 행사 진행 | G59: ▷ 팔순을 맞은 어르신들이 자긍심과 행복감을 느끼고, 노년기 삶의 만족도를 향상. ▷ 본당 및 유관기관과의 협력이 활성화되어 지속 가능한 노인 지원 체계를 구축. ▷ 어르신들의 심리적 안정에 기여하며 가족뿐만 아니라 사회적 지지망을 확대.
C60: 희망을 심는시간(온마음펀드) | D60: 0 | E60: =#REF! -> #REF! | F60: ▷ 텃밭을 매개로한 1인 중장년 가구 자조모임 사업진행 | G60: ▷1인 가구 취약계층 주민 발굴 ▷주민들간 사회적 관계망 형성 ▷지역사회에 나눔문화 확산을 통한 긍정적 파급력 향상
A62: 사업분류 | C62: 세부사업명 | D62: 2025년 2차 | E62: 2025년 3차 | F62: 사업내용 | G62: 기대효과
D63: 2차예산 (단위: 천원) | E63: 3차예산 (단위: 천원)
A64: 3. 지 역 조 직 화 기 능 | B64: 자 원 개 발 및 관 리 사 업 | C64: 계 | D64: =SUM(D65:D69) -> 17500 | E64: =SUM(E65:E69) -> 28000000
C65: 자원봉사자 모집 및 관리 | D65: 4000 | E65: ='세출1(2025)'!O330 -> 4000000 | F65: ▷지역 내 다양한 인적자원 발굴 및 모집 ▷기초교육, 보수교육, 간담회, 감사서신 발송, 봉사자실적 관리 등 | G65: ▷다양한 인적자원 네트워크 구축
C66: 후원자 개발 및 관리 | D66: 6000 | E66: ='세출1(2025)'!O333 -> 6000000 | F66: ▷지역사회 내 다양한 자원 개발 및 관리 | G66: ▷사회복지 서비스 제공에 필요한 물적 자원 확보 ▷지역사회 복지발전 실현을 위한 지역사회 자원 축적
C67: 후원행사 | D67: 500 | E67: ='세출1(2025)'!O336 -> 0 | F67: ▷기관 후원자 및 자원봉사자, 지역주민을 초청하여 후원개발을 위한 행사 | G67: ▷신규 후원개발을 통한 물적자원 확보
C68: 개관행사 | D68: 3000 | E68: ='세출1(2025)'!O339 -> 14000000 | F68: ▷개관을 맞이하여 지역주민과 함께하는 지역축제 실시 | G68: ▷개관행사를 통한 복지관 인지도 및 관심 향상
C69: 자원봉사자 및후원자의날 | D69: 4000 | E69: ='세출1(2025)'!O342 -> 4000000 | F69: ▷자원봉사자 후원자지지 격려 활동 | G69: ▷자원봉사활동 및 후원에 대한 동기부여 및 기관과의 연계구축
A71: 사업분류 | C71: 세부사업명 | D71: 2025년 2차 | E71: 2025년 3차 | F71: 사업내용 | G71: 기대효과
D72: 2차예산 (단위: 천원) | E72: 3차예산 (단위: 천원)
A73: 4. 기 타 사 업 | B73: 4. 푸드 뱅크 | C73: 계 | D73: =D74 -> 46182 | E73: =E74 -> 46182000
C74: 1)푸드뱅크 | D74: 46182 | E74: ='세출1(2025)'!O356 -> 46182000 | F74: ▷지역내 여유식품 확보를 통해 지역의 어려운 이웃에게배분 ▷기부처 및 배분처 네트워크로 자원연계망 구축 | G74: ▷지역복지 네트워크 형성 ▷지역 자원 연계 ▷경제적, 물적 자원 확보 ▷자원의 공유 및 배분
B75: 5.G-푸드드림 | C75: 계 | D75: =D76 -> 36100 | E75: =E76 -> 36100000
C76: 1)G-푸드드림 (뱅크) | D76: 36100 | E76: ='세출1(2025)'!O404 -> 36100000 | F76: ▷푸드뱅크 기부처 및 이용자 발굴, 관리 ▷기부식품등제공사업 홍보 ▷자원봉사단 운영 | G76: ▷푸드뱅크사업 지원을 통한 사업의 확대 및 진행
B77: 6.G-푸드드림 | C77: 계 | D77: =D78 -> 36100 | E77: =E78 -> 36100000
C78: 1)G-푸드드림(마켓) | D78: 36100 | E78: ='세출1(2025)'!O481 -> 36100000 | F78: ▷푸드마켓 기부처 및 이용자 발굴, 관리 ▷기부식품등제공사업 홍보 ▷자원봉사단 운영 | G78: ▷푸드마켓사업 지원을 통한 사업의 확대 및 진행
B79: 7. 푸드 마켓 | C79: 계 | D79: =D80 -> 103136 | E79: =E80 -> 103135530
C80: 1)푸드마켓 | D80: 103136 | E80: ='세출1(2025)'!O426 -> 103135530 | F80: ▷푸드마켓 운영 ▷기부처 발굴 및 네트워크로 자원연계망 구축 ▷홍보 및 자원봉사자 관리 | G80: ▷지역사회 기부식품 나눔문화 활성화 ▷기부식품제공을 통한 저소득층 결식문제 완화
B81: 8. 무한돌봄 네트워크사업 | C81: 계 | D81: =D82 -> 44998 | E81: =E82 -> 45448000
C82: 1)무한돌봄네트워크사업 | D82: 44998 | E82: ='세출1(2025)'!O501 -> 45448000 | F82: ▷고난이도 사례관리 진행 ▷지역네트워크구축 | G82: ▷당사자 문제해결능력 향상 ▷지역보호체계마련 ▷통합사례관리기반마련
B83: 9. 커뮤니티 케어센터 | C83: 계 | D83: =D84 -> 27500 | E83: =E84 -> 27500000
C84: 1)커뮤니티케어사업 | D84: 27500 | E84: ='세출1(2025)'!O543 -> 27500000 | F84: ▷통합돌봄 대상자 및 지역 주민의 욕구에 맞는 프로그램 제공을 통해 지역사회 내에서 건강한 노후를 보낼 수 있도록 지원 | G84: ▷지역사회 내 돌봄안전망 강화 ▷지역사회 내 여가, 건강 문화 형성

Sheet 3차예산_운영위원회예산총괄(세입및세출)
B1: <보고사항2>
B2: 2025년도 심곡동종합사회복지관 3차예산 세입(안)
B3: ￭ 세부 내용: 사업수입 및 기타보조금 수입 감소, 지정·비지정 후원금 감소, 잡수입 증가
B4: (단위 : 원)
B5: 세 입
B6: 항 | C6: 목 | E6: ='법인의안)본예산_세입세출총괄표(25.3차)'!B2 -> 2025년 2차 | F6: ='법인의안)본예산_세입세출총괄표(25.3차)'!C2 -> 2025년 3차 | G6: 증감 | H6: 사유 및 근거
B7: 총 계 | E7: =SUM(E12,E15,E18,E21,E25,E29) -> 1803956576 | F7: =SUM(F12,F15,F18,F21,F25,F29) -> 1713261576 | G7: =F7-E7 -> -90695000
B8: 사 업 수 입 | C8: 가족기능강화 | E8: ='총괄(수정금지)2025'!D10 -> 6600000 | F8: ='총괄(수정금지)2025'!E10 -> 4950000 | G8: =F8-E8 -> -1650000 | H8: *학교부적응학생프로그램 -1,650,000원
C9: 지역사회보호 | E9: ='총괄(수정금지)2025'!D14 -> 8640000 | F9: ='총괄(수정금지)2025'!E14 -> 8640000 | G9: =F9-E9 -> 0
C10: 복지네트워크구축 | E10: ='총괄(수정금지)2025'!D17 -> 1000000 | F10: ='총괄(수정금지)2025'!E17 -> 500000 | G10: =F10-E10 -> -500000 | H10: *실습지도 -500,000원
C11: 교육문화사업수입 | E11: ='총괄(수정금지)2025'!D19 -> 2100000 | F11: ='총괄(수정금지)2025'!E19 -> 0 | G11: =F11-E11 -> -2100000 | H11: *문화누리바우처 프로그램 -2,100,000원
C12: 소 계 | E12: =SUM(E8:E11) -> 18340000 | F12: =SUM(F8:F11) -> 14090000 | G12: =F12-E12 -> -4250000
B13: 보 조 금 수 입 | C13: 시군구보조금 | E13: ='총괄(수정금지)2025'!D29 -> 723995000 | F13: ='총괄(수정금지)2025'!E29 -> 723995000 | G13: =F13-E13 -> 0
C14: 기타보조금 | E14: ='총괄(수정금지)2025'!D31 -> 670583000 | F14: ='총괄(수정금지)2025'!E31 -> 646528000 | G14: =F14-E14 -> -24055000 | H14: *무한돌봄 450,000원 *무더위쉼터냉방비 495,000원 *기타보조사업(예정) -25,000,000원
C15: 소계 | E15: =SUM(E13:E14) -> 1394578000 | F15: =SUM(F13:F14) -> 1370523000 | G15: =F15-E15 -> -24055000
B16: 후 원 금 수 입 | C16: 지정후원금 | E16: ='총괄(수정금지)2025'!D35 -> 198100000 | F16: ='총괄(수정금지)2025'!E35 -> 155580000 | G16: =F16-E16 -> -42520000 | H16: *지정후원금 -42,520,000원 (기타외부공모사업 예정금액 축소 및 각종 지정후원금 확정액 반영)
C17: 비지정후원금 | E17: ='총괄(수정금지)2025'!D37 -> 60000000 | F17: ='총괄(수정금지)2025'!E37 -> 40000000 | G17: =F17-E17 -> -20000000 | H17: *비지정후원 -20,000,000원
C18: 소계 | E18: =SUM(E16:E17) -> 258100000 | F18: =SUM(F16:F17) -> 195580000 | G18: =F18-E18 -> -62520000
B19: 전 입 금 | C19: 법인전입금 | E19: ='총괄(수정금지)2025'!D41 -> 30000000 | F19: ='총괄(수정금지)2025'!E41 -> 30000000 | G19: =F19-E19 -> 0
C20: 법인전입금 (후원금) | E20: ='총괄(수정금지)2025'!D43 -> 0 | F20: ='총괄(수정금지)2025'!E43 -> 0 | G20: =F20-E20 -> 0
C21: 소계 | E21: =SUM(E19:E20) -> 30000000 | F21: =SUM(F19:F20) -> 30000000 | G21: =F21-E21 -> 0
B22: 이 월 금 | C22: 전년도이월금 | E22: ='총괄(수정금지)2025'!D48 -> 39708390 | F22: ='총괄(수정금지)2025'!E48 -> 39708390 | G22: =F22-E22 -> 0
C23: 전년도이월금 (후원금) | E23: ='총괄(수정금지)2025'!D51 -> 38730024 | F23: ='총괄(수정금지)2025'!E51 -> 38730024 | G23: =F23-E23 -> 0
C24: 이월사업비 | E24: ='총괄(수정금지)2025'!D55 -> 16700162 | F24: ='총괄(수정금지)2025'!E55 -> 16700162 | G24: =F24-E24 -> 0
C25: 소 계 | E25: =SUM(E22:E24) -> 95138576 | F25: =SUM(F22:F24) -> 95138576 | G25: =F25-E25 -> 0
B26: 잡 수 입 | C26: 불용품매각대 | E26: ='총괄(수정금지)2025'!D59 -> 300000 | F26: ='총괄(수정금지)2025'!E59 -> 50000 | G26: =F26-E26 -> -250000 | H26: *불용품 매각대 및 예금이자수입 -770,000원
C27: 기타예금 이자수입 | E27: ='총괄(수정금지)2025'!D63 -> 900000 | F27: ='총괄(수정금지)2025'!E63 -> 380000 | G27: =F27-E27 -> -520000
C28: 기타잡수입 | E28: ='총괄(수정금지)2025'!D65 -> 6600000 | F28: ='총괄(수정금지)2025'!E65 -> 7500000 | G28: =F28-E28 -> 900000 | H28: *육아휴직사업주 지원금 등 900,000원
C29: 소 계 | E29: =SUM(E26:E28) -> 7800000 | F29: =SUM(F26:F28) -> 7930000 | G29: =F29-E29 -> 130000
B31: 2025년도 심곡동종합사회복지관 3차예산 세출(안)
B32: ￭ 세부 내용: 인건비 감소, 업무추진비 감소, 기타운영비 감소, 시설비 감소, 사업비 감소, 예비비및기타 감소
B33: (단위 : 원)
B34: 세 출
B35: 항 | C35: 목 | E35: =E6 -> 2025년 2차 | F35: =F6 -> 2025년 3차 | G35: 증감 | H35: 사유 및 근거
B36: 총 계 | E36: =SUM(E42,E46,E54,E58,E76,E78,E81) -> 1803956576 | F36: =SUM(F42,F46,F54,F58,F76,F78,F81) -> 1713261576 | G36: =F36-E36 -> -90695000
B37: 인 건 비 | C37: 급여 | E37: ='총괄(수정금지)2025'!K10 -> 516099920 | F37: ='총괄(수정금지)2025'!L10 -> 507619770 | G37: =F37-E37 -> -8480150 | H37: *종사자 변동 및 육아휴직 근로 기간 제외 적용 -17,836,680원
C38: 제수당 | E38: ='총괄(수정금지)2025'!K12 -> 84431880 | F38: ='총괄(수정금지)2025'!L12 -> 78996430 | G38: =F38-E38 -> -5435450
C39: 퇴직금및퇴직적립금 | E39: ='총괄(수정금지)2025'!K13 -> 52044320 | F39: ='총괄(수정금지)2025'!L13 -> 49884690 | G39: =F39-E39 -> -2159630
C40: 사회보험부담금 | E40: ='총괄(수정금지)2025'!K14 -> 65970330 | F40: ='총괄(수정금지)2025'!L14 -> 64208880 | G40: =F40-E40 -> -1761450
C41: 기타후생경비 | E41: ='총괄(수정금지)2025'!K15 -> 100000 | F41: ='총괄(수정금지)2025'!L15 -> 100000 | G41: =F41-E41 -> 0
C42: 소계 | E42: =SUM(E37:E41) -> 718646450 | F42: =SUM(F37:F41) -> 700809770 | G42: =F42-E42 -> -17836680
B43: 업 무 추 진 비 | C43: 기관운영비 | E43: ='총괄(수정금지)2025'!K18 -> 8500000 | F43: ='총괄(수정금지)2025'!L18 -> 5000000 | G43: =F43-E43 -> -3500000 | H43: *업무추진비 긴축 운영 -4,500,000원
C44: 직책보조비 | E44: ='총괄(수정금지)2025'!K19 -> 1500000 | F44: ='총괄(수정금지)2025'!L19 -> 500000 | G44: =F44-E44 -> -1000000
C45: 회의비 | E45: ='총괄(수정금지)2025'!K20 -> 2060000 | F45: ='총괄(수정금지)2025'!L20 -> 2060000 | G45: =F45-E45 -> 0
C46: 소계 | E46: =SUM(E43:E45) -> 12060000 | F46: =SUM(F43:F45) -> 7560000 | G46: =F46-E46 -> -4500000
B47: 운 영 비 | C47: 여비 | E47: ='총괄(수정금지)2025'!K23 -> 400000 | F47: ='총괄(수정금지)2025'!L23 -> 400000 | G47: =F47-E47 -> 0
C48: 수용비및수수료 | E48: ='총괄(수정금지)2025'!K24 -> 31404149 | F48: ='총괄(수정금지)2025'!L24 -> 31404149 | G48: =F48-E48 -> 0
C49: 공공요금 | E49: ='총괄(수정금지)2025'!K25 -> 20760000 | F49: ='총괄(수정금지)2025'!L25 -> 20760000 | G49: =F49-E49 -> 0
C50: 제세공과금 | E50: ='총괄(수정금지)2025'!K26 -> 8000000 | F50: ='총괄(수정금지)2025'!L26 -> 8000000 | G50: =F50-E50 -> 0
C51: 차량비 | E51: ='총괄(수정금지)2025'!K27 -> 3360000 | F51: ='총괄(수정금지)2025'!L27 -> 3360000 | G51: =F51-E51 -> 0
C52: 연료비 | E52: ='총괄(수정금지)2025'!K28 -> 2400000 | F52: ='총괄(수정금지)2025'!L28 -> 2400000 | G52: =F52-E52 -> 0
C53: 기타운영비 | E53: ='총괄(수정금지)2025'!K29 -> 23270000 | F53: ='총괄(수정금지)2025'!L29 -> 16940000 | G53: =F53-E53 -> -6330000 | H53: *기타운영비 -1,530,000원 *직원연수 -4,800,000원
C54: 소계 | E54: =SUM(E47:E53) -> 89594149 | F54: =SUM(F47:F53) -> 83264149 | G54: =F54-E54 -> -6330000
B55: 시 설 비 | C55: 시설비 | E55: ='총괄(수정금지)2025'!K33 -> 6000000 | F55: ='총괄(수정금지)2025'!L33 -> 2500000 | G55: =F55-E55 -> -3500000 | H55: *시설비 감소 -10,300,000원
C56: 자산취득비 | E56: ='총괄(수정금지)2025'!K34 -> 2500000 | F56: ='총괄(수정금지)2025'!L34 -> 700000 | G56: =F56-E56 -> -1800000
C57: 시설장비유지비 | E57: ='총괄(수정금지)2025'!K35 -> 12000000 | F57: ='총괄(수정금지)2025'!L35 -> 7000000 | G57: =F57-E57 -> -5000000
C58: 소 계 | E58: =SUM(E55:E57) -> 20500000 | F58: =SUM(F55:F57) -> 10200000 | G58: =F58-E58 -> -10300000
B59: 사 업 비 | C59: 사례 관리 기능 | D59: 사례발굴 | E59: ='총괄(수정금지)2025'!K39 -> 2000000 | F59: ='총괄(수정금지)2025'!L39 -> 1000000 | G59: =F59-E59 -> -1000000 | H59: *사례발굴사업 -1,000,000원
D60: 사례개입 | E60: ='총괄(수정금지)2025'!K40 -> 9500000 | F60: ='총괄(수정금지)2025'!L40 -> 9500000 | G60: =F60-E60 -> 0
D61: 서비스연계 | E61: ='총괄(수정금지)2025'!K41 -> 25500000 | F61: ='총괄(수정금지)2025'!L41 -> 18000000 | G61: =F61-E61 -> -7500000 | H61: *기본생활지원 2,500,000원 *가족기능지원 -500,000원 *교육발달지원 -4,000,000원 *경제지원 -9,000,000원 *위기가정재기지원 3,500,000원
C62: 서 비 스 연 계 기 능 | D62: 가족기능강화 | E62: ='총괄(수정금지)2025'!K42 -> 6600000 | F62: ='총괄(수정금지)2025'!L42 -> 1320000 | G62: =F62-E62 -> -5280000 | H62: *학교부적응학생프로그램 -5,280,000원
D63: 지역사회 보호 | E63: ='총괄(수정금지)2025'!K43 -> 496440447 | F63: ='총괄(수정금지)2025'!L43 -> 459840447 | G63: =F63-E63 -> -36600000 | H63: *결연사업 프로그램 -12,900,000원 *어린이재단 3,300,000원 *생필품등경제작지원 -11,000,000원 *장학금지원 -13,000,000원 *기후위기극복사업 -3,000,000원
D64: 교육문화 | E64: ='총괄(수정금지)2025'!K44 -> 9100000 | F64: ='총괄(수정금지)2025'!L44 -> 7100000 | G64: =F64-E64 -> -2000000 | H64: *평생교육 100,000원 *문화누리바우처 프로그램 -2,100,000원
D65: 자활지원등 기타 | E65: ='총괄(수정금지)2025'!K45 -> 3100000 | F65: ='총괄(수정금지)2025'!L45 -> 3100000 | G65: =F65-E65 -> 0
C66: 주 민 조 직 화 기 능 | D66: 복지네트 워크구축 | E66: ='총괄(수정금지)2025'!K46 -> 6100000 | F66: ='총괄(수정금지)2025'!L46 -> 5100000 | G66: =F66-E66 -> -1000000 | H66: *네트워크모임 -500,000원 *실습지도 -500,000원
D67: 주민 조직화 | E67: ='총괄(수정금지)2025'!K47 -> 70100000 | F67: ='총괄(수정금지)2025'!L47 -> 64160000 | G67: =F67-E67 -> -5940000 | H67: *주민교육 1,200,000원 *절기행사 -3,000,000원 *스마일 500,000원 *멘토스 -500,000원 *해리포터기자단 10,000원 *심과함께 5,500,000원 *진말몽당축제 -9,650,000원
D68: 자원개발 및 관리 | E68: ='총괄(수정금지)2025'!K48 -> 17500000 | F68: ='총괄(수정금지)2025'!L48 -> 28000000 | G68: =F68-E68 -> 10500000 | H68: *후원행사 -500,000원 *개관행사 11,000,000원
C69: 푸드뱅크 | E69: ='총괄(수정금지)2025'!K49 -> 46182000 | F69: ='총괄(수정금지)2025'!L49 -> 46182000 | G69: =F69-E69 -> 0
C70: 푸드마켓 | E70: ='총괄(수정금지)2025'!K51 -> 103135530 | F70: ='총괄(수정금지)2025'!L51 -> 103135530 | G70: =F70-E70 -> 0
C71: 푸드뱅크 (G푸드드림) | E71: ='총괄(수정금지)2025'!K50 -> 36100000 | F71: ='총괄(수정금지)2025'!L50 -> 36100000 | G71: =F71-E71 -> 0
C72: 푸드마켓 (G푸드드림) | E72: ='총괄(수정금지)2025'!K54 -> 36100000 | F72: ='총괄(수정금지)2025'!L54 -> 36100000 | G72: =F72-E72 -> 0
C73: 무한돌봄 | E73: ='총괄(수정금지)2025'!K52 -> 44998000 | F73: ='총괄(수정금지)2025'!L52 -> 45448000 | G73: =F73-E73 -> 450000 | H73: *보조금 증액 450,000원
C74: 커뮤니티케어센터 | E74: ='총괄(수정금지)2025'!K53 -> 27500000 | F74: ='총괄(수정금지)2025'!L53 -> 27500000 | G74: =F74-E74 -> 0
C75: 돌봄서비스지원 | E75: 0 | F75: 0 | G75: =F75-E75 -> 0
C76: 소계 | E76: =SUM(E59:E75) -> 939955977 | F76: =SUM(F59:F75) -> 891585977 | G76: =F76-E76 -> -48370000
B77: 잡지출 | C77: 잡지출 | E77: ='총괄(수정금지)2025'!K59 -> 200000 | F77: ='총괄(수정금지)2025'!L59 -> 200000 | G77: =F77-E77 -> 0
C78: 소 계 | E78: =SUM(E77) -> 200000 | F78: =SUM(F77) -> 200000 | G78: =F78-E78 -> 0
B79: 예비비 및 기타 | C79: 예비비 | E79: ='총괄(수정금지)2025'!K64 -> 3000000 | F79: ='총괄(수정금지)2025'!L64 -> 2630000 | G79: =F79-E79 -> -370000 | H79: *예비비 및 기타 -3,358,320원
C80: 반환금 | E80: ='총괄(수정금지)2025'!K66 -> 20000000 | F80: ='총괄(수정금지)2025'!L66 -> 17011680 | G80: =F80-E80 -> -2988320
C81: 소 계 | E81: =SUM(E79:E80) -> 23000000 | F81: =SUM(F79:F80) -> 19641680 | G81: =F81-E81 -> -3358320
E83: =SUM(E7-E36) -> 0 | F83: =SUM(F7-F36) -> 0 | G83: =SUM(G7-G36) -> 0
E84: =E7-'총괄(수정금지)2025'!D7 -> 0 | F84: =F7-'총괄(수정금지)2025'!E7 -> 0 | G84: =G7-'총괄(수정금지)2025'!F7 -> 0
E85: =E36-'총괄(수정금지)2025'!K7 -> 0 | F85: =F36-'총괄(수정금지)2025'!L7 -> 0 | G85: =G36-'총괄(수정금지)2025'!M7 -> 0

Sheet 법인의안)본예산_세입세출총괄표(25.3차)
A1: 세입 | F1: 세출
A2: 항목 | B2: ='총괄(수정금지)2025'!D5 -> 2025년 2차 | C2: ='총괄(수정금지)2025'!E5 -> 2025년 3차 | D2: 증감(B-A) | F2: 항목 | G2: ='총괄(수정금지)2025'!K5 -> 2025년 2차 | H2: ='총괄(수정금지)2025'!L5 -> 2025년 3차 | I2: 증감(B-A)
D3: 금액 | E3: 비율(%) | I3: 금액 | J3: 비율(%)
A4: 총 계 | B4: =SUM(B5:B10) -> 1803956576 | C4: =SUM(C5:C10) -> 1713261576 | D4: =SUM(D5:D10) -> -90695000 | E4: =D4/B4 -> -0.0502756 | F4: 총 계 | G4: =SUM(G5:G11) -> 1803956576 | H4: =SUM(H5:H11) -> 1713261576 | I4: =SUM(I5:I11) -> -90695000 | J4: =I4/G4 -> -0.0502756 | K4: =B4-G4 -> 0 | L4: =C4-'총괄(수정금지)2025'!E7 -> 0 | M4: =D4-'총괄(수정금지)2025'!F7 -> 0 | N4: =D4-I4 -> 0
A5: 사업수입 | B5: =SUM('총괄(수정금지)2025'!D8) -> 18340000 | C5: =SUM('총괄(수정금지)2025'!E8) -> 14090000 | D5: =SUM('총괄(수정금지)2025'!F8) -> -4250000 | E5: =D5/B5 -> -0.23173391 | F5: 인건비 | G5: ='총괄(수정금지)2025'!K8 -> 718646450 | H5: ='총괄(수정금지)2025'!L8 -> 700809770 | I5: ='총괄(수정금지)2025'!M8 -> -17836680 | J5: =I5/G5 -> -0.024819826 | K5: =G4-'총괄(수정금지)2025'!K7 -> 0 | L5: =H4-'총괄(수정금지)2025'!L7 -> 0 | M5: =I4-'총괄(수정금지)2025'!M7 -> 0
A6: 보조금수입 | B6: ='총괄(수정금지)2025'!D27 -> 1394578000 | C6: ='총괄(수정금지)2025'!E27 -> 1370523000 | D6: ='총괄(수정금지)2025'!F27 -> -24055000 | E6: =D6/B6 -> -0.017248946 | F6: 업무추진비 | G6: ='총괄(수정금지)2025'!K16 -> 12060000 | H6: ='총괄(수정금지)2025'!L16 -> 7560000 | I6: ='총괄(수정금지)2025'!M16 -> -4500000 | J6: =I6/G6 -> -0.37313433
A7: 후원금수입 | B7: ='총괄(수정금지)2025'!D33 -> 258100000 | C7: ='총괄(수정금지)2025'!E33 -> 195580000 | D7: ='총괄(수정금지)2025'!F33 -> -62520000 | E7: =D7/B7 -> -0.24223169 | F7: 운영비 | G7: ='총괄(수정금지)2025'!K21 -> 89594149 | H7: ='총괄(수정금지)2025'!L21 -> 83264149 | I7: ='총괄(수정금지)2025'!M21 -> -6330000 | J7: =I7/G7 -> -0.070651935
A8: 법인전입금 | B8: ='총괄(수정금지)2025'!D39 -> 30000000 | C8: ='총괄(수정금지)2025'!E39 -> 30000000 | D8: ='총괄(수정금지)2025'!F39 -> 0 | E8: =D8/B8 -> 0 | F8: 시설비 | G8: ='총괄(수정금지)2025'!K30 -> 20500000 | H8: ='총괄(수정금지)2025'!L30 -> 10200000 | I8: ='총괄(수정금지)2025'!M30 -> -10300000 | J8: =I8/G8 -> -0.50243902
A9: 이월금 | B9: ='총괄(수정금지)2025'!D45 -> 95138576 | C9: ='총괄(수정금지)2025'!E45 -> 95138576 | D9: ='총괄(수정금지)2025'!F45 -> 0 | E9: =D9/B9 -> 0 | F9: 사업비 | G9: ='총괄(수정금지)2025'!K36 -> 939955977 | H9: ='총괄(수정금지)2025'!L36 -> 891585977 | I9: ='총괄(수정금지)2025'!M36 -> -48370000 | J9: =I9/G9 -> -0.051459857
A10: 잡수입 | B10: ='총괄(수정금지)2025'!D57 -> 7800000 | C10: ='총괄(수정금지)2025'!E57 -> 7930000 | D10: ='총괄(수정금지)2025'!F57 -> 130000 | E10: =D10/B10 -> 0.016666667 | F10: 잡지출 | G10: ='총괄(수정금지)2025'!K58 -> 200000 | H10: ='총괄(수정금지)2025'!L58 -> 200000 | I10: ='총괄(수정금지)2025'!M58 -> 0 | J10: =I10/G10 -> 0
F11: 예비비및기타 | G11: ='총괄(수정금지)2025'!K62 -> 23000000 | H11: ='총괄(수정금지)2025'!L62 -> 19641680 | I11: ='총괄(수정금지)2025'!M62 -> -3358320 | J11: =I11/G11 -> -0.14601391

Sheet 법인의안)본예산_세입세출세부내역(25.3차)
A1: 세 입 | H1: 세 출
A2: 과목 | D2: 당초예산액 | E2: 추경예산액 | F2: 증감 | H2: 과목 | L2: 당초예산액 | M2: 추경예산액 | N2: 증감
A3: 관 | B3: 항 | C3: 목 | H3: 관 | I3: 항 | J3: 목
A4: 사업수입 | B4: 사업수입 | C4: 가족기능강화사업수입 | D4: ='총괄(수정금지)2025'!D10 -> 6600000 | E4: ='총괄(수정금지)2025'!E10 -> 4950000 | F4: ='총괄(수정금지)2025'!F10 -> -1650000 | H4: 사무비 | I4: 인건비 | J4: 급여 | L4: ='총괄(수정금지)2025'!K10 -> 516099920 | M4: ='총괄(수정금지)2025'!L10 -> 507619770 | N4: ='총괄(수정금지)2025'!M10 -> -8480150
C5: 지역사회보호사업수입 | D5: ='총괄(수정금지)2025'!D14 -> 8640000 | E5: ='총괄(수정금지)2025'!E14 -> 8640000 | F5: ='총괄(수정금지)2025'!F14 -> 0 | J5: 제수당 | L5: ='총괄(수정금지)2025'!K12 -> 84431880 | M5: ='총괄(수정금지)2025'!L12 -> 78996430 | N5: ='총괄(수정금지)2025'!M12 -> -5435450
C6: 복지네트워크구축사업수입 | D6: =SUM('총괄(수정금지)2025'!D17) -> 1000000 | E6: =SUM('총괄(수정금지)2025'!E17) -> 500000 | F6: ='총괄(수정금지)2025'!F17 -> -500000 | J6: 퇴직금 및 퇴직적립금 | L6: ='총괄(수정금지)2025'!K13 -> 52044320 | M6: ='총괄(수정금지)2025'!L13 -> 49884690 | N6: ='총괄(수정금지)2025'!M13 -> -2159630
C7: 교육문화사업수입 | D7: ='총괄(수정금지)2025'!D19 -> 2100000 | E7: ='총괄(수정금지)2025'!E19 -> 0 | F7: ='총괄(수정금지)2025'!F19 -> -2100000 | J7: 사회보험부담금 | L7: ='총괄(수정금지)2025'!K14 -> 65970330 | M7: ='총괄(수정금지)2025'!L14 -> 64208880 | N7: ='총괄(수정금지)2025'!M14 -> -1761450
C8: 소계 | D8: =SUM(D4:D7) -> 18340000 | E8: =SUM(E4:E7) -> 14090000 | F8: =SUM(F4:F7) -> -4250000 | J8: 기타후생경비 | L8: ='총괄(수정금지)2025'!K15 -> 100000 | M8: ='총괄(수정금지)2025'!L15 -> 100000 | N8: ='총괄(수정금지)2025'!M15 -> 0
A9: 보조금수입 | B9: 보조금수입 | C9: 시군구보조금 | D9: ='총괄(수정금지)2025'!D29 -> 723995000 | E9: ='총괄(수정금지)2025'!E29 -> 723995000 | F9: ='총괄(수정금지)2025'!F29 -> 0 | J9: 소계 | L9: =SUM(L4:L8) -> 718646450 | M9: =SUM(M4:M8) -> 700809770 | N9: =SUM(N4:N8) -> -17836680
C10: 기타보조금 | D10: ='총괄(수정금지)2025'!D31 -> 670583000 | E10: ='총괄(수정금지)2025'!E31 -> 646528000 | F10: ='총괄(수정금지)2025'!F31 -> -24055000 | I10: 업무추진비 | J10: 기관운영비 | L10: ='총괄(수정금지)2025'!K18 -> 8500000 | M10: ='총괄(수정금지)2025'!L18 -> 5000000 | N10: ='총괄(수정금지)2025'!M18 -> -3500000
C11: 소계 | D11: =SUM(D9:D10) -> 1394578000 | E11: =SUM(E9:E10) -> 1370523000 | F11: =SUM(F9:F10) -> -24055000 | J11: 직책보조비 | L11: ='총괄(수정금지)2025'!K19 -> 1500000 | M11: ='총괄(수정금지)2025'!L19 -> 500000 | N11: ='총괄(수정금지)2025'!M19 -> -1000000
A12: 후원금수입 | B12: 후원금수입 | C12: 지정후원금 | D12: ='총괄(수정금지)2025'!D35 -> 198100000 | E12: ='총괄(수정금지)2025'!E35 -> 155580000 | F12: ='총괄(수정금지)2025'!F35 -> -42520000 | J12: 회의비 | L12: ='총괄(수정금지)2025'!K20 -> 2060000 | M12: ='총괄(수정금지)2025'!L20 -> 2060000 | N12: ='총괄(수정금지)2025'!M20 -> 0
C13: 비지정후원금 | D13: ='총괄(수정금지)2025'!D37 -> 60000000 | E13: ='총괄(수정금지)2025'!E37 -> 40000000 | F13: ='총괄(수정금지)2025'!F37 -> -20000000 | J13: 소계 | L13: =SUM(L10:L12) -> 12060000 | M13: =SUM(M10:M12) -> 7560000 | N13: =SUM(N10:N12) -> -4500000
C14: 소계 | D14: =SUM(D12:D13) -> 258100000 | E14: =SUM(E12:E13) -> 195580000 | F14: =SUM(F12:F13) -> -62520000 | I14: 운영비 | J14: 여비 | L14: ='총괄(수정금지)2025'!K23 -> 400000 | M14: ='총괄(수정금지)2025'!L23 -> 400000 | N14: ='총괄(수정금지)2025'!M23 -> 0
A15: 전입금 | B15: 전입금 | C15: 법인전입금 | D15: ='총괄(수정금지)2025'!D41 -> 30000000 | E15: ='총괄(수정금지)2025'!E41 -> 30000000 | F15: ='총괄(수정금지)2025'!F41 -> 0 | J15: 수용비 및 수수료 | L15: ='총괄(수정금지)2025'!K24 -> 31404149 | M15: ='총괄(수정금지)2025'!L24 -> 31404149 | N15: ='총괄(수정금지)2025'!M24 -> 0
C16: 법인전입금(후원금) | D16: ='총괄(수정금지)2025'!D43 -> 0 | E16: ='총괄(수정금지)2025'!E43 -> 0 | F16: ='총괄(수정금지)2025'!F43 -> 0 | J16: 공공요금 | L16: ='총괄(수정금지)2025'!K25 -> 20760000 | M16: ='총괄(수정금지)2025'!L25 -> 20760000 | N16: ='총괄(수정금지)2025'!M25 -> 0
C17: 소계 | D17: =SUM(D15:D16) -> 30000000 | E17: =SUM(E15:E16) -> 30000000 | F17: =SUM(F15:F16) -> 0 | J17: 제세공과금 | L17: ='총괄(수정금지)2025'!K26 -> 8000000 | M17: ='총괄(수정금지)2025'!L26 -> 8000000 | N17: ='총괄(수정금지)2025'!M26 -> 0
A18: 이월금 | B18: 이월금 | C18: 전년도이월금 | D18: ='총괄(수정금지)2025'!D48 -> 39708390 | E18: ='총괄(수정금지)2025'!E48 -> 39708390 | F18: ='총괄(수정금지)2025'!F48 -> 0 | J18: 차량비 | L18: ='총괄(수정금지)2025'!K27 -> 3360000 | M18: ='총괄(수정금지)2025'!L27 -> 3360000 | N18: ='총괄(수정금지)2025'!M27 -> 0
C19: 전년도이월금(후원금) | D19: ='총괄(수정금지)2025'!D51 -> 38730024 | E19: ='총괄(수정금지)2025'!E51 -> 38730024 | F19: ='총괄(수정금지)2025'!F51 -> 0 | J19: 연료비 | L19: ='총괄(수정금지)2025'!K28 -> 2400000 | M19: ='총괄(수정금지)2025'!L28 -> 2400000 | N19: ='총괄(수정금지)2025'!M27 -> 0
C20: 이월사업비 | D20: ='총괄(수정금지)2025'!D55 -> 16700162 | E20: ='총괄(수정금지)2025'!E55 -> 16700162 | F20: ='총괄(수정금지)2025'!F55 -> 0 | J20: 기타운영비 | L20: ='총괄(수정금지)2025'!K29 -> 23270000 | M20: ='총괄(수정금지)2025'!L29 -> 16940000 | N20: ='총괄(수정금지)2025'!M29 -> -6330000
C21: 소계 | D21: =SUM(D18:D20) -> 95138576 | E21: =SUM(E18:E20) -> 95138576 | F21: =SUM(F18:F20) -> 0 | J21: 소계 | L21: =SUM(L14:L20) -> 89594149 | M21: =SUM(M14:M20) -> 83264149 | N21: =SUM(N14:N20) -> -6330000
A22: 잡수입 | B22: 잡수입 | C22: 불용품매각대 | D22: ='총괄(수정금지)2025'!D59 -> 300000 | E22: ='총괄(수정금지)2025'!E59 -> 50000 | F22: ='총괄(수정금지)2025'!F59 -> -250000 | I22: 합계 | L22: =SUM(L9,L13,L21) -> 820300599 | M22: =SUM(M9,M13,M21) -> 791633919 | N22: =SUM(N9,N13,N21) -> -28666680
C23: 기타예금이자수입 | D23: ='총괄(수정금지)2025'!D63 -> 900000 | E23: ='총괄(수정금지)2025'!E63 -> 380000 | F23: ='총괄(수정금지)2025'!F63 -> -520000 | H23: 재산조성비 | I23: 시설비 | K23: 시설비 | L23: ='총괄(수정금지)2025'!K33 -> 6000000 | M23: ='총괄(수정금지)2025'!L33 -> 2500000 | N23: ='총괄(수정금지)2025'!M33 -> -3500000
C24: 기타잡수입 | D24: ='총괄(수정금지)2025'!D65 -> 6600000 | E24: ='총괄(수정금지)2025'!E65 -> 7500000 | F24: ='총괄(수정금지)2025'!F65 -> 900000 | K24: 자산취득비 | L24: ='총괄(수정금지)2025'!K34 -> 2500000 | M24: ='총괄(수정금지)2025'!L34 -> 700000 | N24: ='총괄(수정금지)2025'!M34 -> -1800000
C25: 소계 | D25: =SUM(D22:D24) -> 7800000 | E25: =SUM(E22:E24) -> 7930000 | F25: =SUM(F22:F24) -> 130000 | K25: 시설장비 유지비 | L25: ='총괄(수정금지)2025'!K35 -> 12000000 | M25: ='총괄(수정금지)2025'!L35 -> 7000000 | N25: ='총괄(수정금지)2025'!M35 -> -5000000
A26: 세입계 | D26: =SUM(D25,D21,D17,D14,D11,D8) -> 1803956576 | E26: =SUM(E25,E21,E17,E14,E11,E8) -> 1713261576 | F26: =SUM(F25,F21,F17,F14,F11,F8) -> -90695000 | I26: 합계 | L26: =SUM(L23:L25) -> 20500000 | M26: =SUM(M23:M25) -> 10200000 | N26: =SUM(N23:N25) -> -10300000
H28: 과목 | L28: 당초예산액 | M28: 추경예산액 | N28: 증감
D29: =SUM('총괄(수정금지)2025'!D7-D26) -> 0 | E29: =SUM('총괄(수정금지)2025'!E7-E26) -> 0 | F29: =SUM('총괄(수정금지)2025'!F7-F26) -> 0 | H29: 관 | I29: 항 | J29: 목
H30: 사업비 | I30: 사업비 | J30: 사례발굴사업비 | L30: ='총괄(수정금지)2025'!K39 -> 2000000 | M30: ='총괄(수정금지)2025'!L39 -> 1000000 | N30: ='총괄(수정금지)2025'!M39 -> -1000000
J31: 사례개입사업비 | L31: ='총괄(수정금지)2025'!K40 -> 9500000 | M31: ='총괄(수정금지)2025'!L40 -> 9500000 | N31: ='총괄(수정금지)2025'!M40 -> 0
J32: 서비스연계사업비 | L32: ='총괄(수정금지)2025'!K41 -> 25500000 | M32: ='총괄(수정금지)2025'!L41 -> 18000000 | N32: ='총괄(수정금지)2025'!M41 -> -7500000
J33: 가족기능강화사업비 | L33: ='총괄(수정금지)2025'!K42 -> 6600000 | M33: ='총괄(수정금지)2025'!L42 -> 1320000 | N33: ='총괄(수정금지)2025'!M42 -> -5280000
J34: 지역사회보호사업비 | L34: ='총괄(수정금지)2025'!K43 -> 496440447 | M34: ='총괄(수정금지)2025'!L43 -> 459840447 | N34: ='총괄(수정금지)2025'!M43 -> -36600000
J35: 교육문화사업비 | L35: ='총괄(수정금지)2025'!K44 -> 9100000 | M35: ='총괄(수정금지)2025'!L44 -> 7100000 | N35: ='총괄(수정금지)2025'!M44 -> -2000000
J36: 자활지원등기타사업비 | L36: ='총괄(수정금지)2025'!K45 -> 3100000 | M36: ='총괄(수정금지)2025'!L45 -> 3100000 | N36: ='총괄(수정금지)2025'!M45 -> 0
J37: 복지네트워크구축사업비 | L37: ='총괄(수정금지)2025'!K46 -> 6100000 | M37: ='총괄(수정금지)2025'!L46 -> 5100000 | N37: ='총괄(수정금지)2025'!M46 -> -1000000
J38: 주민조직화사업비 | L38: ='총괄(수정금지)2025'!K47 -> 70100000 | M38: ='총괄(수정금지)2025'!L47 -> 64160000 | N38: ='총괄(수정금지)2025'!M47 -> -5940000
J39: 자원개발및관리사업비 | L39: ='총괄(수정금지)2025'!K48 -> 17500000 | M39: ='총괄(수정금지)2025'!L48 -> 28000000 | N39: ='총괄(수정금지)2025'!M48 -> 10500000
J40: 푸드뱅크사업비 | L40: ='총괄(수정금지)2025'!K49 -> 46182000 | M40: ='총괄(수정금지)2025'!L49 -> 46182000 | N40: ='총괄(수정금지)2025'!M49 -> 0
J41: 푸드뱅크(G-푸드드림사업비) | L41: ='총괄(수정금지)2025'!K50 -> 36100000 | M41: ='총괄(수정금지)2025'!L50 -> 36100000 | N41: ='총괄(수정금지)2025'!M50 -> 0
J42: 푸드마켓사업비 | L42: ='총괄(수정금지)2025'!K51 -> 103135530 | M42: ='총괄(수정금지)2025'!L51 -> 103135530 | N42: ='총괄(수정금지)2025'!M51 -> 0
... J46: 돌봄서비스지원사업비 | L46: ='총괄(수정금지)2025'!K55 -> 0 | M46: ='총괄(수정금지)2025'!L55 -> 0 | N46: ='총괄(수정금지)2025'!M55 -> 0
I47: 합계 | L47: =SUM(L30:L46) -> 939955977 | M47: =SUM(M30:M46) -> 891585977 | N47: =SUM(N30:N46) -> -48370000
H48: 잡지출 | I48: 잡지출 | K48: 잡지출 | L48: ='총괄(수정금지)2025'!K59 -> 200000 | M48: ='총괄(수정금지)2025'!L59 -> 200000 | N48: ='총괄(수정금지)2025'!M59 -> 0
I49: 합계 | L49: =SUM(L48) -> 200000 | M49: =SUM(M48) -> 200000 | N49: =SUM(N48) -> 0
H50: 예비비 및 기 타 | I50: 예비비 및 기타 | K50: 예비비 | L50: ='총괄(수정금지)2025'!K64 -> 3000000 | M50: ='총괄(수정금지)2025'!L64 -> 2630000 | N50: ='총괄(수정금지)2025'!M64 -> -370000
K51: 반환금 | L51: ='총괄(수정금지)2025'!K66 -> 20000000 | M51: ='총괄(수정금지)2025'!L66 -> 17011680 | N51: ='총괄(수정금지)2025'!M66 -> -2988320
I52: 합계 | L52: =SUM(L50:L51) -> 23000000 | M52: =SUM(M50:M51) -> 19641680 | N52: =SUM(N50:N51) -> -3358320
H53: 세출계 | L53: =SUM(L52,L49,L47,L26,L22) -> 1803956576 | M53: =SUM(M52,M49,M47,M26,M22) -> 1713261576 | N53: =SUM(N52,N49,N47,N26,N22) -> -90695000
L55: ='총괄(수정금지)2025'!K7-L53 -> 0 | M55: ='총괄(수정금지)2025'!L7-M53 -> 0 | N55: ='총괄(수정금지)2025'!M7-N53 -> 0
L57: =SUM(D26-L53) -> 0 | M57: =SUM(E26-M53) -> 0 | N57: =SUM(F26-N53) -> 0

Sheet 총괄
A1: 2026년 심곡동종합사회복지관 3차추경 예산서
A2: (심곡동종합사회복지관)
A3: <별지 제6호 서식> (1)세입세출 총괄 | L3: 제출일자 : 2026.09 (단위: 원)
A4: 세 입 | H4: 세 출
A5: 관 | B5: 항 | C5: 목 | D5: 2026년 2차 | E5: 2026년 3차 | F5: 증감(B)-(A) | H5: 관 | I5: 항 | J5: 목 | K5: 2026년 2차 | L5: 2026년 3차 | M5: 증감(B)-(A)
D6: (A) | E6: (B) | F6: 액수 | G6: 비율 | K6: (A) | L6: (B) | M6: 액수 | N6: 비율
A7: 계 | D7: =SUM(D27,D33,D39,D45,D8,D58) -> 1862073604 | E7: =SUM(E27,E33,E39,E45,E8,E58) -> 1884954904 | F7: =E7-D7 -> 22881300 | G7: =F7/D7 -> 0.012288075 | H7: 계 | J7: =SUM(J8,J16,J21,J30,J36,J56,J63) -> 0.9998939 | K7: =SUM(K8+K16+K21+K30+K36+K56+K59+K63) -> 1862073604 | L7: =SUM(L8+L16+L21+L30+L36+L56+L59+L63) -> 1884954904 | M7: =L7-K7 -> 22881300 | N7: =M7/K7 -> 0.012288075 | O7: =L7-E7 -> 0
A8: 사업수입 | B8: 소계 | D8: =SUM(D10:D21) -> 18340000 | E8: =SUM(E10:E21) -> 17020000 | F8: =E8-D8 -> -1320000 | G8: =F8/D8 -> -0.071973828 | H8: 사무비 | I8: 소계 | J8: =L8/L7 -> 0.39454848 | K8: =SUM(K10:K15) -> 755405110 | L8: =SUM(L10:L15) -> 743706100 | M8: =SUM(M10:M15) -> -11699010 | N8: =M8/K8 -> -0.015487068
B10: 사업수입 | C10: 가족기능강화사업수입 | D10: =SUM('세입1(2026)'!G6) -> 6600000 | E10: =SUM('세입1(2026)'!H6) -> 5280000 | F10: =E10-D10 -> -1320000 | G10: =F10/D10 -> -0.2 | I10: 인건비 | J10: 급여 | K10: =SUM('세출1(2026)'!G7) -> 532726830 | L10: =SUM('세출1(2026)'!H7) -> 526373700 | M10: =L10-K10 -> -6353130 | N10: =M10/K10 -> -0.011925681
J12: 제수당 | K12: =SUM('세출1(2026)'!G42) -> 98296330 | L12: =SUM('세출1(2026)'!H42) -> 96310100 | M12: =L12-K12 -> -1986230 | N12: =M12/K12 -> -0.020206553
J13: 퇴직금 및 퇴직적립금 | K13: =SUM('세출1(2026)'!G78) -> 53385280 | L13: =SUM('세출1(2026)'!H78) -> 50628540 | M13: =L13-K13 -> -2756740 | N13: =M13/K13 -> -0.051638579
C14: 지역사회보호사업수입 | D14: =SUM('세입1(2026)'!G9) -> 8640000 | E14: =SUM('세입1(2026)'!H9) -> 8640000 | F14: =E14-D14 -> 0 | G14: =F14/D14 -> 0 | J14: 사회보험부담금 | K14: =SUM('세출1(2026)'!G85) -> 70896670 | L14: =SUM('세출1(2026)'!H85) -> 70293760 | M14: =L14-K14 -> -602910 | N14: =M14/K14 -> -0.0085040666
J15: 기타후생경비 | K15: =SUM('세출1(2026)'!G91) -> 100000 | L15: =SUM('세출1(2026)'!H91) -> 100000 | M15: =L15-K15 -> 0 | N15: =M15/K15 -> 0
I16: 소계 | J16: =L16/L7 -> 0.0051672324 | K16: =SUM(K18:K20) -> 9560000 | L16: =SUM(L18:L20) -> 9740000 | M16: =SUM(L16-K16) -> 180000 | N16: =M16/K16 -> 0.018828452
C17: 복지네트워크구축사업수입 | D17: =SUM('세입1(2026)'!G13) -> 1100000 | E17: =SUM('세입1(2026)'!H13) -> 1100000 | F17: =E17-D17 -> 0 | G17: =F17/D17 -> 0
I18: 업무추진비 | J18: 기관운영비 | K18: =SUM('세출1(2026)'!G98) -> 6000000 | L18: =SUM('세출1(2026)'!H98) -> 6000000 | M18: =SUM(L18-K18) -> 0 | N18: =M18/K18 -> 0
C19: 교육문화사업수입 | D19: ='세입1(2026)'!G20 -> 2000000 | E19: ='세입1(2026)'!H20 -> 2000000 | F19: =E19-D19 -> 0 | G19: 0 | J19: 직책보조비 | K19: =SUM('세출1(2026)'!G100) -> 1500000 | L19: =SUM('세출1(2026)'!H100) -> 1500000 | M19: =SUM(L19-K19) -> 0 | N19: =M19/K19 -> 0
J20: 회의비 | K20: =SUM('세출1(2026)'!G102) -> 2060000 | L20: =SUM('세출1(2026)'!H102) -> 2240000 | M20: =SUM(L20-K20) -> 180000 | N20: =M20/K20 -> 0.087378641
I21: 소계 | J21: =L21/L7 -> 0.050781135 | K21: =SUM(K23:K29) -> 95720149 | L21: =SUM(L23:L29) -> 95720149 | M21: =SUM(L21-K21) -> 0 | N21: =M21/K21 -> 0
A22: 과년도 수입 | B22: 소계 | D22: =SUM(D24) -> 0 | E22: =SUM(E24) -> 0 | F22: =E22-D22 -> 0 | G22: 0
I23: 운영비 | J23: 여비 | K23: =SUM('세출1(2026)'!G108) -> 400000 | L23: =SUM('세출1(2026)'!H108) -> 400000 | M23: =SUM(L23-K23) -> 0 | N23: =M23/K23 -> 0
B24: 과년도수입 | C24: 과년도수입 | D24: =SUM(세입1!G27) -> 0 | E24: =SUM(세입1!H27) -> 0 | F24: =E24-D24 -> 0 | G24: 0 | J24: 수용비및수수료 | K24: =SUM('세출1(2026)'!G110) -> 31404149 | L24: =SUM('세출1(2026)'!H110) -> 31404149 | M24: =SUM(L24-K24) -> 0 | N24: =M24/K24 -> 0
J25: 공공요금 | K25: =SUM('세출1(2026)'!G118) -> 22740000 | L25: =SUM('세출1(2026)'!H118) -> 22740000 | M25: =SUM(L25-K25) -> 0 | N25: =M25/K25 -> 0
J26: 제세공과금 | K26: =SUM('세출1(2026)'!G124) -> 8000000 | L26: =SUM('세출1(2026)'!H124) -> 8000000 | M26: =SUM(L26-K26) -> 0 | N26: =M26/K26 -> 0
A27: 보조금 수입 | B27: 소계 | D27: =SUM(D29:D32) -> 1438614000 | E27: =SUM(E29:E32) -> 1460314000 | F27: =E27-D27 -> 21700000 | G27: =F27/D27 -> 0.015083963 | J27: 차량비 | K27: =SUM('세출1(2026)'!G128) -> 4336000 | L27: =SUM('세출1(2026)'!H128) -> 4336000 | M27: =SUM(L27-K27) -> 0 | N27: =M27/K27 -> 0
J28: 연료비 | K28: =SUM('세출1(2026)'!G132) -> 4800000 | L28: =SUM('세출1(2026)'!H132) -> 4800000 | M28: =SUM(L28-K28) -> 0 | N28: =M28/K28 -> 0
B29: 보조금수입 | C29: 시군구보조금 | D29: =SUM('세입1(2026)'!G27) -> 735980000 | E29: =SUM('세입1(2026)'!H27) -> 735980000 | F29: =E29-D29 -> 0 | G29: =F29/D29 -> 0 | J29: 기타운영비 | K29: =SUM('세출1(2026)'!G134) -> 24040000 | L29: =SUM('세출1(2026)'!H134) -> 24040000 | M29: =SUM(L29-K29) -> 0 | N29: =M29/K29 -> 0
H30: 재산 조성비 | I30: 소계 | J30: =L30/L7 -> 0.003978875 | K30: =SUM(K33:K35) -> 7500000 | L30: =SUM(L33:L35) -> 7500000 | M30: =SUM(L30-K30) -> 0 | N30: =M30/K30 -> 0
C31: 기타보조금 | D31: =SUM('세입1(2026)'!G29) -> 702634000 | E31: =SUM('세입1(2026)'!H29) -> 724334000 | F31: =E31-D31 -> 21700000 | G31: =F31/D31 -> 0.030883789
A33: 후원금 수입 | B33: 소계 | D33: =SUM(D35:D38) -> 295063000 | E33: =SUM(E35:E38) -> 297564300 | F33: =E33-D33 -> 2501300 | G33: =F33/D33 -> 0.0084771727 | I33: 시설비 | J33: 시설비 | K33: =SUM('세출1(2026)'!G148) -> 2000000 | L33: =SUM('세출1(2026)'!H148) -> 2000000 | M33: =SUM(L33-K33) -> 0 | N33: =M33/K33 -> 0
J34: 자산취득비 | K34: =SUM('세출1(2026)'!G149) -> 500000 | L34: =SUM('세출1(2026)'!H149) -> 500000 | M34: =SUM(L34-K34) -> 0 | N34: =M34/K34 -> 0
B35: 후원금수입 | C35: 지정후원금 | D35: =SUM('세입1(2026)'!G50) -> 245063000 | E35: =SUM('세입1(2026)'!H50) -> 247564300 | F35: =E35-D35 -> 2501300 | G35: =F35/D35 -> 0.010206763 | J35: 시설장비유지비 | K35: =SUM('세출1(2026)'!G152) -> 5000000 | L35: =SUM('세출1(2026)'!H152) -> 5000000 | M35: =SUM(L35-K35) -> 0 | N35: =M35/K35 -> 0
H36: 사업비 | I36: 소계 | J36: =L36/L7 -> 0.53802919 | K36: =SUM(K39:K55) -> 979834767 | L36: =SUM(L39:L55) -> 1014160767 | M36: =SUM(M39:M55) -> 34326000 | N36: =SUM(M36/K36) -> 0.035032437
C37: 비지정후원금 | D37: =SUM('세입1(2026)'!G79) -> 50000000 | E37: =SUM('세입1(2026)'!H79) -> 50000000 | F37: =E37-D37 -> 0 | G37: =F37/D37 -> 0
A39: 전입금 | B39: 소계 | D39: =SUM(D41:D44) -> 30000000 | E39: =SUM(E41:E44) -> 30000000 | F39: =E39-D39 -> 0 | G39: =F39/D39 -> 0 | I39: 사업비 (사례관리기능) | J39: 사례발굴사업비 | K39: =SUM('세출1(2026)'!G159) -> 2700000 | L39: =SUM('세출1(2026)'!H159) -> 2700000 | M39: =SUM(L39-K39) -> 0 | N39: =M39/K39 -> 0
J40: 사례개입사업비 | K40: =SUM('세출1(2026)'!G162) -> 8800000 | L40: =SUM('세출1(2026)'!H162) -> 8800000 | M40: =SUM(L40-K40) -> 0 | N40: =M40/K40 -> 0
B41: 전입금 | C41: 법인전입금 | D41: =SUM('세입1(2026)'!G82) -> 30000000 | E41: =SUM('세입1(2026)'!H82) -> 30000000 | F41: =E41-D41 -> 0 | G41: =F41/D41 -> 0 | J41: 서비스연계사업비 | K41: =SUM('세출1(2026)'!G169) -> 35600000 | L41: =SUM('세출1(2026)'!H169) -> 67600000 | M41: =SUM(L41-K41) -> 32000000 | N41: =M41/K41 -> 0.8988764
I42: 사업비 (서비스제공기능사업) | J42: 가족기능강화사업비 | K42: =SUM('세출1(2026)'!G186) -> 3300000 | L42: =SUM('세출1(2026)'!H186) -> 3300000 | M42: =L42-K42 -> 0 | N42: =M42/K42 -> 0
C43: 법인전입금(후원금) | D43: =SUM('세입1(2026)'!G83) -> 0 | E43: =SUM('세입1(2026)'!H83) -> 0 | F43: =E43-D43 -> 0 | G43: 0 | J43: 지역사회보호사업비 | K43: =SUM('세출1(2026)'!G192) -> 496984407 | L43: =SUM('세출1(2026)'!H192) -> 484894407 | M43: =L43-K43 -> -12090000 | N43: =M43/K43 -> -0.024326719
J44: 교육문화사업비 | K44: =SUM('세출1(2026)'!G241) -> 7566000 | L44: =SUM('세출1(2026)'!H241) -> 7566000 | M44: =L44-K44 -> 0 | N44: =M44/K44 -> 0
A45: 이월금 | B45: 소계 | D45: =SUM(D48:D56) -> 72126604 | E45: =SUM(E48:E57) -> 72126604 | F45: =E45-D45 -> 0 | G45: =F45/D45 -> 0 | J45: 자활지원등기타사업비 | K45: =SUM('세출1(2026)'!G248) -> 3400000 | L45: =SUM('세출1(2026)'!H248) -> 3400000 | M45: =L45-K45 -> 0 | N45: =M45/K45 -> 0
I46: 사업비 (지역사회조직화기능) | J46: 복지네트워크구축사업 | K46: =SUM('세출1(2026)'!G266) -> 5100000 | L46: =SUM('세출1(2026)'!H266) -> 5100000 | M46: =L46-K46 -> 0 | N46: =M46/K46 -> 0
J47: 주민조직화사업 | K47: =SUM('세출1(2026)'!G280) -> 60520000 | L47: =SUM('세출1(2026)'!H280) -> 60520000 | M47: =L47-K47 -> 0 | N47: =M47/K47 -> 0
B48: 이월금 | C48: 전년도이월금 | D48: =SUM('세입1(2026)'!G85) -> 38858629 | E48: =SUM('세입1(2026)'!H85) -> 38858629 | F48: =E48-D48 -> 0 | G48: =F48/D48 -> 0 | J48: 자원개발및관리사업비 | K48: =SUM('세출1(2026)'!G310) -> 13500000 | L48: =SUM('세출1(2026)'!H310) -> 13500000 | M48: =L48-K48 -> 0 | N48: =M48/K48 -> 0
I49: 사업비 | J49: 푸드뱅크 | K49: =SUM('세출1(2026)'!G336) -> 45884000 | L49: =SUM('세출1(2026)'!H336) -> 45884000 | M49: =L49-K49 -> 0 | N49: =M49/K49 -> 0
J50: 푸드뱅크(G푸드드림) | K50: =SUM('세출1(2026)'!G379) -> 36780000 | L50: =SUM('세출1(2026)'!H379) -> 36780000 | M50: =L50-K50 -> 0 | N50: =M50/K50 -> 0
C51: 전년도이월금(후원금) | D51: =SUM('세입1(2026)'!G92) -> 23919451 | E51: =SUM('세입1(2026)'!H92) -> 23919451 | F51: =E51-D51 -> 0 | G51: =SUM(F51/D51) -> 0 | J51: 푸드마켓 | K51: =SUM('세출1(2026)'!G398) -> 115590360 | L51: =SUM('세출1(2026)'!H398) -> 115590360 | M51: =L51-K51 -> 0 | N51: =M51/K51 -> 0
J52: 무한돌봄네트워크 | K52: =SUM('세출1(2026)'!G504) -> 45850000 | L52: =SUM('세출1(2026)'!H504) -> 45850000 | M52: =L52-K52 -> 0 | N52: =M52/K52 -> 0
J53: 커뮤니티케어센터 | K53: =SUM('세출1(2026)'!G537) -> 10000000 | L53: =SUM('세출1(2026)'!H537) -> 17500000 | M53: =L53-K53 -> 7500000 | N53: =M53/K53 -> 0.75
J54: 푸드마켓(G푸드드림) | K54: =SUM('세출1(2026)'!G479) -> 36780000 | L54: =SUM('세출1(2026)'!H479) -> 36780000 | M54: =L54-K54 -> 0 | N54: =M54/K54 -> 0
J55: 그냥드림사업 | K55: ='세출1(2026)'!G458 -> 51480000 | L55: =SUM('세출1(2026)'!H458) -> 58396000 | M55: =L55-K55 -> 6916000 | N55: =M55/K55 -> 0.13434343
C56: 이월사업비 | D56: =SUM('세입1(2026)'!G95) -> 9348524 | E56: =SUM('세입1(2026)'!H95) -> 9348524 | F56: =E56-D56 -> 0 | G56: =SUM(F56/D56) -> 0 | H56: 과년도 지출 | I56: 소계 | J56: =SUM(L56/L7) -> 0 | K56: =SUM(K58) -> 0 | L56: =SUM(L58) -> 0 | M56: =L56-K56 -> 0 | N56: 0
A58: 잡수입 | B58: 소계 | D58: =SUM(D60:D68) -> 7930000 | E58: =SUM(E60:E68) -> 7930000 | F58: =E58-D58 -> 0 | G58: =F58/D58 -> 0 | I58: 과년도지출 | J58: 과년도지출 | K58: ='세출1(2026)'!G322 -> 0 | L58: ='세출1(2026)'!H322 -> 0 | M58: =SUM(L58-K58) -> 0 | N58: 0
H59: 잡지출 | I59: 소계 | J59: =SUM(L59/L7) -> 0.00010610333 | K59: =SUM(K60) -> 200000 | L59: =SUM(L60) -> 200000 | M59: =L59-K59 -> 0 | N59: =M59/K59 -> 0
B60: 잡수입 | C60: 불용품매각대 | D60: =SUM('세입1(2026)'!G101) -> 50000 | E60: =SUM('세입1(2026)'!H101) -> 50000 | F60: =E60-D60 -> 0 | G60: =F60/D60 -> 0 | I60: 잡지출 | J60: 잡지출 | K60: ='세출1(2026)'!G324 -> 200000 | L60: ='세출1(2026)'!H324 -> 200000 | M60: =L60-K60 -> 0 | N60: =M60/K60 -> 0
H63: 예비비 및 기타 | I63: 소계 | J63: =L63/L7 -> 0.0073889768 | K63: =SUM(K65:K67) -> 13853578 | L63: =SUM(L65:L67) -> 13927888 | M63: =SUM(L63-K63) -> 74310 | N63: =M63/K63 -> 0.0053639572
C64: 기타예금이자수입 | D64: =SUM('세입1(2026)'!G103) -> 380000 | E64: =SUM('세입1(2026)'!H103) -> 380000 | F64: =E64-D64 -> 0 | G64: =F64/D64 -> 0
I65: 예비비및기타 | J65: 예비비 | K65: ='세출1(2026)'!G327 -> 1853578 | L65: ='세출1(2026)'!H327 -> 1927888 | M65: =SUM(L65-K65) -> 74310 | N65: =M65/K65 -> 0.040090031
C66: 기타잡수입 | D66: =SUM('세입1(2026)'!G107) -> 7500000 | E66: =SUM('세입1(2026)'!H107) -> 7500000 | F66: =E66-D66 -> 0 | G66: =F66/D66 -> 0
J67: 반환금 | K67: =SUM('세출1(2026)'!G329) -> 12000000 | L67: =SUM('세출1(2026)'!H329) -> 12000000 | M67: =SUM(L67-K67) -> 0 | N67: =SUM(M67/K67) -> 0

Sheet 세입1(2026)
A2: 관 | C2: 항 | E2: 목 | G2: 2026년 2차 | H2: 2026년 3차 | I2: 증가(B)-(A) | K2: 2026년 3차추경 예산 내역
G3: (A) | H3: (B) | I3: 액수 | J3: 비율
A4: 총계 | G4: =SUM(G5,G26,G49,G81,G84,G100) -> 1862073604 | H4: =SUM(H5,H26,H49,H81,H84,H100) -> 1884954904 | I4: =SUM(I5,I26,I49,I81,I84,I100) -> 22881300 | J4: =I4/G4 -> 0.012288075
A5: 01 | B5: 사업수입 | C5: 11 | D5: 사업수입 | E5: 소계 | G5: =SUM(G6,G9,G13,G20) -> 18340000 | H5: =SUM(H6,H9,H13,H20) -> 17020000 | I5: =SUM(I6,I9,I13,I20) -> -1320000 | J5: =I5/G5 -> -0.071973828 | O5: =SUM(O7,O9,O13,O20) -> 17020000
E6: 111 | F6: 가족기능강화사업수입 | G6: 6600000 | H6: =O6 -> 5280000 | I6: =H6-G6 -> -1320000 | J6: =I6/G6 -> -0.2 | O6: =SUM(O7) -> 5280000
K7: 1. 학교부적응학생프로그램 | O7: =SUM(O8) -> 5280000
K8: 지원금 | L8: 12000 | M8: 20 | N8: 22 | O8: =L8*N8*M8 -> 5280000
E9: 112 | F9: 지역사회보호사업수입 | G9: ='세입1(2025)'!H12 -> 8640000 | H9: =SUM(O9) -> 8640000 | I9: =H9-G9 -> 0 | J9: =I9/G9 -> 0 | O9: =SUM(O10) -> 8640000
K10: 1. 급식서비스 | O10: =SUM(O11:O12) -> 8640000
K11: 유료 | L11: 80000 | M11: 9 | N11: 12 | O11: =SUM(L11*M11*N11) -> 8640000
O12: =SUM(L12*M12*N12) -> 0
E13: 113 | F13: 복지네트워크구축사업 | G13: 1100000 | H13: =SUM(O13) -> 1100000 | I13: =H13-G13 -> 0 | J13: =I13/G13 -> 0 | O13: =SUM(O14+O17) -> 1100000
K14: 1. 실습지도 | O14: =SUM(O15) -> 1000000
K15: 실습비 | L15: 100000 | M15: 2 | N15: 5 | O15: =SUM(L15*N15*M15) -> 1000000
K17: 2. 기관견학 | O17: =SUM(O18) -> 100000
K18: 참가비 | L18: 20000 | M18: 5 | N18: 1 | O18: =SUM(L18*N18*M18) -> 100000
E20: 114 | F20: 교육문화사업수입 | G20: 2000000 | H20: =O20 -> 2000000 | I20: =H20-G20 -> 0 | J20: 0 | O20: =SUM(O21) -> 2000000
K21: 1. 교육문화프로그램 | O21: =O22 -> 2000000
K22: 유료 | L22: 100000 | M22: 2 | N22: 10 | O22: =SUM(L22*M22*N22) -> 2000000
A23: 02 | B23: 과년도수입 | C23: 21 | D23: 과년도수입 | E23: 소계 | G23: =SUM(G24) -> 0 | H23: =SUM(H24) -> 0 | I23: =SUM(H23-G23) -> 0 | J23: 0 | O23: 0
E24: 211 | F24: 과년도수입 | G24: 0 | H24: 0 | I24: =SUM(H24-G24) -> 0 | J24: 0 | O24: 0
K25: 1.과년도수입 | O25: 0
A26: 03 | B26: 보조금수입 | C26: 31 | D26: 보조금수입 | E26: 소계 | G26: =SUM(G27,G29) -> 1438614000 | H26: =SUM(H27,H29) -> 1460314000 | I26: =H26-G26 -> 21700000 | J26: =I26/G26 -> 0.015083963 | O26: =SUM(O27,O29) -> 1460314000
E27: 313 | F27: 시군구보조금 | G27: 735980000 | H27: =O27 -> 735980000 | I27: =H27-G27 -> 0 | J27: =I27/G27 -> 0 | O27: 735980000
K28: 1.시군구보조금(경상보조금) | O28: 735980000
E29: 314 | F29: 기타보조금 | G29: 702634000 | H29: =SUM(O29) -> 724334000 | I29: =H29-G29 -> 21700000 | J29: =I29/G29 -> 0.030883789 | O29: =SUM(O30:O46) -> 724334000
K30: 1. 경로식당운영비 | O30: 111760000
K31: 2. 밑반찬운영비 | O31: 154305000
K32: 3. 무료급식소조리사인건비 | O32: 46920000
K33: 4. 무료급식소영양사인건비 | O33: 26580000
K34: 5. 푸드뱅크 | O34: 45784000
K35: 6. 푸드마켓 | O35: 95695000
K36: 7. 푸드뱅크코디네이터 | O36: 36680000
K37: 8. 무한돌봄네트워크 | O37: 45750000
K38: 9 . 햇살나눔사업 | O38: 8000000
K39: 10. 커뮤니티케어센터 | O39: 17500000
K40: 11. 어린이날행사 | O40: 3000000
K41: 12. 푸드마켓코디네이터 | O41: 36680000
... K45: 16. 외로움안심(안심스토어) | O45: 20000000
O46: 0
A47: 관 | C47: 항 | E47: 목 | G47: 2026년 2차 | H47: 2026년 3차 | I47: 증가(B)-(A) | K47: 2026년 3차추경 예산 내역
G48: (A) | H48: (B) | I48: 액수 | J48: 비율
A49: 04 | B49: 후원금수입 | C49: 41 | D49: 후원금수입 | E49: 소계 | G49: =SUM(G50,G79) -> 295063000 | H49: =SUM(H50,H79) -> 297564300 | I49: =H49-G49 -> 2501300 | J49: =I49/G49 -> 0.0084771727 | O49: =SUM(O50+O79) -> 297564300
E50: 411 | F50: 지정후원금 | G50: 245063000 | H50: =SUM(O50) -> 247564300 | I50: =H50-G50 -> 2501300 | J50: =I50/G50 -> 0.010206763 | O50: =SUM(O51:O78) -> 247564300
K51: 1. 어린이재단 | O51: 3700000
K52: 2. 결연후원금 | O52: 54900000
K53: 3. (주)부광정공(사업비및기타환경개선지원) | O53: 7000000
K54: 4. 부천희망재단(위기가정지원금) | O54: 2000000
K55: 5. 한국사회복지관협회 (취약계층난방비지원) | O55: 2500000
K56: 6. 원더풀의원(원더풀하트 프로젝트) | O56: 27000000
K57: 7. 진말몽당축제(심곡1동주민자치회) | O57: 14300000
K58: 8. 해리포터기자단(경기공동모금회) | O58: 6010000
K59: 9.결식아동지원사업(우양재단) | O59: 800000
K60: 10. 김장김치지원사업(공동모금회) | O60: 6000000
K61: 11. 신한위기가정지원사업(굿네이버스) | O61: 5000000
K62: 12. 멘토스(GS파워) | O62: 3000000
... K71: 21. 정율사관학원(신학기지원등) | O71: 3000000
A72: , | K72: 22. 스마일(경기사회복지공동모금회) | O72: 7010000
K73: 23. 아산복지재단(SOS지원사업) | O73: 2848000
K74: 24. 주민동아리연합(KBS강태원) | O74: 1000000
K75: 25. 주거안전지원사업(글로벌쉐어) | O75: 1490300
K76: 26. 긴급지원금(소사본동성당) | O76: 500000
K77: 27. 그냥드림설치지원(한국사회복지협의회) | O77: 6520000
K78: 28. 그냥드림모니터링비지원(한국사회복지협의회) | O78: 396000
E79: 412 | F79: 비지정후원금 | G79: 50000000 | H79: =O79 -> 50000000 | I79: =H79-G79 -> 0 | J79: =I79/G79 -> 0 | O79: =SUM(O80) -> 50000000
K80: 1. 일반후원금 | O80: 50000000
A81: 06 | B81: 전입금 | C81: 61 | D81: 전입금 | E81: 소계 | G81: =SUM(G82:G83) -> 30000000 | H81: =SUM(O81) -> 30000000 | I81: =H81-G81 -> 0 | J81: =I81/G81 -> 0 | O81: =SUM(O82:O83) -> 30000000
E82: 611 | F82: 법인전입금 | G82: ='세입1(2025)'!H80 -> 30000000 | H82: =SUM(O82) -> 30000000 | I82: =H82-G82 -> 0 | J82: =I82/G82 -> 0 | K82: 1. 법인전입금 | O82: 30000000
E83: 612 | F83: 법인전입금(후원금) | G83: 0 | H83: =SUM(O83) -> 0 | I83: =H83-G83 -> 0 | J83: 0 | K83: 1. 법인전입금(후원금) | O83: 0
A84: 07 | B84: 이월금 | C84: 71 | D84: 이월금 | E84: 소계 | G84: =SUM(G85,G92,G95) -> 72126604 | H84: =SUM(H85,H92,H95) -> 72126604 | I84: =H84-G84 -> 0 | J84: =I84/G84 -> 0 | O84: =SUM(O85+O92+O95) -> 72126604
E85: 711 | F85: 전년도이월금 | G85: 38858629 | H85: =O85 -> 38858629 | I85: =H85-G85 -> 0 | J85: =I85/G85 -> 0 | O85: =SUM(O86:O91) -> 38858629
K86: 1. 사업비이월금 | O86: 7604865
K87: 2. 법인전입금이월금 | O87: 10427660
K88: 3. 잡수입이월금 | O88: 9823009
K89: 4. 잡수입이월금(후원금) | O89: 486213
K90: 5. 정부보조금이월금 | O90: 6516882
K91: 6. 법인전입금(후원금)이월 | O91: 4000000
E92: 712 | F92: 전년도이월금(후원금) | G92: 23919451 | H92: =SUM(O92) -> 23919451 | I92: =H92-G92 -> 0 | J92: =I92/G92 -> 0 | O92: =SUM(O93:O94) -> 23919451
K93: 1. 일반후원수입이월금 | O93: 23919451
K94: 2. 결연후원수입이월금 | O94: 0
E95: 713 | F95: 이월사업비 | G95: 9348524 | H95: =O95 -> 9348524 | I95: =H95-G95 -> 0 | J95: =I95/G95 -> 0 | O95: =SUM(O96:O99) -> 9348524
K96: 1. 후)실로암선교센터(특별교육지원)이월 | O96: 2879407
K97: 2. 후)농협사랑밭(온스토어)이월 | O97: 2226300
K98: 3. 후)원더풀의원(원더풀하트프로젝트)이월 | O98: 1269910
K99: 4. 후)신한위기가정지원사업(굿네이버스) | O99: 2972907
A100: 08 | B100: 잡수입 | C100: 81 | D100: 잡수입 | E100: 소계 | G100: =SUM(G101,G103,G107) -> 7930000 | H100: =SUM(O100) -> 7930000 | I100: =H100-G100 -> 0 | J100: =I100/G100 -> 0 | O100: =SUM(O101,O103,O107) -> 7930000
E101: 811 | F101: 불용품매각대 | G101: ='세입1(2025)'!H102 -> 50000 | H101: =SUM(O101) -> 50000 | I101: =H101-G101 -> 0 | J101: =I101/G101 -> 0 | O101: =SUM(O102) -> 50000
K102: 1. 불용품매각대 | O102: 50000
E103: 812 | F103: 기타예금이자수입 | G103: ='세입1(2025)'!H104 -> 380000 | H103: =SUM(O103) -> 380000 | I103: =H103-G103 -> 0 | J103: =I103/G103 -> 0 | O103: =SUM(O104:O106) -> 380000
K104: 1. 예금이자 | O104: 100000
K105: 2. 예금이자(보조금) | O105: 200000
K106: 3. 예금이자(후원금) | O106: 80000
E107: 813 | F107: 기타잡수입 | G107: ='세입1(2025)'!H108 -> 7500000 | H107: =SUM(O107) -> 7500000 | I107: =H107-G107 -> 0 | J107: =I107/G107 -> 0 | O107: =SUM(O108) -> 7500000
K108: 1. 기타잡수입 | O108: 7500000

Sheet 세출1(2026)
A2: 관 | C2: 항 | E2: 목 | G2: 2026년 2차 | H2: 2026년 3차 | I2: 증가(B)-(A) | K2: 2026년 3차추경 예산 내역
G3: (A) | H3: (B) | I3: 액 수 | J3: 비 율(%)
A4: 총계 | G4: =SUM(G6+G97+G107+G147+G158+G324+G326) -> 1862073604 | H4: =SUM(H6+H97+H107+H147+H158+H324+H326) -> 1884954904 | I4: =SUM(I6+I97+I107+I147+I158+I324+I326) -> 22881300 | J4: =I4/G4 -> 0.012288075 | O4: =SUM(H4) -> 1884954904
A5: 01 | B5: 사무비 | C5: 합계 | G5: =G6+'세출1(2026)'!G97+'세출1(2026)'!G107 -> 860685259 | H5: =H6+'세출1(2026)'!H97+'세출1(2026)'!H107 -> 849166249 | I5: =H5-G5 -> -11519010 | J5: =I5/G5 -> -0.013383534 | O5: =O6+'세출1(2026)'!O97+'세출1(2026)'!O107 -> 849166249
C6: 11 | D6: 인건비 | E6: 합계 | G6: =G7+G42+G78+G85+G91 -> 755405110 | H6: =H7+H42+H78+H85+H91 -> 743706100 | I6: =H6-G6 -> -11699010 | J6: =I6/G6 -> -0.015487068 | O6: =SUM(O7+O42+O78+O85+O91) -> 743706100
E7: 111 | F7: 급여 | G7: 532726830 | H7: =O7 -> 526373700 | I7: =H7-G7 -> -6353130 | J7: =I7/G7 -> -0.011925681 | K7: 기본급 합계 | O7: =SUM(O8,O39,O40) -> 526373700
J8: 기본급 | O8: =SUM(O9:O38) -> 521580780
K9: 관장 6호봉 | M9: 3582800 | N9: 3 | O9: =PRODUCT(M9:N9) -> 10748400
K10: 관장 7호봉 | M10: 3724600 | N10: 9 | O10: =PRODUCT(M10:N10) -> 33521400
K11: 부장 25호봉 | M11: 4998800 | N11: 12 | O11: =PRODUCT(M11:N11) -> 59985600
K12: 과장 14호봉 | M12: 3828600 | N12: 2 | O12: =PRODUCT(M12:N12) -> 7657200
K13: 과장 15호봉 | M13: 3914000 | N13: 10 | O13: =PRODUCT(M13:N13) -> 39140000
K14: 과장 14호봉 | M14: 3828600 | N14: 5 | O14: =PRODUCT(M14:N14) -> 19143000
K15: 과장 15호봉 | M15: 3914000 | N15: 7 | O15: =PRODUCT(M15:N15) -> 27398000
K16: 선임사회복지사15호봉 | M16: 3561300 | N16: 10 | O16: =PRODUCT(M16:N16) -> 35613000
K17: 선임사회복지사16호봉 | M17: 3636700 | N17: 2 | O17: =PRODUCT(M17:N17) -> 7273400
K18: 선임사회복지사 11호봉 | M18: 3237200 | N18: 7 | O18: =PRODUCT(M18:N18) -> 22660400
K19: 선임사회복지사 12호봉 | M19: 3326300 | N19: 5 | O19: =PRODUCT(M19:N19) -> 16631500
K20: 선임사회복지사 16호봉(중도퇴사) | M20: 3636700 | N20: 3 | O20: =M20*N20 -> 10910100
K21: 선임사회복지사 17호봉(중도퇴사) | M21: 3707600 | N21: 4 | O21: =PRODUCT(M21:N21)+1674400 -> 16504800
K22: 사회복지사 5호봉(육아휴직) | M22: 2475400 | N22: 5 | O22: =PRODUCT(M22:N22) -> 12377000
K23: 사회복지사 2호봉(중도퇴사) | M23: 2324300 | N23: 4 | O23: =PRODUCT(M23:N23) -> 9297200
K24: 사회복지사 3호봉(중도퇴사) | M24: 2366500 | N24: 2 | O24: =PRODUCT(M24:N24)-867710 -> 3865290
K25: 사회복지사 3호봉 | M25: 2366500 | N25: 6 | O25: =PRODUCT(M25:N25) -> 14199000
K26: 사회복지사 4호봉 | M26: 2411500 | N26: 6 | O26: =PRODUCT(M26:N26) -> 14469000
K27: 사회복지사 4호봉 | M27: 2411500 | N27: 7 | O27: =PRODUCT(M27:N27) -> 16880500
K28: 사회복지사 5호봉 | M28: 2475400 | N28: 5 | O28: =PRODUCT(M28:N28) -> 12377000
K29: 사회복지사 3호봉 | M29: 2366500 | N29: 12 | O29: =PRODUCT(M29:N29) -> 28398000
K30: 사회복지사 3호봉(중도퇴사) | M30: 2366500 | N30: 4 | O30: =PRODUCT(M30:N30)-1262130 -> 8203870
K31: 사회복지사 1호봉 | M31: 2281800 | N31: 5 | O31: =PRODUCT(M31:N31) -> 11409000
K32: 사회복지사 2호봉 | M32: 2324300 | N32: 7 | O32: =PRODUCT(M32:N32) -> 16270100
K33: 사회복지사 1호봉 | M33: 2281800 | N33: 8 | O33: =PRODUCT(M33:N33) -> 18254400
K34: 사회복지사 2호봉(중도퇴사) | M34: 1199640 | N34: 1 | O34: =PRODUCT(M34:N34) -> 1199640
K35: 사회복지사 1호봉(중도퇴사) | M35: 2281800 | N35: 2 | O35: =PRODUCT(M35:N35)-532420 -> 4031180
K36: 사회복지사 1호봉 | M36: 2281800 | N36: 6 | O36: =PRODUCT(M36:N36) -> 13690800
K37: 사회복지사 4호봉 | M37: 2411500 | N37: 5 | O37: =PRODUCT(M37:N37) -> 12057500
K38: 선임사회복지사 14호봉 | M38: 3482900 | N38: 5 | O38: =PRODUCT(M38:N38) -> 17414500
J39: 기본급(생활임금) | K39: 생활임금 | M39: 4 | N39: 12 | O39: 597190
J40: 기본급(보전수당) | K40: 생활임금(보전수당) | M40: 5 | N40: 12 | O40: 4195730
A42: 01 | B42: 사무비 | C42: 11 | D42: 인건비 | E42: 112 | F42: 제수당 | G42: 98296330 | H42: =O42 -> 96310100 | I42: =H42-G42 -> -1986230 | J42: =I42/G42 -> -0.020206553 | K42: 제수당 합계 | O42: =SUM(O43,O70,O71,O72,O76,O69) -> 96310100
J43: 명절휴가비 | K43: 명절휴가비 합계 | O43: =SUM(O44:O68) -> 52044720
K44: 관장 6호봉 | M44: 3582800 | N44: 0.6 | O44: =ROUNDUP((M44*N44),-1) -> 2149680
K45: 관장 7호봉 | M45: 3724600 | N45: 0.6 | O45: =ROUNDUP((M45*N45),-1) -> 2234760
K46: 부장 25호봉 | M46: 4998800 | N46: 1.2 | O46: =ROUNDUP((M46*N46),-1) -> 5998560
J47: 이혜진 | K47: 과장 14호봉 | M47: 3828600 | N47: 0.6 | O47: =ROUNDUP((M47*N47),-1) -> 2297160
J48: 이주연 | K48: 과장 15호봉 | M48: 3914000 | N48: 0.6 | O48: =ROUNDUP((M48*N48),-1) -> 2348400
J49: 이성국 | K49: 과장 14호봉 | M49: 3828600 | N49: 0.6 | O49: =ROUNDUP((M49*N49),-1) -> 2297160
K50: 과장 15호봉 | M50: 3914000 | N50: 0.6 | O50: =ROUNDUP((M50*N50),-1) -> 2348400
J51: 박지현 | K51: 선임사회복지사15호봉 | M51: 3561300 | N51: 1.2 | O51: =ROUNDUP((M51*N51),-1) -> 4273560
K52: 선임사회복지사 11호봉 | M52: 3237200 | N52: 0.6 | O52: =ROUNDUP((M52*N52),-1) -> 1942320
K53: 선임사회복지사 12호봉 | M53: 3326300 | N53: 0.6 | O53: =ROUNDUP((M53*N53),-1) -> 1995780
K54: 선임사회복지사 16호봉 | M54: 3636700 | N54: 0.6 | O54: =ROUNDUP((M54*N54),-1) -> 2182020
K55: 사회복지사 5호봉 | M55: 2475400 | N55: 0.6 | O55: =ROUNDUP((M55*N55),-1) -> 1485240
K56: 사회복지사 2호봉 | M56: 2324300 | N56: 0.6 | O56: =ROUNDUP((M56*N56),-1) -> 1394580
K57: 사회복지사 3호봉 | M57: 2366500 | N57: 0.6 | O57: =ROUNDUP((M57*N57),-1) -> 1419900
K58: 사회복지사 4호봉 | M58: 2411500 | N58: 0.6 | O58: =ROUNDUP((M58*N58),-1) -> 1446900
K59: 사회복지사 4호봉 | M59: 2411500 | N59: 0.6 | O59: =ROUNDUP((M59*N59),-1) -> 1446900
K60: 사회복지사 5호봉 | M60: 2475400 | N60: 0.6 | O60: =ROUNDUP((M60*N60),-1) -> 1485240
K61: 사회복지사 3호봉 | M61: 2366500 | N61: 1.2 | O61: =ROUNDUP((M61*N61),-1) -> 2839800
K62: 사회복지사 3호봉 | M62: 2366500 | N62: 0.6 | O62: =ROUNDUP((M62*N62),-1) -> 1419900
K63: 사회복지사 1호봉 | M63: 2281800 | N63: 0.6 | O63: =ROUNDUP((M63*N63),-1) -> 1369080
... K68: 선임사회복지사 14호봉 | M68: 3482900 | N68: 0.6 | O68: =ROUNDUP((M68*N68),-1) -> 2089740
K69: 가족수당 | M69: 11 | N69: 12 | O69: 7605660
K70: 시간외근무수당 | L70: 연120만원이내 | M70: 13 | N70: 12 | O70: 14588170
K71: 연가보상비 | M71: 14 | N71: 1 | O71: 9471550
K72: 직책수당 | O72: =SUM(O73:O75) -> 6600000
L73: 50000 | M73: 3 | N73: 12 | O73: =L73*M73*N73 -> 1800000
L74: 100000 | M74: 2 | N74: 12 | O74: =L74*M74*N74 -> 2400000
L75: 200000 | M75: 1 | N75: 12 | O75: =L75*M75*N75 -> 2400000
K76: 관리자수당 | L76: 500000 | M76: 1 | N76: 12 | O76: =SUM(L76*M76*N76) -> 6000000
E77: 113 | F77: 일용잡금 | G77: 0 | H77: 0 | I77: =H77-G77 -> 0 | J77: 0 | K77: 일용잡금 | O77: 0
E78: 115 | F78: 퇴직금 및 퇴직적립금 | G78: 53385280 | H78: =O78 -> 50628540 | I78: =H78-G78 -> -2756740 | J78: =I78/G78 -> -0.051638579 | O78: =SUM(O79:O84) -> 50628540
K79: 퇴직적립금 | M79: =SUM(O42,O8) -> 617890880 | N79: 1/12월= | O79: =ROUNDUP((M79/12),-1) -> 51490910
K80: 퇴직적립금 (육아휴직자) | M80: 249400 | N80: 7 | O80: =SUM(M80*N80) -> 1745800
K81: 1년미만퇴직자 | M81: =13813120+17327750+10287260+4262900 -> 45691030 | N81: 1/12월= | O81: =-ROUNDUP((M81/12),-1) -> -3807590
K82: 퇴직적립금(생활임금) | M82: =O39 -> 597190 | N82: 1/12월= | O82: =ROUNDUP((M82/12),-1) -> 49770
K83: 퇴직적립금(보전수당) | M83: =O40 -> 4195730 | N83: 1/12월= | O83: =ROUNDUP((M83/12),-1) -> 349650
K84: 퇴직연금수수료 | N84: 연1회 | O84: 800000
E85: 116 | F85: 사회보험부담금 | G85: 70896670 | H85: =O85 -> 70293760 | I85: =H85-G85 -> -602910 | J85: =I85/G85 -> -0.0085040666 | O85: =ROUNDUP(SUM(O86:O90),-1) -> 70293760
K86: 국민연금(기타임금-처우,특수근무수당, 웰빙보조비 포함) | M86: =SUM(M79,M82,M83)+20900000+8350000+3340000 -> 655273800 | N86: 0.0475 | O86: =ROUNDUP((M86*N86),-1) -> 31125510
K87: 건강보험(기타임금포함) | M87: =SUM(M86) -> 655273800 | N87: 0.03595 | O87: =ROUNDUP((M87*N87),-1) -> 23557100
K88: 장기요양보험료 | M88: =SUM(O87) -> 23557100 | N88: 0.1314 | O88: =ROUNDUP((M88*N88),-1) -> 3095410
K89: 고용보험(기타임금포함) | M89: =SUM(M87) -> 655273800 | N89: 0.0115 | O89: =ROUNDUP((M89*N89),-1) -> 7535650
K90: 산재보험료(기타임금포함) | M90: =SUM(M87) -> 655273800 | N90: 0.0076 | O90: =ROUNDUP((M90*N90),-1) -> 4980090
E91: 117 | F91: 기타후생경비 | G91: ='세출1(2025)'!H100 -> 100000 | H91: =SUM(O91) -> 100000 | I91: =H91-G91 -> 0 | J91: =I91/G91 -> 0 | O91: =SUM(O93) -> 100000
K92: 1.기타후생경비
K93: -직원복리후생(상해보험가입 등) | M93: 100000 | N93: 1 | O93: =SUM(M93*N93) -> 100000
A95: 관 | C95: 항 | E95: 목 | G95: 2026년 2차 | H95: 2026년 3차 | I95: 증가(B)-(A) | K95: 2026년 3차추경 예산 내역
G96: (A) | H96: (B) | I96: 액 수 | J96: 비 율(%)
A97: 01 | B97: 사무비 | C97: 12 | D97: 업무추진비 | E97: 소계 | G97: =G98+G100+G102 -> 9560000 | H97: =H98+H100+H102 -> 9740000 | I97: =H97-G97 -> 180000 | J97: =I97/G97 -> 0.018828452 | O97: =SUM(O98,O100,O102) -> 9740000
E98: 121 | F98: 기관운영비 | G98: 6000000 | H98: =O98 -> 6000000 | I98: =H98-G98 -> 0 | J98: =I98/G98 -> 0 | O98: =SUM(O99) -> 6000000
K99: 1.기관운영비 | M99: 600000 | N99: 10 | O99: =SUM(M99*N99) -> 6000000
E100: 122 | F100: 직책보조비 | G100: 1500000 | H100: =O100 -> 1500000 | I100: =H100-G100 -> 0 | J100: =I100/G100 -> 0 | O100: =SUM(O101) -> 1500000
K101: 1. 직책보조비 | M101: 150000 | N101: 10 | O101: =M101*N101 -> 1500000
E102: 123 | F102: 회의비 | G102: 2060000 | H102: =O102 -> 2240000 | I102: =H102-G102 -> 180000 | J102: =I102/G102 -> 0.087378641 | O102: =SUM(O104:O106) -> 2240000
K103: 1. 회의비
K104: 각종회의수당,회의다과,회의식대등 | L104: 50000 | M104: 2 | N104: 5 | O104: =L104*M104*N104 -> 500000
K105: 2. 운영위원회 수당 | L105: 50000 | M105: 6 | N105: 4 | O105: =L105*M105*N105 -> 1200000
K106: 3. 운영위원회 운영비 | L106: 30000 | M106: 9 | N106: 2 | O106: =L106*M106*N106 -> 540000
C107: 13 | D107: 운영비 | E107: 소계 | G107: =SUM(G108,G110,G118,G124,G128,G132,G134) -> 95720149 | H107: =SUM(H108,H110,H118,H124,H128,H132,H134) -> 95720149 | I107: =H107-G107 -> 0 | J107: =I107/G107 -> 0 | O107: =SUM(O108,O110,O118,O124,O128,O132,O134) -> 95720149
...
